PDS_VERSION_ID = PDS3
/* FILE DATA ELEMENTS */
RECORD_TYPE = UNDEFINED
/* POINTERS TO DATA OBJECTS */
^IMAGE = ("H7453_0000_P24.TIF")
/* IDENTIFICATION DATA ELEMENTS */
DATA_SET_ID = "MEX-M-HRSC-4-REFDR-MAPPROJECT-EXT3-V4.0"
DATA_SET_NAME = "MARS EXPRESS HRSC MAP PROJECTED REFDR EXTENSION3 V4.0"
DETECTOR_ID = MEX_HRSC_P2
EVENT_TYPE = "MARS-REGIONAL-MAPPING-Vo-Gl-Pf"
INSTRUMENT_HOST_ID = MEX
INSTRUMENT_HOST_NAME = "MARS EXPRESS"
INSTRUMENT_ID = HRSC
INSTRUMENT_NAME = "HIGH RESOLUTION STEREO CAMERA"
MISSION_NAME = "MARS EXPRESS"
MISSION_PHASE_NAME = ME_Phase_18
PROCESSING_LEVEL_ID = 4
PRODUCT_CREATION_TIME = 2023-02-02T15:10:19.000Z
PRODUCT_ID = "H7453_0000_P24.TIF"
RELEASE_ID = 0003
REVISION_ID = 0000
/* QUALITY DATA ELEMENTS */
DATA_QUALITY_ID = 1
DATA_QUALITY_DESC = "Data calculated based on original SPICE kernels"
/* TIME DATA ELEMENTS */
SPACECRAFT_CLOCK_START_COUNT = "1/0204519592.08263"
SPACECRAFT_CLOCK_STOP_COUNT = "1/0204519899.28812"
START_TIME = 2009-10-25T03:00:52.154Z
STOP_TIME = 2009-10-25T03:04:41.708Z
/* ORBITAL DATA ELEMENTS */
ASCENDING_NODE_LONGITUDE = 75.18
MAXIMUM_RESOLUTION = 0.0322
FOOTPRINT_POINT_LATITUDE = (38.1692,38.1674,38.1637,38.1555, 38.1553,38.2022,37.9388,37.6757,37.4128 ,37.1502,36.8882,36.6261,36.3645, 35.8423,35.3217,34.8019,34.284,33.8874, 33.6227,33.3581,33.0942,32.8306,32.4259 ,32.156,31.8871,31.6184,31.2082,30.9339 ,30.66,30.3867,30.1079,29.8286,29.5501, 29.2719,28.9878,28.5622,28.2792,27.8478 ,27.5596,27.2718,26.9792,26.6861, 26.3942,26.0982,25.8006,25.5037,25.0516 ,24.7499,24.5994,24.4475,24.4432, 24.4406,24.4357,24.4304,24.4301,24.4306 ,24.8862,25.1891,25.4906,25.7885, 26.0869,26.3835,26.6766,26.9704,27.2634 ,27.552,27.8409,28.2736,28.5573,28.9838 ,29.2681,29.5469,29.8264,30.1062, 30.3855,30.6595,30.934,31.2089,31.62, 31.8893,32.1591,32.5646,32.8348,33.0989 ,33.3636,33.6286,33.894,34.2915,34.8106 ,35.3309,35.8532,36.2457,36.5077,36.77, 37.0327,37.2957,37.559,37.9547,38.0866, 38.1692)
FOOTPRINT_POINT_LONGITUDE = (99.9709,99.5793,99.0545,98.2931, 98.2764,98.2292,98.2377,98.2459,98.2539 ,98.2617,98.2689,98.2762,98.2832, 98.2961,98.3078,98.319,98.3288,98.3356, 98.3398,98.3439,98.3476,98.3512,98.3562 ,98.3595,98.3622,98.3647,98.368,98.3699 ,98.3717,98.3732,98.3744,98.3756, 98.3763,98.3769,98.3774,98.3776,98.3773 ,98.3764,98.3755,98.3746,98.3733, 98.3717,98.3695,98.3674,98.365,98.3624, 98.3579,98.3545,98.3527,98.3509,98.9594 ,99.2622,99.7903,100.279,100.297, 100.304,100.296,100.291,100.285,100.28, 100.274,100.269,100.263,100.258,100.252 ,100.246,100.241,100.232,100.227, 100.218,100.212,100.206,100.2,100.194, 100.188,100.182,100.176,100.17,100.161, 100.155,100.148,100.139,100.132,100.126 ,100.119,100.113,100.106,100.096, 100.083,100.069,100.054,100.044,100.036 ,100.029,100.021,100.013,100.005, 99.9932,99.9891,99.9709)
ORBIT_NUMBER = 7453
ORBITAL_ECCENTRICITY = 0.571
ORBITAL_INCLINATION = 86.83
ORBITAL_SEMIMAJOR_AXIS = 8725.75
PERIAPSIS_ALTITUDE = 359.45
PERIAPSIS_ARGUMENT_ANGLE = 130.93
PERIAPSIS_TIME = 2009-10-25T02:57:41.000Z
SPACECRAFT_ORIENTATION = (0.0,-1.0,0.0)
^MEX_ORIENTATION_DESC = "MEX_ORIENTATION_DESC.TXT"
SPACECRAFT_POINTING_MODE = ACROSSTRACK
^MEX_POINTING_DESC = "MEX_POINTING_DESC.TXT"
RIGHT_ASCENSION = -1e+32
DECLINATION = -1e+32
OFFSET_ANGLE = -0.3
SPACECRAFT_SOLAR_DISTANCE = 2.32743e+08
TARGET_NAME = MARS
/* CAMERA DATA ELEMENTS */
DETECTOR_TEMPERATURE = 18.5744
FOCAL_PLANE_TEMPERATURE = 8.1755
INST_CMPRS_NAME = "DISCRETE COSINE TRANSFORMATION (DCT)"
INST_CMPRS_RATIO = 7.59797
INST_CMPRS_QUALITY = 0
INST_CMPRS_QUANTZ_TBL_ID = 0
INSTRUMENT_TEMPERATURE = 11.234
LENS_TEMPERATURE = 8.5833
MACROPIXEL_SIZE = 2
MISSING_FRAMES = 0
PIXEL_SUBSAMPLING_FLAG = N
SIGNAL_CHAIN_ID = 3
/* RADIOMETRIC DATA ELEMENTS */
BANDWIDTH = 177.0
CENTER_FILTER_WAVELENGTH = 676.5
RADIANCE_OFFSET = 5.46469
RADIANCE_SCALING_FACTOR = 0.0151797
REFLECTANCE_SCALING_FACTOR = 0.000435989
MEX:REFLECTANCE_OFFSET = 0.156956
/* IMAGE OBJECT DEFINITIONS */
OBJECT = IMAGE
  INTERCHANGE_FORMAT = BINARY
  LINES = 32708
  LINE_SAMPLES = 4114
  SAMPLE_TYPE = UNSIGNED_INTEGER
  SAMPLE_BITS = 8
  BANDS = 1
  BAND_STORAGE_TYPE = BAND_SEQUENTIAL
  MAXIMUM = 255
  MEAN = 151.796
  MINIMUM = 1
  STANDARD_DEVIATION = 18.5607
END_OBJECT = IMAGE
/* MAP OBJECT DEFINITIONS */
OBJECT = IMAGE_MAP_PROJECTION
  ^DATA_SET_MAP_PROJECTION_CATALOG= "DSMAP.CAT"
  A_AXIS_RADIUS = 3396.0
  B_AXIS_RADIUS = 3396.0
  C_AXIS_RADIUS = 3396.0
  CENTER_LATITUDE = 0.0
  CENTER_LONGITUDE = 99.0
  COORDINATE_SYSTEM_NAME = PLANETOGRAPHIC
  COORDINATE_SYSTEM_TYPE = "BODY-FIXED ROTATING"
  EASTERNMOST_LONGITUDE = 100.304
  FIRST_STANDARD_PARALLEL = "N/A"
  LINE_FIRST_PIXEL = 1
  LINE_LAST_PIXEL = 32708
  LINE_PROJECTION_OFFSET = 90597.25
  MAP_PROJECTION_ROTATION = 0.0
  MAP_PROJECTION_TYPE = SINUSOIDAL
  MAP_RESOLUTION = 2370.85521546667
  MAP_SCALE = 0.025
  MAXIMUM_LATITUDE = 38.2022
  MINIMUM_LATITUDE = 24.4301
  POSITIVE_LONGITUDE_DIRECTION = EAST
  REFERENCE_LATITUDE = "N/A"
  REFERENCE_LONGITUDE = "N/A"
  SAMPLE_FIRST_PIXEL = 1
  SAMPLE_LAST_PIXEL = 4114
  SAMPLE_PROJECTION_OFFSET = 1397.25
  SECOND_STANDARD_PARALLEL = "N/A"
  WESTERNMOST_LONGITUDE = 98.22920000000001
END_OBJECT = IMAGE_MAP_PROJECTION
END
