PDS_VERSION_ID = PDS3
/* FILE DATA ELEMENTS */
RECORD_TYPE = UNDEFINED
/* POINTERS TO DATA OBJECTS */
^IMAGE = ("H7453_0000_ND4.TIF")
/* IDENTIFICATION DATA ELEMENTS */
DATA_SET_ID = "MEX-M-HRSC-4-REFDR-MAPPROJECT-EXT3-V4.0"
DATA_SET_NAME = "MARS EXPRESS HRSC MAP PROJECTED REFDR EXTENSION3 V4.0"
DETECTOR_ID = MEX_HRSC_NADIR
EVENT_TYPE = "MARS-REGIONAL-MAPPING-Vo-Gl-Pf"
INSTRUMENT_HOST_ID = MEX
INSTRUMENT_HOST_NAME = "MARS EXPRESS"
INSTRUMENT_ID = HRSC
INSTRUMENT_NAME = "HIGH RESOLUTION STEREO CAMERA"
MISSION_NAME = "MARS EXPRESS"
MISSION_PHASE_NAME = ME_Phase_18
PROCESSING_LEVEL_ID = 4
PRODUCT_CREATION_TIME = 2023-02-02T15:10:19.000Z
PRODUCT_ID = "H7453_0000_ND4.TIF"
RELEASE_ID = 0003
REVISION_ID = 0000
/* QUALITY DATA ELEMENTS */
DATA_QUALITY_ID = 1
DATA_QUALITY_DESC = "Data calculated based on original SPICE kernels"
/* TIME DATA ELEMENTS */
SPACECRAFT_CLOCK_START_COUNT = "1/0204519592.08263"
SPACECRAFT_CLOCK_STOP_COUNT = "1/0204519899.28812"
START_TIME = 2009-10-25T03:00:28.728Z
STOP_TIME = 2009-10-25T03:04:09.734Z
/* ORBITAL DATA ELEMENTS */
ASCENDING_NODE_LONGITUDE = 75.18
MAXIMUM_RESOLUTION = 0.0153
FOOTPRINT_POINT_LATITUDE = (38.2117,38.2045,38.1964,38.1804,38.18, 38.1796,37.9135,37.6476,37.3818,37.1162 ,36.8508,36.5856,36.3205,36.0557,35.791 ,35.2623,34.7344,34.2074,33.6814, 33.1562,32.632,32.3632,32.0947,31.8264, 31.5584,31.2907,31.0194,30.7452,30.4713 ,30.1978,29.9245,29.5063,29.2269, 28.9478,28.6691,28.3847,28.0998,27.8152 ,27.531,27.096,26.8059,26.5162,26.0748, 25.7793,25.4842,25.1851,24.8842,24.5837 ,24.4337,24.4171,24.4201,24.4217, 24.4218,24.4206,24.4205,24.4207,24.7217 ,25.0231,25.4741,25.7698,26.0659, 26.5086,26.799,27.2352,27.526,27.8108, 28.096,28.3815,28.6669,28.9462,29.2258, 29.5058,29.9252,30.1991,30.4732,30.7476 ,31.0224,31.2946,31.5629,31.8314, 32.1002,32.3693,32.7703,33.2958,33.8223 ,34.3497,34.878,35.4072,35.6721,35.9372 ,36.2025,36.468,36.7337,36.9996,37.2657 ,37.532,37.7984,38.0651,38.1984, 38.2117)
FOOTPRINT_POINT_LONGITUDE = (99.9509,99.4474,99.0061,98.3142, 98.2977,98.2501,98.259,98.2677,98.2761, 98.2843,98.2921,98.2999,98.3072,98.3141 ,98.321,98.3336,98.3457,98.3565,98.3659 ,98.3748,98.3827,98.3865,98.3899, 98.3931,98.396,98.3986,98.4012,98.4035, 98.4055,98.4074,98.4092,98.4112,98.4123 ,98.4133,98.414,98.4145,98.4147,98.4146 ,98.4143,98.4137,98.4129,98.4117, 98.4095,98.4078,98.4058,98.4037,98.4012 ,98.3985,98.397,98.3969,98.8772,99.373, 99.7025,100.231,100.249,100.258,100.254 ,100.249,100.242,100.237,100.232, 100.225,100.22,100.213,100.208,100.203, 100.198,100.193,100.188,100.183,100.178 ,100.172,100.164,100.159,100.154, 100.148,100.143,100.137,100.131,100.126 ,100.12,100.114,100.105,100.094,100.081 ,100.069,100.056,100.043,100.036, 100.029,100.022,100.015,100.008,100.0, 99.9928,99.9852,99.9777,99.9698,99.9659 ,99.9509)
ORBIT_NUMBER = 7453
ORBITAL_ECCENTRICITY = 0.571
ORBITAL_INCLINATION = 86.83
ORBITAL_SEMIMAJOR_AXIS = 8725.75
PERIAPSIS_ALTITUDE = 359.45
PERIAPSIS_ARGUMENT_ANGLE = 130.93
PERIAPSIS_TIME = 2009-10-25T02:57:41.000Z
SPACECRAFT_ORIENTATION = (0.0,-1.0,0.0)
^MEX_ORIENTATION_DESC = "MEX_ORIENTATION_DESC.TXT"
SPACECRAFT_POINTING_MODE = ACROSSTRACK
^MEX_POINTING_DESC = "MEX_POINTING_DESC.TXT"
RIGHT_ASCENSION = -1e+32
DECLINATION = -1e+32
OFFSET_ANGLE = -0.3
SPACECRAFT_SOLAR_DISTANCE = 2.32743e+08
TARGET_NAME = MARS
/* CAMERA DATA ELEMENTS */
DETECTOR_TEMPERATURE = 18.1666
FOCAL_PLANE_TEMPERATURE = 8.1755
INST_CMPRS_NAME = "DISCRETE COSINE TRANSFORMATION (DCT)"
INST_CMPRS_RATIO = 7.57897
INST_CMPRS_QUALITY = 0
INST_CMPRS_QUANTZ_TBL_ID = 0
INSTRUMENT_TEMPERATURE = 11.234
LENS_TEMPERATURE = 8.5833
MACROPIXEL_SIZE = 1
MISSING_FRAMES = 0
PIXEL_SUBSAMPLING_FLAG = N
SIGNAL_CHAIN_ID = 0
/* RADIOMETRIC DATA ELEMENTS */
BANDWIDTH = 177.0
CENTER_FILTER_WAVELENGTH = 677.5
RADIANCE_OFFSET = 5.05915
RADIANCE_SCALING_FACTOR = 0.0156483
REFLECTANCE_SCALING_FACTOR = 0.000450304
MEX:REFLECTANCE_OFFSET = 0.145585
/* IMAGE OBJECT DEFINITIONS */
OBJECT = IMAGE
  INTERCHANGE_FORMAT = BINARY
  LINES = 65416
  LINE_SAMPLES = 8228
  SAMPLE_TYPE = UNSIGNED_INTEGER
  SAMPLE_BITS = 8
  BANDS = 1
  BAND_STORAGE_TYPE = BAND_SEQUENTIAL
  MAXIMUM = 255
  MEAN = 145.274
  MINIMUM = 1
  STANDARD_DEVIATION = 19.3739
END_OBJECT = IMAGE
/* MAP OBJECT DEFINITIONS */
OBJECT = IMAGE_MAP_PROJECTION
  ^DATA_SET_MAP_PROJECTION_CATALOG= "DSMAP.CAT"
  A_AXIS_RADIUS = 3396.0
  B_AXIS_RADIUS = 3396.0
  C_AXIS_RADIUS = 3396.0
  CENTER_LATITUDE = 0.0
  CENTER_LONGITUDE = 99.0
  COORDINATE_SYSTEM_NAME = PLANETOGRAPHIC
  COORDINATE_SYSTEM_TYPE = "BODY-FIXED ROTATING"
  EASTERNMOST_LONGITUDE = 100.258
  FIRST_STANDARD_PARALLEL = "N/A"
  LINE_FIRST_PIXEL = 1
  LINE_LAST_PIXEL = 65416
  LINE_PROJECTION_OFFSET = 181195.0
  MAP_PROJECTION_ROTATION = 0.0
  MAP_PROJECTION_TYPE = SINUSOIDAL
  MAP_RESOLUTION = 4741.71043093333
  MAP_SCALE = 0.0125
  MAXIMUM_LATITUDE = 38.2117
  MINIMUM_LATITUDE = 24.4171
  POSITIVE_LONGITUDE_DIRECTION = EAST
  REFERENCE_LATITUDE = "N/A"
  REFERENCE_LONGITUDE = "N/A"
  SAMPLE_FIRST_PIXEL = 1
  SAMPLE_LAST_PIXEL = 8228
  SAMPLE_PROJECTION_OFFSET = 2795.0
  SECOND_STANDARD_PARALLEL = "N/A"
  WESTERNMOST_LONGITUDE = 98.2501
END_OBJECT = IMAGE_MAP_PROJECTION
END
