PDS_VERSION_ID = PDS3
/* FILE DATA ELEMENTS */
RECORD_TYPE = UNDEFINED
/* POINTERS TO DATA OBJECTS */
^IMAGE = ("H7453_0000_GR4.TIF")
/* IDENTIFICATION DATA ELEMENTS */
DATA_SET_ID = "MEX-M-HRSC-4-REFDR-MAPPROJECT-EXT3-V4.0"
DATA_SET_NAME = "MARS EXPRESS HRSC MAP PROJECTED REFDR EXTENSION3 V4.0"
DETECTOR_ID = MEX_HRSC_GREEN
EVENT_TYPE = "MARS-REGIONAL-MAPPING-Vo-Gl-Pf"
INSTRUMENT_HOST_ID = MEX
INSTRUMENT_HOST_NAME = "MARS EXPRESS"
INSTRUMENT_ID = HRSC
INSTRUMENT_NAME = "HIGH RESOLUTION STEREO CAMERA"
MISSION_NAME = "MARS EXPRESS"
MISSION_PHASE_NAME = ME_Phase_18
PROCESSING_LEVEL_ID = 4
PRODUCT_CREATION_TIME = 2023-02-02T15:10:19.000Z
PRODUCT_ID = "H7453_0000_GR4.TIF"
RELEASE_ID = 0003
REVISION_ID = 0000
/* QUALITY DATA ELEMENTS */
DATA_QUALITY_ID = 1
DATA_QUALITY_DESC = "Data calculated based on original SPICE kernels"
/* TIME DATA ELEMENTS */
SPACECRAFT_CLOCK_START_COUNT = "1/0204519592.08263"
SPACECRAFT_CLOCK_STOP_COUNT = "1/0204519899.28812"
START_TIME = 2009-10-25T03:00:22.968Z
STOP_TIME = 2009-10-25T03:04:02.098Z
/* ORBITAL DATA ELEMENTS */
ASCENDING_NODE_LONGITUDE = 75.18
MAXIMUM_RESOLUTION = 0.1223
FOOTPRINT_POINT_LATITUDE = (38.215,38.2077,38.1985,38.1809,38.1805 ,38.1663,37.8994,37.6325,37.3659, 37.0994,36.833,36.5668,36.3008,36.0348, 35.7691,35.5035,35.2381,34.9729,34.443, 33.9138,33.3854,32.8578,32.3311,31.929, 31.6591,31.3895,31.1202,30.8511,30.5778 ,30.3022,30.0269,29.7518,29.477,29.056, 28.7749,28.4941,28.2137,27.9271,27.6403 ,27.3539,27.0678,26.6294,26.3372, 26.0454,25.6004,25.3027,25.0054,24.7037 ,24.5519,24.4049,24.4091,24.4117, 24.4116,24.4116,24.4138,24.7179,25.0202 ,25.3182,25.6165,26.0623,26.3548, 26.6476,27.0867,27.3735,27.6605,27.948, 28.2349,28.516,28.7974,29.0791,29.5009, 29.7763,30.0519,30.3279,30.604,30.8778, 31.1474,31.4173,31.6875,31.9578,32.3606 ,32.8885,33.4172,33.9467,34.477,34.7424 ,35.008,35.2739,35.5398,35.8059,36.0722 ,36.3387,36.6054,36.8721,37.1391, 37.4062,37.6734,37.9408,38.0745,38.215)
FOOTPRINT_POINT_LONGITUDE = (99.9465,99.4901,99.031,98.3367,98.3212 ,98.2748,98.2839,98.2927,98.3012, 98.3095,98.3174,98.3252,98.3327,98.3397 ,98.3467,98.3532,98.3596,98.3659, 98.3773,98.3877,98.3972,98.4057,98.4134 ,98.4187,98.4219,98.4248,98.4275, 98.4299,98.4322,98.4344,98.4364,98.438, 98.4394,98.4414,98.4424,98.4431,98.4436 ,98.4438,98.4438,98.4436,98.4433, 98.4423,98.441,98.4398,98.4374,98.4356, 98.4335,98.4311,98.4298,98.4285,98.9248 ,99.4888,100.22,100.237,100.248,100.244 ,100.239,100.235,100.23,100.223,100.218 ,100.214,100.207,100.202,100.197, 100.192,100.187,100.182,100.177,100.172 ,100.165,100.16,100.154,100.149,100.144 ,100.138,100.133,100.128,100.122, 100.116,100.108,100.096,100.085,100.073 ,100.06,100.054,100.047,100.04,100.034, 100.027,100.02,100.013,100.006,99.9989, 99.9916,99.9841,99.9766,99.9689,99.965, 99.9465)
ORBIT_NUMBER = 7453
ORBITAL_ECCENTRICITY = 0.571
ORBITAL_INCLINATION = 86.83
ORBITAL_SEMIMAJOR_AXIS = 8725.75
PERIAPSIS_ALTITUDE = 359.45
PERIAPSIS_ARGUMENT_ANGLE = 130.93
PERIAPSIS_TIME = 2009-10-25T02:57:41.000Z
SPACECRAFT_ORIENTATION = (0.0,-1.0,0.0)
^MEX_ORIENTATION_DESC = "MEX_ORIENTATION_DESC.TXT"
SPACECRAFT_POINTING_MODE = ACROSSTRACK
^MEX_POINTING_DESC = "MEX_POINTING_DESC.TXT"
RIGHT_ASCENSION = -1e+32
DECLINATION = -1e+32
OFFSET_ANGLE = -0.3
SPACECRAFT_SOLAR_DISTANCE = 2.32743e+08
TARGET_NAME = MARS
/* CAMERA DATA ELEMENTS */
DETECTOR_TEMPERATURE = 18.1666
FOCAL_PLANE_TEMPERATURE = 8.1755
INST_CMPRS_NAME = "DISCRETE COSINE TRANSFORMATION (DCT)"
INST_CMPRS_RATIO = 25.0315
INST_CMPRS_QUALITY = 0
INST_CMPRS_QUANTZ_TBL_ID = 0
INSTRUMENT_TEMPERATURE = 11.234
LENS_TEMPERATURE = 8.5833
MACROPIXEL_SIZE = 8
MISSING_FRAMES = 0
PIXEL_SUBSAMPLING_FLAG = N
SIGNAL_CHAIN_ID = 2
/* RADIOMETRIC DATA ELEMENTS */
BANDWIDTH = 88.0
CENTER_FILTER_WAVELENGTH = 538.0
RADIANCE_OFFSET = 1.73071
RADIANCE_SCALING_FACTOR = 0.00359797
REFLECTANCE_SCALING_FACTOR = 0.000167805
MEX:REFLECTANCE_OFFSET = 0.0807178
/* IMAGE OBJECT DEFINITIONS */
OBJECT = IMAGE
  INTERCHANGE_FORMAT = BINARY
  LINES = 8177
  LINE_SAMPLES = 1029
  SAMPLE_TYPE = UNSIGNED_INTEGER
  SAMPLE_BITS = 8
  BANDS = 1
  BAND_STORAGE_TYPE = BAND_SEQUENTIAL
  MAXIMUM = 255
  MEAN = 137.677
  MINIMUM = 1
  STANDARD_DEVIATION = 19.3644
END_OBJECT = IMAGE
/* MAP OBJECT DEFINITIONS */
OBJECT = IMAGE_MAP_PROJECTION
  ^DATA_SET_MAP_PROJECTION_CATALOG= "DSMAP.CAT"
  A_AXIS_RADIUS = 3396.0
  B_AXIS_RADIUS = 3396.0
  C_AXIS_RADIUS = 3396.0
  CENTER_LATITUDE = 0.0
  CENTER_LONGITUDE = 99.0
  COORDINATE_SYSTEM_NAME = PLANETOGRAPHIC
  COORDINATE_SYSTEM_TYPE = "BODY-FIXED ROTATING"
  EASTERNMOST_LONGITUDE = 100.248
  FIRST_STANDARD_PARALLEL = "N/A"
  LINE_FIRST_PIXEL = 1
  LINE_LAST_PIXEL = 8177
  LINE_PROJECTION_OFFSET = 22648.9375
  MAP_PROJECTION_ROTATION = 0.0
  MAP_PROJECTION_TYPE = SINUSOIDAL
  MAP_RESOLUTION = 592.713803866667
  MAP_SCALE = 0.1
  MAXIMUM_LATITUDE = 38.215
  MINIMUM_LATITUDE = 24.4049
  POSITIVE_LONGITUDE_DIRECTION = EAST
  REFERENCE_LATITUDE = "N/A"
  REFERENCE_LONGITUDE = "N/A"
  SAMPLE_FIRST_PIXEL = 1
  SAMPLE_LAST_PIXEL = 1029
  SAMPLE_PROJECTION_OFFSET = 348.9375
  SECOND_STANDARD_PARALLEL = "N/A"
  WESTERNMOST_LONGITUDE = 98.2748
END_OBJECT = IMAGE_MAP_PROJECTION
END
