PDS_VERSION_ID = PDS3
/* FILE DATA ELEMENTS */
RECORD_TYPE = UNDEFINED
/* POINTERS TO DATA OBJECTS */
^IMAGE = ("H7452_0000_RE4.TIF")
/* IDENTIFICATION DATA ELEMENTS */
DATA_SET_ID = "MEX-M-HRSC-4-REFDR-MAPPROJECT-EXT3-V4.0"
DATA_SET_NAME = "MARS EXPRESS HRSC MAP PROJECTED REFDR EXTENSION3 V4.0"
DETECTOR_ID = MEX_HRSC_RED
EVENT_TYPE = "MARS-REGIONAL-MAPPING-Vo-Pf"
INSTRUMENT_HOST_ID = MEX
INSTRUMENT_HOST_NAME = "MARS EXPRESS"
INSTRUMENT_ID = HRSC
INSTRUMENT_NAME = "HIGH RESOLUTION STEREO CAMERA"
MISSION_NAME = "MARS EXPRESS"
MISSION_PHASE_NAME = ME_Phase_18
PROCESSING_LEVEL_ID = 4
PRODUCT_CREATION_TIME = 2023-02-02T15:10:19.000Z
PRODUCT_ID = "H7452_0000_RE4.TIF"
RELEASE_ID = 0003
REVISION_ID = 0000
/* QUALITY DATA ELEMENTS */
DATA_QUALITY_ID = 1
DATA_QUALITY_DESC = "Data calculated based on original SPICE kernels"
/* TIME DATA ELEMENTS */
SPACECRAFT_CLOCK_START_COUNT = "1/0204494598.09069"
SPACECRAFT_CLOCK_STOP_COUNT = "1/0204494915.48755"
START_TIME = 2009-10-24T20:04:20.845Z
STOP_TIME = 2009-10-24T20:08:29.230Z
/* ORBITAL DATA ELEMENTS */
ASCENDING_NODE_LONGITUDE = 75.2
MAXIMUM_RESOLUTION = 0.122
FOOTPRINT_POINT_LATITUDE = (48.7769,48.7667,48.7505,48.7296, 48.7291,48.8053,48.5193,48.2336,47.8054 ,47.5199,47.235,46.9502,46.6654,46.0967 ,45.529,44.9623,44.3965,43.832,43.2686, 42.8177,42.483,42.1482,41.8138,41.4801, 41.1468,40.814,40.4815,40.1497,39.8183, 39.4874,39.1569,38.8272,38.4979,38.1691 ,37.8408,37.513,37.1859,36.8593,36.5333 ,36.2079,35.8831,35.5587,35.235,34.912, 34.5895,34.0956,33.7662,33.4372,33.2731 ,33.2614,33.2671,33.2724,33.2749, 33.2749,33.2769,33.6062,33.936,34.2666, 34.5963,34.9195,35.2432,35.5675,35.8925 ,36.218,36.5441,36.8707,37.1979,37.5257 ,37.8541,38.1831,38.5126,38.8426, 39.1731,39.5041,39.8357,40.1679,40.5004 ,40.8335,41.1672,41.5011,41.8358, 42.1707,42.5062,42.8422,43.4366,43.8604 ,44.4263,44.9934,45.7038,46.1308, 46.4157,46.701,46.9864,47.2719,47.5579, 47.9872,48.2735,48.7036,48.8471, 48.7769)
FOOTPRINT_POINT_LONGITUDE = (200.846,200.379,199.74,199.031,199.014 ,198.957,198.98,199.003,199.036,199.058 ,199.078,199.099,199.118,199.156, 199.192,199.226,199.258,199.289,199.317 ,199.339,199.354,199.369,199.384, 199.398,199.411,199.424,199.436,199.448 ,199.459,199.47,199.48,199.49,199.499, 199.508,199.517,199.525,199.532,199.54, 199.546,199.553,199.559,199.564,199.57, 199.575,199.579,199.586,199.589,199.593 ,199.594,199.594,200.157,200.855, 201.337,201.353,201.364,201.358,201.351 ,201.344,201.337,201.33,201.323,201.316 ,201.309,201.301,201.294,201.286, 201.278,201.27,201.262,201.254,201.245, 201.237,201.228,201.219,201.21,201.201, 201.191,201.182,201.172,201.162,201.152 ,201.141,201.131,201.12,201.1,201.086, 201.066,201.046,201.019,201.003,200.991 ,200.98,200.968,200.956,200.944,200.925 ,200.913,200.893,200.886,200.846)
ORBIT_NUMBER = 7452
ORBITAL_ECCENTRICITY = 0.57
ORBITAL_INCLINATION = 86.83
ORBITAL_SEMIMAJOR_AXIS = 8717.17
PERIAPSIS_ALTITUDE = 359.96
PERIAPSIS_ARGUMENT_ANGLE = 131.12
PERIAPSIS_TIME = 2009-10-24T20:03:54.000Z
SPACECRAFT_ORIENTATION = (0.0,-1.0,0.0)
^MEX_ORIENTATION_DESC = "MEX_ORIENTATION_DESC.TXT"
SPACECRAFT_POINTING_MODE = NADIR
^MEX_POINTING_DESC = "MEX_POINTING_DESC.TXT"
RIGHT_ASCENSION = -1e+32
DECLINATION = -1e+32
OFFSET_ANGLE = -1e+32
SPACECRAFT_SOLAR_DISTANCE = 2.3269e+08
TARGET_NAME = MARS
/* CAMERA DATA ELEMENTS */
DETECTOR_TEMPERATURE = 18.5744
FOCAL_PLANE_TEMPERATURE = 8.1755
INST_CMPRS_NAME = "DISCRETE COSINE TRANSFORMATION (DCT)"
INST_CMPRS_RATIO = 29.9123
INST_CMPRS_QUALITY = 0
INST_CMPRS_QUANTZ_TBL_ID = 0
INSTRUMENT_TEMPERATURE = 11.234
LENS_TEMPERATURE = 8.5833
MACROPIXEL_SIZE = 8
MISSING_FRAMES = 0
PIXEL_SUBSAMPLING_FLAG = N
SIGNAL_CHAIN_ID = 2
/* RADIOMETRIC DATA ELEMENTS */
BANDWIDTH = 48.0
CENTER_FILTER_WAVELENGTH = 748.0
RADIANCE_OFFSET = 1.29114
RADIANCE_SCALING_FACTOR = 0.00542494
REFLECTANCE_SCALING_FACTOR = 0.000670311
MEX:REFLECTANCE_OFFSET = 0.159534
/* IMAGE OBJECT DEFINITIONS */
OBJECT = IMAGE
  INTERCHANGE_FORMAT = BINARY
  LINES = 9249
  LINE_SAMPLES = 1071
  SAMPLE_TYPE = UNSIGNED_INTEGER
  SAMPLE_BITS = 8
  BANDS = 1
  BAND_STORAGE_TYPE = BAND_SEQUENTIAL
  MAXIMUM = 255
  MEAN = 133.069
  MINIMUM = 1
  STANDARD_DEVIATION = 27.7924
END_OBJECT = IMAGE
/* MAP OBJECT DEFINITIONS */
OBJECT = IMAGE_MAP_PROJECTION
  ^DATA_SET_MAP_PROJECTION_CATALOG= "DSMAP.CAT"
  A_AXIS_RADIUS = 3396.0
  B_AXIS_RADIUS = 3396.0
  C_AXIS_RADIUS = 3396.0
  CENTER_LATITUDE = 0.0
  CENTER_LONGITUDE = 200.0
  COORDINATE_SYSTEM_NAME = PLANETOGRAPHIC
  COORDINATE_SYSTEM_TYPE = "BODY-FIXED ROTATING"
  EASTERNMOST_LONGITUDE = 201.364
  FIRST_STANDARD_PARALLEL = "N/A"
  LINE_FIRST_PIXEL = 1
  LINE_LAST_PIXEL = 9249
  LINE_PROJECTION_OFFSET = 28960.5625
  MAP_PROJECTION_ROTATION = 0.0
  MAP_PROJECTION_TYPE = SINUSOIDAL
  MAP_RESOLUTION = 592.713803866667
  MAP_SCALE = 0.1
  MAXIMUM_LATITUDE = 48.8471
  MINIMUM_LATITUDE = 33.2614
  POSITIVE_LONGITUDE_DIRECTION = EAST
  REFERENCE_LATITUDE = "N/A"
  REFERENCE_LONGITUDE = "N/A"
  SAMPLE_FIRST_PIXEL = 1
  SAMPLE_LAST_PIXEL = 1071
  SAMPLE_PROJECTION_OFFSET = 412.3125
  SECOND_STANDARD_PARALLEL = "N/A"
  WESTERNMOST_LONGITUDE = 198.957
END_OBJECT = IMAGE_MAP_PROJECTION
END
