PDS_VERSION_ID = PDS3
/* FILE DATA ELEMENTS */
RECORD_TYPE = UNDEFINED
/* POINTERS TO DATA OBJECTS */
^IMAGE = ("H7449_0000_IR4.TIF")
/* IDENTIFICATION DATA ELEMENTS */
DATA_SET_ID = "MEX-M-HRSC-4-REFDR-MAPPROJECT-EXT3-V4.0"
DATA_SET_NAME = "MARS EXPRESS HRSC MAP PROJECTED REFDR EXTENSION3 V4.0"
DETECTOR_ID = MEX_HRSC_IR
EVENT_TYPE = "MARS-REGIONAL-MAPPING-Vo-Fl-Pf"
INSTRUMENT_HOST_ID = MEX
INSTRUMENT_HOST_NAME = "MARS EXPRESS"
INSTRUMENT_ID = HRSC
INSTRUMENT_NAME = "HIGH RESOLUTION STEREO CAMERA"
MISSION_NAME = "MARS EXPRESS"
MISSION_PHASE_NAME = ME_Phase_18
PROCESSING_LEVEL_ID = 4
PRODUCT_CREATION_TIME = 2023-02-02T15:10:19.000Z
PRODUCT_ID = "H7449_0000_IR4.TIF"
RELEASE_ID = 0003
REVISION_ID = 0000
/* QUALITY DATA ELEMENTS */
DATA_QUALITY_ID = 1
DATA_QUALITY_DESC = "Data calculated based on original SPICE kernels"
/* TIME DATA ELEMENTS */
SPACECRAFT_CLOCK_START_COUNT = "1/0204420185.07297"
SPACECRAFT_CLOCK_STOP_COUNT = "1/0204420417.37257"
START_TIME = 2009-10-23T23:23:13.266Z
STOP_TIME = 2009-10-23T23:25:49.895Z
/* ORBITAL DATA ELEMENTS */
ASCENDING_NODE_LONGITUDE = 75.26
MAXIMUM_RESOLUTION = 0.0607
FOOTPRINT_POINT_LATITUDE = (44.5252,44.503,44.4777,44.4638,44.4394 ,44.4384,44.3661,44.089,43.6274,43.2574 ,43.0724,42.7026,42.3326,42.1474, 41.9623,41.7771,41.592,41.4066,41.1285, 40.8507,40.6652,40.4796,40.2013,40.0157 ,39.8303,39.6449,39.4595,39.1408, 38.9191,38.5868,38.2547,38.0331,37.8113 ,37.4791,37.2568,36.9249,36.5925, 36.3708,36.1489,35.9272,35.5947,35.3732 ,35.0409,34.8193,34.5978,34.3762, 34.2654,34.2015,34.2131,34.2308,34.2468 ,34.2588,34.2667,34.2671,34.2683, 34.4904,34.7122,34.9341,35.1563,35.3784 ,35.7115,36.045,36.2674,36.6001,36.9332 ,37.1554,37.4887,37.711,38.0442,38.2665 ,38.4887,38.822,39.0441,39.3772,39.5776 ,39.7635,39.9496,40.2287,40.4146, 40.6006,40.8793,41.0652,41.251,41.437, 41.7156,41.9014,42.0869,42.2726,42.4582 ,42.7367,43.0149,43.2006,43.3858, 43.5712,43.7567,43.9424,44.1277,44.3128 ,44.4054,44.5252)
FOOTPRINT_POINT_LONGITUDE = (142.833,142.325,141.811,141.552, 141.128,141.112,141.049,141.068,141.101 ,141.126,141.138,141.162,141.185, 141.196,141.207,141.218,141.229,141.239 ,141.255,141.27,141.28,141.29,141.304, 141.313,141.322,141.331,141.34,141.355, 141.365,141.379,141.393,141.403,141.411 ,141.424,141.432,141.445,141.457, 141.464,141.471,141.478,141.489,141.496 ,141.505,141.512,141.518,141.523, 141.526,141.528,141.763,142.155,142.573 ,142.927,143.172,143.187,143.192, 143.186,143.18,143.175,143.169,143.163, 143.154,143.144,143.138,143.129,143.119 ,143.112,143.102,143.096,143.085, 143.078,143.071,143.06,143.053,143.042, 143.035,143.028,143.022,143.012,143.006 ,142.999,142.989,142.982,142.975, 142.968,142.957,142.95,142.942,142.935, 142.928,142.916,142.905,142.897,142.889 ,142.881,142.873,142.865,142.857, 142.848,142.844,142.833)
ORBIT_NUMBER = 7449
ORBITAL_ECCENTRICITY = 0.571
ORBITAL_INCLINATION = 86.82
ORBITAL_SEMIMAJOR_AXIS = 8722.07
PERIAPSIS_ALTITUDE = 360.28
PERIAPSIS_ARGUMENT_ANGLE = 131.66
PERIAPSIS_TIME = 2009-10-23T23:22:41.000Z
SPACECRAFT_ORIENTATION = (0.0,-1.0,0.0)
^MEX_ORIENTATION_DESC = "MEX_ORIENTATION_DESC.TXT"
SPACECRAFT_POINTING_MODE = ACROSSTRACK
^MEX_POINTING_DESC = "MEX_POINTING_DESC.TXT"
RIGHT_ASCENSION = -1e+32
DECLINATION = -1e+32
OFFSET_ANGLE = -0.5
SPACECRAFT_SOLAR_DISTANCE = 2.3253e+08
TARGET_NAME = MARS
/* CAMERA DATA ELEMENTS */
DETECTOR_TEMPERATURE = 17.351
FOCAL_PLANE_TEMPERATURE = 8.3794
INST_CMPRS_NAME = "DISCRETE COSINE TRANSFORMATION (DCT)"
INST_CMPRS_RATIO = 10.569
INST_CMPRS_QUALITY = 0
INST_CMPRS_QUANTZ_TBL_ID = 0
INSTRUMENT_TEMPERATURE = 11.0301
LENS_TEMPERATURE = 9.6028
MACROPIXEL_SIZE = 4
MISSING_FRAMES = 0
PIXEL_SUBSAMPLING_FLAG = N
SIGNAL_CHAIN_ID = 2
/* RADIOMETRIC DATA ELEMENTS */
BANDWIDTH = 81.0
CENTER_FILTER_WAVELENGTH = 955.5
RADIANCE_OFFSET = 1.29055
RADIANCE_SCALING_FACTOR = 0.00613953
REFLECTANCE_SCALING_FACTOR = 0.000716178
MEX:REFLECTANCE_OFFSET = 0.150543
/* IMAGE OBJECT DEFINITIONS */
OBJECT = IMAGE
  INTERCHANGE_FORMAT = BINARY
  LINES = 12103
  LINE_SAMPLES = 2002
  SAMPLE_TYPE = UNSIGNED_INTEGER
  SAMPLE_BITS = 8
  BANDS = 1
  BAND_STORAGE_TYPE = BAND_SEQUENTIAL
  MAXIMUM = 255
  MEAN = 127.626
  MINIMUM = 1
  STANDARD_DEVIATION = 23.4202
END_OBJECT = IMAGE
/* MAP OBJECT DEFINITIONS */
OBJECT = IMAGE_MAP_PROJECTION
  ^DATA_SET_MAP_PROJECTION_CATALOG= "DSMAP.CAT"
  A_AXIS_RADIUS = 3396.0
  B_AXIS_RADIUS = 3396.0
  C_AXIS_RADIUS = 3396.0
  CENTER_LATITUDE = 0.0
  CENTER_LONGITUDE = 142.0
  COORDINATE_SYSTEM_NAME = PLANETOGRAPHIC
  COORDINATE_SYSTEM_TYPE = "BODY-FIXED ROTATING"
  EASTERNMOST_LONGITUDE = 143.192
  FIRST_STANDARD_PARALLEL = "N/A"
  LINE_FIRST_PIXEL = 1
  LINE_LAST_PIXEL = 12103
  LINE_PROJECTION_OFFSET = 52703.875
  MAP_PROJECTION_ROTATION = 0.0
  MAP_PROJECTION_TYPE = SINUSOIDAL
  MAP_RESOLUTION = 1185.42760773333
  MAP_SCALE = 0.05
  MAXIMUM_LATITUDE = 44.5252
  MINIMUM_LATITUDE = 34.2015
  POSITIVE_LONGITUDE_DIRECTION = EAST
  REFERENCE_LATITUDE = "N/A"
  REFERENCE_LONGITUDE = "N/A"
  SAMPLE_FIRST_PIXEL = 1
  SAMPLE_LAST_PIXEL = 2002
  SAMPLE_PROJECTION_OFFSET = 815.625
  SECOND_STANDARD_PARALLEL = "N/A"
  WESTERNMOST_LONGITUDE = 141.049
END_OBJECT = IMAGE_MAP_PROJECTION
END
