PDS_VERSION_ID = PDS3
/* FILE DATA ELEMENTS */
RECORD_TYPE = UNDEFINED
/* POINTERS TO DATA OBJECTS */
^IMAGE = ("H7447_0000_RE4.TIF")
/* IDENTIFICATION DATA ELEMENTS */
DATA_SET_ID = "MEX-M-HRSC-4-REFDR-MAPPROJECT-EXT3-V4.0"
DATA_SET_NAME = "MARS EXPRESS HRSC MAP PROJECTED REFDR EXTENSION3 V4.0"
DETECTOR_ID = MEX_HRSC_RED
EVENT_TYPE = "MARS-REGIONAL-MAPPING-Fl-Pf"
INSTRUMENT_HOST_ID = MEX
INSTRUMENT_HOST_NAME = "MARS EXPRESS"
INSTRUMENT_ID = HRSC
INSTRUMENT_NAME = "HIGH RESOLUTION STEREO CAMERA"
MISSION_NAME = "MARS EXPRESS"
MISSION_PHASE_NAME = ME_Phase_18
PROCESSING_LEVEL_ID = 4
PRODUCT_CREATION_TIME = 2023-02-02T15:10:19.000Z
PRODUCT_ID = "H7447_0000_RE4.TIF"
RELEASE_ID = 0003
REVISION_ID = 0000
/* QUALITY DATA ELEMENTS */
DATA_QUALITY_ID = 1
DATA_QUALITY_DESC = "Data calculated based on original SPICE kernels"
/* TIME DATA ELEMENTS */
SPACECRAFT_CLOCK_START_COUNT = "1/0204370473.07302"
SPACECRAFT_CLOCK_STOP_COUNT = "1/0204370789.22074"
START_TIME = 2009-10-23T09:35:35.644Z
STOP_TIME = 2009-10-23T09:39:42.917Z
/* ORBITAL DATA ELEMENTS */
ASCENDING_NODE_LONGITUDE = 75.3
MAXIMUM_RESOLUTION = 0.1221
FOOTPRINT_POINT_LATITUDE = (47.8741,47.8565,47.8358,47.8354, 47.9138,47.4902,47.0669,46.7849,46.5031 ,46.081,45.6593,45.2377,44.9572,44.6768 ,44.117,43.6977,43.2787,42.7215,42.1655 ,41.851,41.52,41.1895,40.8594,40.5298, 40.2006,39.8717,39.5434,39.2154,38.8879 ,38.5611,38.2348,37.9091,37.5837,37.259 ,36.9344,36.6106,36.2866,35.9645, 35.6426,35.3211,35.0002,34.6798,34.3601 ,34.0407,33.7224,33.3974,33.0715, 32.7464,32.5837,32.4393,32.4409,32.4424 ,32.443,32.4412,32.4408,32.4428,32.9326 ,33.4217,33.7462,34.0673,34.3875, 34.7075,35.0285,35.3503,35.6725,35.9955 ,36.3189,36.6427,36.9674,37.2925, 37.6179,37.9438,38.2705,38.5978,38.925, 39.2533,39.5821,39.9115,40.4057,40.9015 ,41.3978,41.7289,42.0607,42.3512, 42.9044,43.324,43.8836,44.4446,44.7254, 45.0065,45.2879,45.7104,45.9924,46.2742 ,46.5567,46.9811,47.4053,47.6883, 47.8301,47.8741)
FOOTPRINT_POINT_LONGITUDE = (344.919,343.987,343.134,343.117, 343.048,343.083,343.116,343.137,343.158 ,343.188,343.217,343.246,343.264, 343.281,343.315,343.339,343.363,343.392 ,343.42,343.435,343.45,343.465,343.479, 343.493,343.506,343.519,343.531,343.543 ,343.554,343.565,343.575,343.585, 343.594,343.603,343.612,343.62,343.628, 343.635,343.642,343.648,343.655,343.66, 343.666,343.671,343.675,343.68,343.684, 343.688,343.69,343.691,344.069,344.481, 345.056,345.416,345.432,345.443,345.433 ,345.422,345.415,345.408,345.401, 345.393,345.386,345.378,345.37,345.362, 345.354,345.346,345.338,345.329,345.32, 345.311,345.302,345.293,345.284,345.275 ,345.265,345.255,345.24,345.224,345.208 ,345.197,345.186,345.178,345.157, 345.142,345.121,345.1,345.089,345.078, 345.066,345.049,345.037,345.025,345.012 ,344.994,344.974,344.961,344.954, 344.919)
ORBIT_NUMBER = 7447
ORBITAL_ECCENTRICITY = 0.571
ORBITAL_INCLINATION = 86.83
ORBITAL_SEMIMAJOR_AXIS = 8719.13
PERIAPSIS_ALTITUDE = 359.65
PERIAPSIS_ARGUMENT_ANGLE = 131.98
PERIAPSIS_TIME = 2009-10-23T09:35:08.000Z
SPACECRAFT_ORIENTATION = (0.0,-1.0,0.0)
^MEX_ORIENTATION_DESC = "MEX_ORIENTATION_DESC.TXT"
SPACECRAFT_POINTING_MODE = ACROSSTRACK
^MEX_POINTING_DESC = "MEX_POINTING_DESC.TXT"
RIGHT_ASCENSION = -1e+32
DECLINATION = -1e+32
OFFSET_ANGLE = -0.15
SPACECRAFT_SOLAR_DISTANCE = 2.32422e+08
TARGET_NAME = MARS
/* CAMERA DATA ELEMENTS */
DETECTOR_TEMPERATURE = 18.5744
FOCAL_PLANE_TEMPERATURE = 8.9911
INST_CMPRS_NAME = "DISCRETE COSINE TRANSFORMATION (DCT)"
INST_CMPRS_RATIO = 19.8472
INST_CMPRS_QUALITY = 0
INST_CMPRS_QUANTZ_TBL_ID = 0
INSTRUMENT_TEMPERATURE = 11.4379
LENS_TEMPERATURE = 9.3989
MACROPIXEL_SIZE = 8
MISSING_FRAMES = 0
PIXEL_SUBSAMPLING_FLAG = N
SIGNAL_CHAIN_ID = 2
/* RADIOMETRIC DATA ELEMENTS */
BANDWIDTH = 48.0
CENTER_FILTER_WAVELENGTH = 748.0
RADIANCE_OFFSET = 0.89579
RADIANCE_SCALING_FACTOR = 0.0054929
REFLECTANCE_SCALING_FACTOR = 0.000677151
MEX:REFLECTANCE_OFFSET = 0.110431
/* IMAGE OBJECT DEFINITIONS */
OBJECT = IMAGE
  INTERCHANGE_FORMAT = BINARY
  LINES = 9211
  LINE_SAMPLES = 1088
  SAMPLE_TYPE = UNSIGNED_INTEGER
  SAMPLE_BITS = 8
  BANDS = 1
  BAND_STORAGE_TYPE = BAND_SEQUENTIAL
  MAXIMUM = 255
  MEAN = 63.2538
  MINIMUM = 1
  STANDARD_DEVIATION = 35.6251
END_OBJECT = IMAGE
/* MAP OBJECT DEFINITIONS */
OBJECT = IMAGE_MAP_PROJECTION
  ^DATA_SET_MAP_PROJECTION_CATALOG= "DSMAP.CAT"
  A_AXIS_RADIUS = 3396.0
  B_AXIS_RADIUS = 3396.0
  C_AXIS_RADIUS = 3396.0
  CENTER_LATITUDE = 0.0
  CENTER_LONGITUDE = 344.0
  COORDINATE_SYSTEM_NAME = PLANETOGRAPHIC
  COORDINATE_SYSTEM_TYPE = "BODY-FIXED ROTATING"
  EASTERNMOST_LONGITUDE = 345.443
  FIRST_STANDARD_PARALLEL = "N/A"
  LINE_FIRST_PIXEL = 1
  LINE_LAST_PIXEL = 9211
  LINE_PROJECTION_OFFSET = 28424.8125
  MAP_PROJECTION_ROTATION = 0.0
  MAP_PROJECTION_TYPE = SINUSOIDAL
  MAP_RESOLUTION = 592.713803866667
  MAP_SCALE = 0.1
  MAXIMUM_LATITUDE = 47.9138
  MINIMUM_LATITUDE = 32.4393
  POSITIVE_LONGITUDE_DIRECTION = EAST
  REFERENCE_LATITUDE = "N/A"
  REFERENCE_LONGITUDE = "N/A"
  SAMPLE_FIRST_PIXEL = 1
  SAMPLE_LAST_PIXEL = 1088
  SAMPLE_PROJECTION_OFFSET = 382.1875
  SECOND_STANDARD_PARALLEL = "N/A"
  WESTERNMOST_LONGITUDE = 343.048
END_OBJECT = IMAGE_MAP_PROJECTION
END
