PDS_VERSION_ID = PDS3
/* FILE DATA ELEMENTS */
RECORD_TYPE = UNDEFINED
/* POINTERS TO DATA OBJECTS */
^IMAGE = ("H7441_0001_P14.TIF")
/* IDENTIFICATION DATA ELEMENTS */
DATA_SET_ID = "MEX-M-HRSC-4-REFDR-MAPPROJECT-EXT3-V4.0"
DATA_SET_NAME = "MARS EXPRESS HRSC MAP PROJECTED REFDR EXTENSION3 V4.0"
DETECTOR_ID = MEX_HRSC_P1
EVENT_TYPE = "MARS-REGIONAL-MAPPING-Vo-Fl"
INSTRUMENT_HOST_ID = MEX
INSTRUMENT_HOST_NAME = "MARS EXPRESS"
INSTRUMENT_ID = HRSC
INSTRUMENT_NAME = "HIGH RESOLUTION STEREO CAMERA"
MISSION_NAME = "MARS EXPRESS"
MISSION_PHASE_NAME = ME_Phase_18
PROCESSING_LEVEL_ID = 4
PRODUCT_CREATION_TIME = 2023-02-02T15:10:19.000Z
PRODUCT_ID = "H7441_0001_P14.TIF"
RELEASE_ID = 0003
REVISION_ID = 0000
/* QUALITY DATA ELEMENTS */
DATA_QUALITY_ID = 1
DATA_QUALITY_DESC = "Data calculated based on original SPICE kernels"
/* TIME DATA ELEMENTS */
SPACECRAFT_CLOCK_START_COUNT = "1/0204221785.07294"
SPACECRAFT_CLOCK_STOP_COUNT = "1/0204222056.23675"
START_TIME = 2009-10-21T16:16:39.972Z
STOP_TIME = 2009-10-21T16:19:29.003Z
/* ORBITAL DATA ELEMENTS */
ASCENDING_NODE_LONGITUDE = 75.42
MAXIMUM_RESOLUTION = 0.0333
FOOTPRINT_POINT_LATITUDE = (29.7484,29.743,29.737,29.7304,29.723, 29.715,29.7026,29.7021,29.6762,29.1878, 28.7928,28.3915,27.9897,27.7881,27.4877 ,27.2839,27.0779,26.769,26.4599,26.2548 ,26.0489,25.8396,25.5225,25.2079, 24.9979,24.7858,24.5708,24.3576,24.0379 ,23.8191,23.6063,23.3869,23.1694, 22.9586,22.7426,22.412,22.192,21.8666, 21.5364,21.3116,20.9738,20.7494,20.5238 ,20.2952,20.0669,19.7234,19.3762, 19.1452,19.0286,19.0176,19.0156,19.0129 ,19.0073,19.0024,19.0006,19.0007, 19.0013,19.2378,19.4734,19.7066,19.9372 ,20.2831,20.5149,20.7428,20.9715, 21.1949,21.416,21.641,21.864,22.0867, 22.421,22.643,22.9708,23.2993,23.5184, 23.7367,24.063,24.2778,24.4929,24.7079, 24.9218,25.2372,25.4475,25.6587,25.8693 ,26.1842,26.389,26.5942,26.8001,27.0064 ,27.2121,27.5206,28.0228,28.224,28.4254 ,28.6269,29.0287,29.6198,29.7182, 29.7484)
FOOTPRINT_POINT_LONGITUDE = (230.118,229.871,229.623,229.373, 229.122,228.87,228.52,228.504,228.476, 228.483,228.487,228.491,228.494,228.494 ,228.496,228.498,228.499,228.499, 228.499,228.499,228.5,228.501,228.499, 228.499,228.499,228.497,228.496,228.497 ,228.497,228.496,228.497,228.496, 228.496,228.501,228.502,228.5,228.5, 228.505,228.505,228.505,228.505,228.504 ,228.503,228.503,228.503,228.501, 228.499,228.5,228.499,228.499,228.84, 229.354,229.749,229.991,230.251,230.268 ,230.274,230.271,230.269,230.267, 230.264,230.261,230.258,230.256,230.253 ,230.251,230.25,230.247,230.244,230.242 ,230.238,230.235,230.231,230.226, 230.223,230.22,230.216,230.213,230.21, 230.207,230.203,230.199,230.195,230.192 ,230.189,230.184,230.18,230.177,230.174 ,230.17,230.167,230.162,230.153,230.15, 230.146,230.142,230.135,230.123,230.121 ,230.118)
ORBIT_NUMBER = 7441
ORBITAL_ECCENTRICITY = 0.571
ORBITAL_INCLINATION = 86.83
ORBITAL_SEMIMAJOR_AXIS = 8725.38
PERIAPSIS_ALTITUDE = 358.26
PERIAPSIS_ARGUMENT_ANGLE = 133.02
PERIAPSIS_TIME = 2009-10-21T16:12:36.000Z
SPACECRAFT_ORIENTATION = (0.0,-1.0,0.0)
^MEX_ORIENTATION_DESC = "MEX_ORIENTATION_DESC.TXT"
SPACECRAFT_POINTING_MODE = ACROSSTRACK
^MEX_POINTING_DESC = "MEX_POINTING_DESC.TXT"
RIGHT_ASCENSION = -1e+32
DECLINATION = -1e+32
OFFSET_ANGLE = -0.5
SPACECRAFT_SOLAR_DISTANCE = 2.321e+08
TARGET_NAME = MARS
/* CAMERA DATA ELEMENTS */
DETECTOR_TEMPERATURE = 18.3705
FOCAL_PLANE_TEMPERATURE = 8.5833
INST_CMPRS_NAME = "DISCRETE COSINE TRANSFORMATION (DCT)"
INST_CMPRS_RATIO = 8.20014
INST_CMPRS_QUALITY = 0
INST_CMPRS_QUANTZ_TBL_ID = 0
INSTRUMENT_TEMPERATURE = 12.6613
LENS_TEMPERATURE = 8.7872
MACROPIXEL_SIZE = 2
MISSING_FRAMES = 1
PIXEL_SUBSAMPLING_FLAG = N
SIGNAL_CHAIN_ID = 3
/* RADIOMETRIC DATA ELEMENTS */
BANDWIDTH = 174.0
CENTER_FILTER_WAVELENGTH = 675.0
RADIANCE_OFFSET = 5.62824
RADIANCE_SCALING_FACTOR = 0.024802
REFLECTANCE_SCALING_FACTOR = 0.00071866
MEX:REFLECTANCE_OFFSET = 0.163083
/* IMAGE OBJECT DEFINITIONS */
OBJECT = IMAGE
  INTERCHANGE_FORMAT = BINARY
  LINES = 25495
  LINE_SAMPLES = 4153
  SAMPLE_TYPE = UNSIGNED_INTEGER
  SAMPLE_BITS = 8
  BANDS = 1
  BAND_STORAGE_TYPE = BAND_SEQUENTIAL
  MAXIMUM = 255
  MEAN = 137.665
  MINIMUM = 1
  STANDARD_DEVIATION = 20.4039
END_OBJECT = IMAGE
/* MAP OBJECT DEFINITIONS */
OBJECT = IMAGE_MAP_PROJECTION
  ^DATA_SET_MAP_PROJECTION_CATALOG= "DSMAP.CAT"
  A_AXIS_RADIUS = 3396.0
  B_AXIS_RADIUS = 3396.0
  C_AXIS_RADIUS = 3396.0
  CENTER_LATITUDE = 0.0
  CENTER_LONGITUDE = 229.0
  COORDINATE_SYSTEM_NAME = PLANETOGRAPHIC
  COORDINATE_SYSTEM_TYPE = "BODY-FIXED ROTATING"
  EASTERNMOST_LONGITUDE = 230.274
  FIRST_STANDARD_PARALLEL = "N/A"
  LINE_FIRST_PIXEL = 1
  LINE_LAST_PIXEL = 25495
  LINE_PROJECTION_OFFSET = 70428.25
  MAP_PROJECTION_ROTATION = 0.0
  MAP_PROJECTION_TYPE = SINUSOIDAL
  MAP_RESOLUTION = 2370.85521546667
  MAP_SCALE = 0.025
  MAXIMUM_LATITUDE = 29.7484
  MINIMUM_LATITUDE = 19.0006
  POSITIVE_LONGITUDE_DIRECTION = EAST
  REFERENCE_LATITUDE = "N/A"
  REFERENCE_LONGITUDE = "N/A"
  SAMPLE_FIRST_PIXEL = 1
  SAMPLE_LAST_PIXEL = 4153
  SAMPLE_PROJECTION_OFFSET = 1212.25
  SECOND_STANDARD_PARALLEL = "N/A"
  WESTERNMOST_LONGITUDE = 228.476
END_OBJECT = IMAGE_MAP_PROJECTION
END
