PDS_VERSION_ID = PDS3
/* FILE DATA ELEMENTS */
RECORD_TYPE = UNDEFINED
/* POINTERS TO DATA OBJECTS */
^IMAGE = ("H7441_0001_ND4.TIF")
/* IDENTIFICATION DATA ELEMENTS */
DATA_SET_ID = "MEX-M-HRSC-4-REFDR-MAPPROJECT-EXT3-V4.0"
DATA_SET_NAME = "MARS EXPRESS HRSC MAP PROJECTED REFDR EXTENSION3 V4.0"
DETECTOR_ID = MEX_HRSC_NADIR
EVENT_TYPE = "MARS-REGIONAL-MAPPING-Vo-Fl"
INSTRUMENT_HOST_ID = MEX
INSTRUMENT_HOST_NAME = "MARS EXPRESS"
INSTRUMENT_ID = HRSC
INSTRUMENT_NAME = "HIGH RESOLUTION STEREO CAMERA"
MISSION_NAME = "MARS EXPRESS"
MISSION_PHASE_NAME = ME_Phase_18
PROCESSING_LEVEL_ID = 4
PRODUCT_CREATION_TIME = 2023-02-02T15:10:19.000Z
PRODUCT_ID = "H7441_0001_ND4.TIF"
RELEASE_ID = 0003
REVISION_ID = 0000
/* QUALITY DATA ELEMENTS */
DATA_QUALITY_ID = 1
DATA_QUALITY_DESC = "Data calculated based on original SPICE kernels"
/* TIME DATA ELEMENTS */
SPACECRAFT_CLOCK_START_COUNT = "1/0204221785.07294"
SPACECRAFT_CLOCK_STOP_COUNT = "1/0204222056.23675"
START_TIME = 2009-10-21T16:17:04.858Z
STOP_TIME = 2009-10-21T16:20:00.827Z
/* ORBITAL DATA ELEMENTS */
ASCENDING_NODE_LONGITUDE = 75.42
MAXIMUM_RESOLUTION = 0.0166
FOOTPRINT_POINT_LATITUDE = (29.7054,29.704,29.7022,29.6998,29.6969 ,29.6935,29.6884,29.6881,29.688,29.1003 ,28.5992,28.1987,27.7989,27.391,26.9823 ,26.5744,26.2626,26.0541,25.8458, 25.6378,25.4299,25.2183,25.0058,24.7935 ,24.5815,24.3696,24.046,23.8297,23.6136 ,23.3978,23.0689,22.8486,22.6286, 22.4089,22.0741,21.85,21.6262,21.2886, 21.0606,20.8329,20.6055,20.3753,20.1436 ,19.9122,19.5634,19.3279,19.0927, 18.9753,18.9577,18.9581,18.9579,18.9572 ,18.9556,18.9528,18.9526,18.9529, 19.1883,19.4241,19.7763,20.008,20.24, 20.5872,20.815,21.0431,21.2718,21.4985, 21.7226,21.9469,22.1716,22.3951,22.6152 ,22.8357,23.0563,23.3862,23.6025,23.819 ,24.0358,24.3604,24.5727,24.7852,24.998 ,25.2109,25.4234,25.6317,25.8402, 26.0489,26.2578,26.5706,26.7749,26.9794 ,27.1841,27.3889,27.798,28.1986,28.6, 28.9014,29.2985,29.593,29.6912,29.7054)
FOOTPRINT_POINT_LONGITUDE = (230.138,229.879,229.62,229.359,229.097 ,228.834,228.501,228.485,228.454, 228.461,228.465,228.468,228.469,228.471 ,228.472,228.471,228.472,228.472, 228.473,228.472,228.47,228.469,228.469, 228.467,228.466,228.465,228.465,228.465 ,228.465,228.464,228.466,228.469, 228.467,228.466,228.466,228.469,228.471 ,228.47,228.47,228.468,228.467,228.466, 228.466,228.464,228.461,228.461,228.459 ,228.458,228.459,228.803,229.148, 229.458,229.843,230.283,230.302,230.311 ,230.308,230.305,230.301,230.298, 230.295,230.291,230.288,230.285,230.284 ,230.281,230.278,230.275,230.272, 230.269,230.266,230.262,230.259,230.254 ,230.251,230.247,230.244,230.239, 230.235,230.232,230.228,230.225,230.221 ,230.218,230.214,230.21,230.207,230.201 ,230.198,230.194,230.19,230.187,230.179 ,230.171,230.164,230.158,230.149, 230.143,230.141,230.138)
ORBIT_NUMBER = 7441
ORBITAL_ECCENTRICITY = 0.571
ORBITAL_INCLINATION = 86.83
ORBITAL_SEMIMAJOR_AXIS = 8725.38
PERIAPSIS_ALTITUDE = 358.26
PERIAPSIS_ARGUMENT_ANGLE = 133.02
PERIAPSIS_TIME = 2009-10-21T16:12:36.000Z
SPACECRAFT_ORIENTATION = (0.0,-1.0,0.0)
^MEX_ORIENTATION_DESC = "MEX_ORIENTATION_DESC.TXT"
SPACECRAFT_POINTING_MODE = ACROSSTRACK
^MEX_POINTING_DESC = "MEX_POINTING_DESC.TXT"
RIGHT_ASCENSION = -1e+32
DECLINATION = -1e+32
OFFSET_ANGLE = -0.5
SPACECRAFT_SOLAR_DISTANCE = 2.321e+08
TARGET_NAME = MARS
/* CAMERA DATA ELEMENTS */
DETECTOR_TEMPERATURE = 19.39
FOCAL_PLANE_TEMPERATURE = 8.5833
INST_CMPRS_NAME = "DISCRETE COSINE TRANSFORMATION (DCT)"
INST_CMPRS_RATIO = 6.29994
INST_CMPRS_QUALITY = 0
INST_CMPRS_QUANTZ_TBL_ID = 0
INSTRUMENT_TEMPERATURE = 12.6613
LENS_TEMPERATURE = 8.7872
MACROPIXEL_SIZE = 1
MISSING_FRAMES = 0
PIXEL_SUBSAMPLING_FLAG = N
SIGNAL_CHAIN_ID = 0
/* RADIOMETRIC DATA ELEMENTS */
BANDWIDTH = 177.0
CENTER_FILTER_WAVELENGTH = 677.5
RADIANCE_OFFSET = 5.41542
RADIANCE_SCALING_FACTOR = 0.0268256
REFLECTANCE_SCALING_FACTOR = 0.000767691
MEX:REFLECTANCE_OFFSET = 0.154978
/* IMAGE OBJECT DEFINITIONS */
OBJECT = IMAGE
  INTERCHANGE_FORMAT = BINARY
  LINES = 50989
  LINE_SAMPLES = 8306
  SAMPLE_TYPE = UNSIGNED_INTEGER
  SAMPLE_BITS = 8
  BANDS = 1
  BAND_STORAGE_TYPE = BAND_SEQUENTIAL
  MAXIMUM = 255
  MEAN = 135.705
  MINIMUM = 1
  STANDARD_DEVIATION = 18.5791
END_OBJECT = IMAGE
/* MAP OBJECT DEFINITIONS */
OBJECT = IMAGE_MAP_PROJECTION
  ^DATA_SET_MAP_PROJECTION_CATALOG= "DSMAP.CAT"
  A_AXIS_RADIUS = 3396.0
  B_AXIS_RADIUS = 3396.0
  C_AXIS_RADIUS = 3396.0
  CENTER_LATITUDE = 0.0
  CENTER_LONGITUDE = 229.0
  COORDINATE_SYSTEM_NAME = PLANETOGRAPHIC
  COORDINATE_SYSTEM_TYPE = "BODY-FIXED ROTATING"
  EASTERNMOST_LONGITUDE = 230.311
  FIRST_STANDARD_PARALLEL = "N/A"
  LINE_FIRST_PIXEL = 1
  LINE_LAST_PIXEL = 50989
  LINE_PROJECTION_OFFSET = 140857.0
  MAP_PROJECTION_ROTATION = 0.0
  MAP_PROJECTION_TYPE = SINUSOIDAL
  MAP_RESOLUTION = 4741.71043093333
  MAP_SCALE = 0.0125
  MAXIMUM_LATITUDE = 29.7054
  MINIMUM_LATITUDE = 18.9526
  POSITIVE_LONGITUDE_DIRECTION = EAST
  REFERENCE_LATITUDE = "N/A"
  REFERENCE_LONGITUDE = "N/A"
  SAMPLE_FIRST_PIXEL = 1
  SAMPLE_LAST_PIXEL = 8306
  SAMPLE_PROJECTION_OFFSET = 2425.0
  SECOND_STANDARD_PARALLEL = "N/A"
  WESTERNMOST_LONGITUDE = 228.454
END_OBJECT = IMAGE_MAP_PROJECTION
END
