PDS_VERSION_ID = PDS3
/* FILE DATA ELEMENTS */
RECORD_TYPE = UNDEFINED
/* POINTERS TO DATA OBJECTS */
^IMAGE = ("H7439_0001_GR4.TIF")
/* IDENTIFICATION DATA ELEMENTS */
DATA_SET_ID = "MEX-M-HRSC-4-REFDR-MAPPROJECT-EXT3-V4.0"
DATA_SET_NAME = "MARS EXPRESS HRSC MAP PROJECTED REFDR EXTENSION3 V4.0"
DETECTOR_ID = MEX_HRSC_GREEN
EVENT_TYPE = "MARS-REGIONAL-MAPPING-Vo-Te-Eo"
INSTRUMENT_HOST_ID = MEX
INSTRUMENT_HOST_NAME = "MARS EXPRESS"
INSTRUMENT_ID = HRSC
INSTRUMENT_NAME = "HIGH RESOLUTION STEREO CAMERA"
MISSION_NAME = "MARS EXPRESS"
MISSION_PHASE_NAME = ME_Phase_18
PROCESSING_LEVEL_ID = 4
PRODUCT_CREATION_TIME = 2023-02-02T15:10:19.000Z
PRODUCT_ID = "H7439_0001_GR4.TIF"
RELEASE_ID = 0003
REVISION_ID = 0000
/* QUALITY DATA ELEMENTS */
DATA_QUALITY_ID = 1
DATA_QUALITY_DESC = "Data calculated based on original SPICE kernels"
/* TIME DATA ELEMENTS */
SPACECRAFT_CLOCK_START_COUNT = "1/0204172320.08240"
SPACECRAFT_CLOCK_STOP_COUNT = "1/0204172737.50115"
START_TIME = 2009-10-21T02:32:42.233Z
STOP_TIME = 2009-10-21T02:37:01.991Z
/* ORBITAL DATA ELEMENTS */
ASCENDING_NODE_LONGITUDE = 75.45
MAXIMUM_RESOLUTION = 0.1666
FOOTPRINT_POINT_LATITUDE = (17.6821,17.6881,17.6926,17.6999,17.703 ,17.7065,17.7066,17.7032,17.1935, 16.6759,16.1542,15.7599,15.4944,15.2275 ,14.961,14.6902,14.2842,13.8726,13.5982 ,13.1806,12.9022,12.6196,12.3374, 12.0519,11.7659,11.3326,11.0431,10.7494 ,10.4562,10.1591,9.7118,9.41105,9.10801 ,8.80375,8.4964,8.03272,7.72117,7.40638 ,6.93114,6.45129,5.96648,5.47646, 4.98129,4.64882,4.31299,3.97509,3.6349, 3.11929,2.94648,2.93971,2.928,2.91851, 2.90883,2.89685,2.88311,2.87502,2.87435 ,2.87729,3.22446,3.56794,3.90927, 4.24858,4.58552,4.91913,5.41597,5.9076, 6.3939,6.87534,7.35191,7.66768,7.98005, 8.44508,8.75338,9.05857,9.51314,9.81499 ,10.1127,10.4106,10.7046,10.9992, 11.2894,11.7238,12.0105,12.2968,12.5795 ,13.0026,13.2817,13.561,13.9736,14.2487 ,14.6556,14.927,15.3284,15.5963,16.1224 ,16.7752,17.1642,17.5474,17.6754, 17.6821)
FOOTPRINT_POINT_LONGITUDE = (73.0024,72.6618,72.3764,71.8266, 71.5446,71.1403,71.1228,71.113,71.099, 71.0843,71.0689,71.0569,71.0487,71.0404 ,71.032,71.0232,71.0099,70.996,70.9866, 70.9721,70.9622,70.952,70.9415,70.9309, 70.9201,70.9034,70.8922,70.8805,70.8687 ,70.8567,70.8383,70.8257,70.8127, 70.7997,70.7863,70.7656,70.7515,70.737, 70.7147,70.6919,70.6684,70.6442,70.6193 ,70.6023,70.5851,70.5675,70.5495, 70.5214,70.512,70.5116,71.0174,71.406, 71.7957,72.2606,72.7763,73.0725,73.0973 ,73.1137,73.11,73.1065,73.1032,73.0996, 73.0967,73.0936,73.0889,73.0845,73.0803 ,73.076,73.0722,73.0695,73.0672,73.0636 ,73.0614,73.0592,73.056,73.0538,73.0518 ,73.0499,73.048,73.0459,73.0442,73.0415 ,73.0396,73.0377,73.036,73.0331,73.0315 ,73.0295,73.0275,73.0257,73.0233,73.022 ,73.0186,73.0171,73.0174,73.0133, 73.0113,73.0084,73.0075,73.0024)
ORBIT_NUMBER = 7439
ORBITAL_ECCENTRICITY = 0.571
ORBITAL_INCLINATION = 86.83
ORBITAL_SEMIMAJOR_AXIS = 8728.47
PERIAPSIS_ALTITUDE = 358.02
PERIAPSIS_ARGUMENT_ANGLE = 133.39
PERIAPSIS_TIME = 2009-10-21T02:25:11.000Z
SPACECRAFT_ORIENTATION = (0.0,-1.0,0.0)
^MEX_ORIENTATION_DESC = "MEX_ORIENTATION_DESC.TXT"
SPACECRAFT_POINTING_MODE = ACROSSTRACK
^MEX_POINTING_DESC = "MEX_POINTING_DESC.TXT"
RIGHT_ASCENSION = -1e+32
DECLINATION = -1e+32
OFFSET_ANGLE = 0.45
SPACECRAFT_SOLAR_DISTANCE = 2.31992e+08
TARGET_NAME = MARS
/* CAMERA DATA ELEMENTS */
DETECTOR_TEMPERATURE = 19.1861
FOCAL_PLANE_TEMPERATURE = 8.3794
INST_CMPRS_NAME = "DISCRETE COSINE TRANSFORMATION (DCT)"
INST_CMPRS_RATIO = 17.107
INST_CMPRS_QUALITY = 0
INST_CMPRS_QUANTZ_TBL_ID = 0
INSTRUMENT_TEMPERATURE = 12.4574
LENS_TEMPERATURE = 8.5833
MACROPIXEL_SIZE = 8
MISSING_FRAMES = 0
PIXEL_SUBSAMPLING_FLAG = N
SIGNAL_CHAIN_ID = 2
/* RADIOMETRIC DATA ELEMENTS */
BANDWIDTH = 88.0
CENTER_FILTER_WAVELENGTH = 538.0
RADIANCE_OFFSET = 1.45132
RADIANCE_SCALING_FACTOR = 0.00392513
REFLECTANCE_SCALING_FACTOR = 0.000181884
MEX:REFLECTANCE_OFFSET = 0.0672516
/* IMAGE OBJECT DEFINITIONS */
OBJECT = IMAGE
  INTERCHANGE_FORMAT = BINARY
  LINES = 4389
  LINE_SAMPLES = 796
  SAMPLE_TYPE = UNSIGNED_INTEGER
  SAMPLE_BITS = 8
  BANDS = 1
  BAND_STORAGE_TYPE = BAND_SEQUENTIAL
  MAXIMUM = 255
  MEAN = 140.823
  MINIMUM = 1
  STANDARD_DEVIATION = 24.9057
END_OBJECT = IMAGE
/* MAP OBJECT DEFINITIONS */
OBJECT = IMAGE_MAP_PROJECTION
  ^DATA_SET_MAP_PROJECTION_CATALOG= "DSMAP.CAT"
  A_AXIS_RADIUS = 3396.0
  B_AXIS_RADIUS = 3396.0
  C_AXIS_RADIUS = 3396.0
  CENTER_LATITUDE = 0.0
  CENTER_LONGITUDE = 72.0
  COORDINATE_SYSTEM_NAME = PLANETOGRAPHIC
  COORDINATE_SYSTEM_TYPE = "BODY-FIXED ROTATING"
  EASTERNMOST_LONGITUDE = 73.11369999999999
  FIRST_STANDARD_PARALLEL = "N/A"
  LINE_FIRST_PIXEL = 1
  LINE_LAST_PIXEL = 4389
  LINE_PROJECTION_OFFSET = 5242.6875
  MAP_PROJECTION_ROTATION = 0.0
  MAP_PROJECTION_TYPE = SINUSOIDAL
  MAP_RESOLUTION = 296.356901933333
  MAP_SCALE = 0.2
  MAXIMUM_LATITUDE = 17.7066
  MINIMUM_LATITUDE = 2.87435
  POSITIVE_LONGITUDE_DIRECTION = EAST
  REFERENCE_LATITUDE = "N/A"
  REFERENCE_LONGITUDE = "N/A"
  SAMPLE_FIRST_PIXEL = 1
  SAMPLE_LAST_PIXEL = 796
  SAMPLE_PROJECTION_OFFSET = 456.8125
  SECOND_STANDARD_PARALLEL = "N/A"
  WESTERNMOST_LONGITUDE = 70.5116
END_OBJECT = IMAGE_MAP_PROJECTION
END
