PDS_VERSION_ID = PDS3
/* FILE DATA ELEMENTS */
RECORD_TYPE = UNDEFINED
/* POINTERS TO DATA OBJECTS */
^IMAGE = ("H7438_0000_S24.TIF")
/* IDENTIFICATION DATA ELEMENTS */
DATA_SET_ID = "MEX-M-HRSC-4-REFDR-MAPPROJECT-EXT3-V4.0"
DATA_SET_NAME = "MARS EXPRESS HRSC MAP PROJECTED REFDR EXTENSION3 V4.0"
DETECTOR_ID = MEX_HRSC_S2
EVENT_TYPE = "MARS-REGIONAL-MAPPING-Vo"
INSTRUMENT_HOST_ID = MEX
INSTRUMENT_HOST_NAME = "MARS EXPRESS"
INSTRUMENT_ID = HRSC
INSTRUMENT_NAME = "HIGH RESOLUTION STEREO CAMERA"
MISSION_NAME = "MARS EXPRESS"
MISSION_PHASE_NAME = ME_Phase_18
PROCESSING_LEVEL_ID = 4
PRODUCT_CREATION_TIME = 2023-02-02T15:10:19.000Z
PRODUCT_ID = "H7438_0000_S24.TIF"
RELEASE_ID = 0003
REVISION_ID = 0000
/* QUALITY DATA ELEMENTS */
DATA_QUALITY_ID = 1
DATA_QUALITY_DESC = "Data calculated based on original SPICE kernels"
/* TIME DATA ELEMENTS */
SPACECRAFT_CLOCK_START_COUNT = "1/0204147188.08259"
SPACECRAFT_CLOCK_STOP_COUNT = "1/0204147526.45735"
START_TIME = 2009-10-20T19:34:19.138Z
STOP_TIME = 2009-10-20T19:38:47.226Z
/* ORBITAL DATA ELEMENTS */
ASCENDING_NODE_LONGITUDE = 75.47
MAXIMUM_RESOLUTION = 0.0329
FOOTPRINT_POINT_LATITUDE = (37.5209,37.5124,37.5048,37.4972, 37.4969,37.5698,37.2654,36.9608,36.6567 ,36.3535,35.8993,35.5975,35.2964, 34.9957,34.6951,34.395,33.7967,33.2006, 32.6072,32.1561,31.8525,31.2503,30.7952 ,30.4867,30.1765,29.8722,29.4057, 28.9363,28.6248,28.1488,27.8315,27.5148 ,27.1921,26.8694,26.5474,26.2208, 25.8916,25.5664,25.2345,24.9015,24.5694 ,23.8932,23.38,23.0388,22.6969,22.3509, 22.0028,21.827,21.7806,21.7792,21.7767, 21.7714,21.7731,21.7724,21.7729,22.1264 ,22.4732,22.9974,23.5072,23.8486, 24.1861,24.5261,25.0244,25.3567,25.8518 ,26.1799,26.5079,26.8302,27.1536, 27.4779,27.7958,28.2731,28.5919,28.904, 29.2171,29.5304,29.8416,30.1478,30.4572 ,30.7662,31.2244,31.5263,31.8289, 32.1314,32.5837,33.1786,33.7757,34.075, 34.375,34.8262,35.1272,35.4294,35.7318, 36.0346,36.3379,36.6417,36.946,37.4032, 37.5559,37.5209)
FOOTPRINT_POINT_LONGITUDE = (173.167,172.491,171.977,171.526,171.51 ,171.477,171.484,171.492,171.499, 171.506,171.515,171.521,171.526,171.531 ,171.536,171.54,171.548,171.555,171.561 ,171.565,171.568,171.57,171.572,171.573 ,171.574,171.574,171.574,171.573, 171.573,171.571,171.569,171.568,171.566 ,171.563,171.561,171.558,171.555, 171.551,171.547,171.543,171.539,171.53, 171.522,171.516,171.509,171.502,171.495 ,171.492,171.491,171.834,172.369, 172.884,173.439,173.458,173.465,173.46, 173.455,173.449,173.44,173.435,173.43, 173.426,173.418,173.413,173.406,173.401 ,173.396,173.391,173.386,173.381, 173.376,173.369,173.364,173.359,173.354 ,173.349,173.344,173.338,173.333, 173.328,173.321,173.315,173.31,173.304, 173.297,173.286,173.275,173.269,173.263 ,173.255,173.249,173.243,173.236,173.23 ,173.224,173.217,173.211,173.2,173.197, 173.167)
ORBIT_NUMBER = 7438
ORBITAL_ECCENTRICITY = 0.571
ORBITAL_INCLINATION = 86.82
ORBITAL_SEMIMAJOR_AXIS = 8720.78
PERIAPSIS_ALTITUDE = 359.05
PERIAPSIS_ARGUMENT_ANGLE = 133.57
PERIAPSIS_TIME = 2009-10-20T19:31:27.000Z
SPACECRAFT_ORIENTATION = (0.0,-1.0,0.0)
^MEX_ORIENTATION_DESC = "MEX_ORIENTATION_DESC.TXT"
SPACECRAFT_POINTING_MODE = ACROSSTRACK
^MEX_POINTING_DESC = "MEX_POINTING_DESC.TXT"
RIGHT_ASCENSION = -1e+32
DECLINATION = -1e+32
OFFSET_ANGLE = 0.04
SPACECRAFT_SOLAR_DISTANCE = 2.31938e+08
TARGET_NAME = MARS
/* CAMERA DATA ELEMENTS */
DETECTOR_TEMPERATURE = 18.3705
FOCAL_PLANE_TEMPERATURE = 8.3794
INST_CMPRS_NAME = "DISCRETE COSINE TRANSFORMATION (DCT)"
INST_CMPRS_RATIO = 13.1343
INST_CMPRS_QUALITY = 0
INST_CMPRS_QUANTZ_TBL_ID = 0
INSTRUMENT_TEMPERATURE = 11.234
LENS_TEMPERATURE = 8.7872
MACROPIXEL_SIZE = 2
MISSING_FRAMES = 0
PIXEL_SUBSAMPLING_FLAG = N
SIGNAL_CHAIN_ID = 1
/* RADIOMETRIC DATA ELEMENTS */
BANDWIDTH = 178.0
CENTER_FILTER_WAVELENGTH = 679.0
RADIANCE_OFFSET = 4.81517
RADIANCE_SCALING_FACTOR = 0.0262442
REFLECTANCE_SCALING_FACTOR = 0.000747666
MEX:REFLECTANCE_OFFSET = 0.137179
/* IMAGE OBJECT DEFINITIONS */
OBJECT = IMAGE
  INTERCHANGE_FORMAT = BINARY
  LINES = 37558
  LINE_SAMPLES = 4016
  SAMPLE_TYPE = UNSIGNED_INTEGER
  SAMPLE_BITS = 8
  BANDS = 1
  BAND_STORAGE_TYPE = BAND_SEQUENTIAL
  MAXIMUM = 255
  MEAN = 136.085
  MINIMUM = 1
  STANDARD_DEVIATION = 38.1286
END_OBJECT = IMAGE
/* MAP OBJECT DEFINITIONS */
OBJECT = IMAGE_MAP_PROJECTION
  ^DATA_SET_MAP_PROJECTION_CATALOG= "DSMAP.CAT"
  A_AXIS_RADIUS = 3396.0
  B_AXIS_RADIUS = 3396.0
  C_AXIS_RADIUS = 3396.0
  CENTER_LATITUDE = 0.0
  CENTER_LONGITUDE = 172.0
  COORDINATE_SYSTEM_NAME = PLANETOGRAPHIC
  COORDINATE_SYSTEM_TYPE = "BODY-FIXED ROTATING"
  EASTERNMOST_LONGITUDE = 173.465
  FIRST_STANDARD_PARALLEL = "N/A"
  LINE_FIRST_PIXEL = 1
  LINE_LAST_PIXEL = 37558
  LINE_PROJECTION_OFFSET = 89107.25
  MAP_PROJECTION_ROTATION = 0.0
  MAP_PROJECTION_TYPE = SINUSOIDAL
  MAP_RESOLUTION = 2370.85521546667
  MAP_SCALE = 0.025
  MAXIMUM_LATITUDE = 37.5698
  MINIMUM_LATITUDE = 21.7714
  POSITIVE_LONGITUDE_DIRECTION = EAST
  REFERENCE_LATITUDE = "N/A"
  REFERENCE_LONGITUDE = "N/A"
  SAMPLE_FIRST_PIXEL = 1
  SAMPLE_LAST_PIXEL = 4016
  SAMPLE_PROJECTION_OFFSET = 964.25
  SECOND_STANDARD_PARALLEL = "N/A"
  WESTERNMOST_LONGITUDE = 171.477
END_OBJECT = IMAGE_MAP_PROJECTION
END
