PDS_VERSION_ID = PDS3
/* FILE DATA ELEMENTS */
RECORD_TYPE = UNDEFINED
/* POINTERS TO DATA OBJECTS */
^IMAGE = ("H7438_0000_ND4.TIF")
/* IDENTIFICATION DATA ELEMENTS */
DATA_SET_ID = "MEX-M-HRSC-4-REFDR-MAPPROJECT-EXT3-V4.0"
DATA_SET_NAME = "MARS EXPRESS HRSC MAP PROJECTED REFDR EXTENSION3 V4.0"
DETECTOR_ID = MEX_HRSC_NADIR
EVENT_TYPE = "MARS-REGIONAL-MAPPING-Vo"
INSTRUMENT_HOST_ID = MEX
INSTRUMENT_HOST_NAME = "MARS EXPRESS"
INSTRUMENT_ID = HRSC
INSTRUMENT_NAME = "HIGH RESOLUTION STEREO CAMERA"
MISSION_NAME = "MARS EXPRESS"
MISSION_PHASE_NAME = ME_Phase_18
PROCESSING_LEVEL_ID = 4
PRODUCT_CREATION_TIME = 2023-02-02T15:10:19.000Z
PRODUCT_ID = "H7438_0000_ND4.TIF"
RELEASE_ID = 0003
REVISION_ID = 0000
/* QUALITY DATA ELEMENTS */
DATA_QUALITY_ID = 1
DATA_QUALITY_DESC = "Data calculated based on original SPICE kernels"
/* TIME DATA ELEMENTS */
SPACECRAFT_CLOCK_START_COUNT = "1/0204147188.08259"
SPACECRAFT_CLOCK_STOP_COUNT = "1/0204147526.45735"
START_TIME = 2009-10-20T19:33:43.998Z
STOP_TIME = 2009-10-20T19:37:56.990Z
/* ORBITAL DATA ELEMENTS */
ASCENDING_NODE_LONGITUDE = 75.47
MAXIMUM_RESOLUTION = 0.015
FOOTPRINT_POINT_LATITUDE = (37.5817,37.5761,37.5685,37.5576, 37.5573,37.5575,37.2491,36.941,36.6329, 36.3252,36.0176,35.7102,35.403,35.0961, 34.7894,34.483,34.1767,33.5651,32.9544, 32.3449,31.7365,31.1294,30.5234,29.9188 ,29.609,29.1448,28.8357,28.527,28.2122, 27.8961,27.5805,27.2653,26.9452,26.6229 ,26.3009,25.9795,25.4871,25.1588, 24.8311,24.4965,24.1619,23.8278,23.4885 ,23.1477,22.8074,22.2885,21.9419, 21.7689,21.7467,21.7473,21.7456,21.7419 ,21.7418,21.742,22.089,22.4366,22.7832, 23.1241,23.4656,23.806,24.1407,24.4761, 24.8117,25.14,25.6335,25.9627,26.2847, 26.6072,26.9302,27.2514,27.5672,27.8833 ,28.1999,28.5158,28.8251,29.1347, 29.4447,29.755,30.0619,30.668,31.2753, 31.8839,32.4937,33.1046,33.4104,33.7166 ,34.023,34.3296,34.6365,34.9437,35.251, 35.5587,35.8665,36.1746,36.4829,36.7913 ,37.1,37.4089,37.5634,37.5817)
FOOTPRINT_POINT_LONGITUDE = (173.136,172.612,172.105,171.55,171.534 ,171.501,171.51,171.518,171.526,171.533 ,171.54,171.547,171.553,171.559,171.565 ,171.57,171.575,171.585,171.593,171.6, 171.607,171.61,171.614,171.617,171.618, 171.618,171.619,171.619,171.619,171.618 ,171.618,171.617,171.616,171.614, 171.613,171.61,171.607,171.604,171.601, 171.598,171.593,171.591,171.587,171.583 ,171.579,171.57,171.564,171.561,171.561 ,172.1,172.783,173.359,173.377,173.385, 173.382,173.379,173.375,173.372,173.368 ,173.364,173.361,173.358,173.353,173.35 ,173.344,173.341,173.337,173.333, 173.329,173.326,173.322,173.318,173.314 ,173.31,173.306,173.302,173.298,173.294 ,173.289,173.281,173.273,173.264, 173.255,173.245,173.241,173.236,173.231 ,173.225,173.22,173.215,173.209,173.204 ,173.198,173.193,173.187,173.181, 173.175,173.169,173.165,173.136)
ORBIT_NUMBER = 7438
ORBITAL_ECCENTRICITY = 0.571
ORBITAL_INCLINATION = 86.82
ORBITAL_SEMIMAJOR_AXIS = 8720.78
PERIAPSIS_ALTITUDE = 359.05
PERIAPSIS_ARGUMENT_ANGLE = 133.57
PERIAPSIS_TIME = 2009-10-20T19:31:27.000Z
SPACECRAFT_ORIENTATION = (0.0,-1.0,0.0)
^MEX_ORIENTATION_DESC = "MEX_ORIENTATION_DESC.TXT"
SPACECRAFT_POINTING_MODE = ACROSSTRACK
^MEX_POINTING_DESC = "MEX_POINTING_DESC.TXT"
RIGHT_ASCENSION = -1e+32
DECLINATION = -1e+32
OFFSET_ANGLE = 0.04
SPACECRAFT_SOLAR_DISTANCE = 2.31938e+08
TARGET_NAME = MARS
/* CAMERA DATA ELEMENTS */
DETECTOR_TEMPERATURE = 19.39
FOCAL_PLANE_TEMPERATURE = 8.3794
INST_CMPRS_NAME = "DISCRETE COSINE TRANSFORMATION (DCT)"
INST_CMPRS_RATIO = 6.91549
INST_CMPRS_QUALITY = 0
INST_CMPRS_QUANTZ_TBL_ID = 0
INSTRUMENT_TEMPERATURE = 11.234
LENS_TEMPERATURE = 8.7872
MACROPIXEL_SIZE = 1
MISSING_FRAMES = 0
PIXEL_SUBSAMPLING_FLAG = N
SIGNAL_CHAIN_ID = 0
/* RADIOMETRIC DATA ELEMENTS */
BANDWIDTH = 177.0
CENTER_FILTER_WAVELENGTH = 677.5
RADIANCE_OFFSET = 4.15201
RADIANCE_SCALING_FACTOR = 0.0275804
REFLECTANCE_SCALING_FACTOR = 0.000788188
MEX:REFLECTANCE_OFFSET = 0.118655
/* IMAGE OBJECT DEFINITIONS */
OBJECT = IMAGE
  INTERCHANGE_FORMAT = BINARY
  LINES = 75116
  LINE_SAMPLES = 8032
  SAMPLE_TYPE = UNSIGNED_INTEGER
  SAMPLE_BITS = 8
  BANDS = 1
  BAND_STORAGE_TYPE = BAND_SEQUENTIAL
  MAXIMUM = 255
  MEAN = 127.339
  MINIMUM = 1
  STANDARD_DEVIATION = 37.4428
END_OBJECT = IMAGE
/* MAP OBJECT DEFINITIONS */
OBJECT = IMAGE_MAP_PROJECTION
  ^DATA_SET_MAP_PROJECTION_CATALOG= "DSMAP.CAT"
  A_AXIS_RADIUS = 3396.0
  B_AXIS_RADIUS = 3396.0
  C_AXIS_RADIUS = 3396.0
  CENTER_LATITUDE = 0.0
  CENTER_LONGITUDE = 172.0
  COORDINATE_SYSTEM_NAME = PLANETOGRAPHIC
  COORDINATE_SYSTEM_TYPE = "BODY-FIXED ROTATING"
  EASTERNMOST_LONGITUDE = 173.385
  FIRST_STANDARD_PARALLEL = "N/A"
  LINE_FIRST_PIXEL = 1
  LINE_LAST_PIXEL = 75116
  LINE_PROJECTION_OFFSET = 178215.0
  MAP_PROJECTION_ROTATION = 0.0
  MAP_PROJECTION_TYPE = SINUSOIDAL
  MAP_RESOLUTION = 4741.71043093333
  MAP_SCALE = 0.0125
  MAXIMUM_LATITUDE = 37.5817
  MINIMUM_LATITUDE = 21.7418
  POSITIVE_LONGITUDE_DIRECTION = EAST
  REFERENCE_LATITUDE = "N/A"
  REFERENCE_LONGITUDE = "N/A"
  SAMPLE_FIRST_PIXEL = 1
  SAMPLE_LAST_PIXEL = 8032
  SAMPLE_PROJECTION_OFFSET = 1929.0
  SECOND_STANDARD_PARALLEL = "N/A"
  WESTERNMOST_LONGITUDE = 171.501
END_OBJECT = IMAGE_MAP_PROJECTION
END
