PDS_VERSION_ID = PDS3
/* FILE DATA ELEMENTS */
RECORD_TYPE = UNDEFINED
/* POINTERS TO DATA OBJECTS */
^IMAGE = ("H7438_0000_BL4.TIF")
/* IDENTIFICATION DATA ELEMENTS */
DATA_SET_ID = "MEX-M-HRSC-4-REFDR-MAPPROJECT-EXT3-V4.0"
DATA_SET_NAME = "MARS EXPRESS HRSC MAP PROJECTED REFDR EXTENSION3 V4.0"
DETECTOR_ID = MEX_HRSC_BLUE
EVENT_TYPE = "MARS-REGIONAL-MAPPING-Vo"
INSTRUMENT_HOST_ID = MEX
INSTRUMENT_HOST_NAME = "MARS EXPRESS"
INSTRUMENT_ID = HRSC
INSTRUMENT_NAME = "HIGH RESOLUTION STEREO CAMERA"
MISSION_NAME = "MARS EXPRESS"
MISSION_PHASE_NAME = ME_Phase_18
PROCESSING_LEVEL_ID = 4
PRODUCT_CREATION_TIME = 2023-02-02T15:10:19.000Z
PRODUCT_ID = "H7438_0000_BL4.TIF"
RELEASE_ID = 0003
REVISION_ID = 0000
/* QUALITY DATA ELEMENTS */
DATA_QUALITY_ID = 1
DATA_QUALITY_DESC = "Data calculated based on original SPICE kernels"
/* TIME DATA ELEMENTS */
SPACECRAFT_CLOCK_START_COUNT = "1/0204147188.08259"
SPACECRAFT_CLOCK_STOP_COUNT = "1/0204147526.45735"
START_TIME = 2009-10-20T19:33:49.833Z
STOP_TIME = 2009-10-20T19:38:05.033Z
/* ORBITAL DATA ELEMENTS */
ASCENDING_NODE_LONGITUDE = 75.47
MAXIMUM_RESOLUTION = 0.0605
FOOTPRINT_POINT_LATITUDE = (37.5686,37.5633,37.5576,37.5449, 37.5446,37.5564,37.2484,36.9405,36.6329 ,36.3256,35.865,35.5583,35.2519,34.9459 ,34.64,34.3344,34.0292,33.7241,33.4194, 32.8111,32.2037,31.5978,30.994,30.3911, 30.0835,29.7753,29.4671,29.1599,28.8509 ,28.5359,28.2214,27.9073,27.4331, 27.1121,26.7916,26.4717,25.983,25.6564, 25.3301,24.8325,24.4997,23.9983,23.6587 ,23.3202,22.8055,22.462,21.9405,21.7652 ,21.7446,21.7448,21.7431,21.7391,21.739 ,21.7401,22.2664,22.611,22.9564,23.2993 ,23.6383,23.9779,24.4819,24.8145, 25.3136,25.6405,25.9677,26.4577,26.7782 ,27.0992,27.4208,27.7391,28.0536, 28.3686,28.684,28.9971,29.3053,29.6138, 29.9226,30.3855,30.8384,31.2922,31.898, 32.3537,32.6579,32.9622,33.267,33.5721, 33.8774,34.1831,34.4891,34.7954,35.102, 35.4089,35.716,36.0234,36.3311,36.639, 36.9472,37.4098,37.5642,37.5686)
FOOTPRINT_POINT_LONGITUDE = (173.14,172.645,172.241,171.553,171.538 ,171.509,171.517,171.525,171.533,171.54 ,171.55,171.557,171.563,171.568,171.574 ,171.579,171.584,171.588,171.593,171.6, 171.607,171.613,171.616,171.619,171.622 ,171.622,171.623,171.622,171.623, 171.624,171.623,171.623,171.621,171.62, 171.619,171.617,171.614,171.612,171.609 ,171.604,171.601,171.594,171.592, 171.588,171.581,171.574,171.566,171.563 ,171.563,172.074,172.689,173.373,173.39 ,173.396,173.39,173.387,173.383,173.379 ,173.375,173.372,173.367,173.362, 173.356,173.353,173.349,173.343,173.339 ,173.335,173.331,173.327,173.323, 173.319,173.315,173.311,173.307,173.303 ,173.298,173.292,173.285,173.279, 173.269,173.263,173.258,173.253,173.248 ,173.243,173.238,173.233,173.227, 173.222,173.217,173.211,173.205,173.2, 173.194,173.188,173.182,173.172,173.169 ,173.14)
ORBIT_NUMBER = 7438
ORBITAL_ECCENTRICITY = 0.571
ORBITAL_INCLINATION = 86.82
ORBITAL_SEMIMAJOR_AXIS = 8720.78
PERIAPSIS_ALTITUDE = 359.05
PERIAPSIS_ARGUMENT_ANGLE = 133.57
PERIAPSIS_TIME = 2009-10-20T19:31:27.000Z
SPACECRAFT_ORIENTATION = (0.0,-1.0,0.0)
^MEX_ORIENTATION_DESC = "MEX_ORIENTATION_DESC.TXT"
SPACECRAFT_POINTING_MODE = ACROSSTRACK
^MEX_POINTING_DESC = "MEX_POINTING_DESC.TXT"
RIGHT_ASCENSION = -1e+32
DECLINATION = -1e+32
OFFSET_ANGLE = 0.04
SPACECRAFT_SOLAR_DISTANCE = 2.31938e+08
TARGET_NAME = MARS
/* CAMERA DATA ELEMENTS */
DETECTOR_TEMPERATURE = 19.39
FOCAL_PLANE_TEMPERATURE = 8.3794
INST_CMPRS_NAME = "DISCRETE COSINE TRANSFORMATION (DCT)"
INST_CMPRS_RATIO = 20.9106
INST_CMPRS_QUALITY = 0
INST_CMPRS_QUANTZ_TBL_ID = 0
INSTRUMENT_TEMPERATURE = 11.234
LENS_TEMPERATURE = 8.7872
MACROPIXEL_SIZE = 4
MISSING_FRAMES = 0
PIXEL_SUBSAMPLING_FLAG = N
SIGNAL_CHAIN_ID = 2
/* RADIOMETRIC DATA ELEMENTS */
BANDWIDTH = 76.0
CENTER_FILTER_WAVELENGTH = 444.0
RADIANCE_OFFSET = 0.650754
RADIANCE_SCALING_FACTOR = 0.00184798
REFLECTANCE_SCALING_FACTOR = 0.000102141
MEX:REFLECTANCE_OFFSET = 0.0359681
/* IMAGE OBJECT DEFINITIONS */
OBJECT = IMAGE
  INTERCHANGE_FORMAT = BINARY
  LINES = 18779
  LINE_SAMPLES = 2008
  SAMPLE_TYPE = UNSIGNED_INTEGER
  SAMPLE_BITS = 8
  BANDS = 1
  BAND_STORAGE_TYPE = BAND_SEQUENTIAL
  MAXIMUM = 255
  MEAN = 117.367
  MINIMUM = 1
  STANDARD_DEVIATION = 29.0929
END_OBJECT = IMAGE
/* MAP OBJECT DEFINITIONS */
OBJECT = IMAGE_MAP_PROJECTION
  ^DATA_SET_MAP_PROJECTION_CATALOG= "DSMAP.CAT"
  A_AXIS_RADIUS = 3396.0
  B_AXIS_RADIUS = 3396.0
  C_AXIS_RADIUS = 3396.0
  CENTER_LATITUDE = 0.0
  CENTER_LONGITUDE = 172.0
  COORDINATE_SYSTEM_NAME = PLANETOGRAPHIC
  COORDINATE_SYSTEM_TYPE = "BODY-FIXED ROTATING"
  EASTERNMOST_LONGITUDE = 173.396
  FIRST_STANDARD_PARALLEL = "N/A"
  LINE_FIRST_PIXEL = 1
  LINE_LAST_PIXEL = 18779
  LINE_PROJECTION_OFFSET = 44553.375
  MAP_PROJECTION_ROTATION = 0.0
  MAP_PROJECTION_TYPE = SINUSOIDAL
  MAP_RESOLUTION = 1185.42760773333
  MAP_SCALE = 0.05
  MAXIMUM_LATITUDE = 37.5686
  MINIMUM_LATITUDE = 21.739
  POSITIVE_LONGITUDE_DIRECTION = EAST
  REFERENCE_LATITUDE = "N/A"
  REFERENCE_LONGITUDE = "N/A"
  SAMPLE_FIRST_PIXEL = 1
  SAMPLE_LAST_PIXEL = 2008
  SAMPLE_PROJECTION_OFFSET = 481.875
  SECOND_STANDARD_PARALLEL = "N/A"
  WESTERNMOST_LONGITUDE = 171.509
END_OBJECT = IMAGE_MAP_PROJECTION
END
