PDS_VERSION_ID = PDS3
/* FILE DATA ELEMENTS */
RECORD_TYPE = UNDEFINED
/* POINTERS TO DATA OBJECTS */
^IMAGE = ("H7434_0000_RE4.TIF")
/* IDENTIFICATION DATA ELEMENTS */
DATA_SET_ID = "MEX-M-HRSC-4-REFDR-MAPPROJECT-EXT3-V4.0"
DATA_SET_NAME = "MARS EXPRESS HRSC MAP PROJECTED REFDR EXTENSION3 V4.0"
DETECTOR_ID = MEX_HRSC_RED
EVENT_TYPE = "MARS-REGIONAL-MAPPING-Vo-Im-Pf"
INSTRUMENT_HOST_ID = MEX
INSTRUMENT_HOST_NAME = "MARS EXPRESS"
INSTRUMENT_ID = HRSC
INSTRUMENT_NAME = "HIGH RESOLUTION STEREO CAMERA"
MISSION_NAME = "MARS EXPRESS"
MISSION_PHASE_NAME = ME_Phase_18
PROCESSING_LEVEL_ID = 4
PRODUCT_CREATION_TIME = 2023-02-02T15:10:19.000Z
PRODUCT_ID = "H7434_0000_RE4.TIF"
RELEASE_ID = 0003
REVISION_ID = 0000
/* QUALITY DATA ELEMENTS */
DATA_QUALITY_ID = 1
DATA_QUALITY_DESC = "Data calculated based on original SPICE kernels"
/* TIME DATA ELEMENTS */
SPACECRAFT_CLOCK_START_COUNT = "1/0204047574.09064"
SPACECRAFT_CLOCK_STOP_COUNT = "1/0204047890.06832"
START_TIME = 2009-10-19T15:54:02.188Z
STOP_TIME = 2009-10-19T15:58:04.884Z
/* ORBITAL DATA ELEMENTS */
ASCENDING_NODE_LONGITUDE = 75.55
MAXIMUM_RESOLUTION = 0.0604
FOOTPRINT_POINT_LATITUDE = (56.287,56.2705,56.2446,56.2104,56.2095 ,56.2936,55.7411,55.372,55.0122,54.6464 ,54.2786,53.9275,53.6127,53.1486, 52.6876,52.3796,52.0714,51.6094,51.3014 ,50.9937,50.6861,50.2247,49.9175,49.61, 49.3029,48.9958,48.5354,48.2287,47.7688 ,47.4625,47.1565,46.6975,46.3917, 46.0863,45.7812,45.4761,45.1714,44.7143 ,44.4096,44.106,43.6508,43.1959,42.8929 ,42.5901,41.9855,41.3817,40.7794, 40.6288,40.6137,40.6233,40.6356,40.6422 ,40.6424,40.6433,41.2465,41.8507, 42.1534,42.4562,42.7596,43.0631,43.3671 ,43.6712,43.9756,44.28,44.5844,45.0427, 45.3483,45.8066,46.1127,46.5724,46.8791 ,47.1859,47.4928,47.8005,48.1079, 48.4157,48.8772,49.1853,49.4934,49.8017 ,50.1101,50.4187,50.7273,51.1907, 51.6543,52.1182,52.4277,52.7369,53.0464 ,53.3561,53.6654,53.9746,54.3229, 54.6925,55.062,55.4327,55.8028,56.1726, 56.3577,56.287)
FOOTPRINT_POINT_LONGITUDE = (215.755,215.178,214.388,213.492, 213.471,213.397,213.484,213.541,213.588 ,213.639,213.69,213.738,213.783,213.842 ,213.898,213.934,213.969,214.021, 214.054,214.086,214.118,214.163,214.193 ,214.222,214.25,214.277,214.317,214.342 ,214.379,214.403,214.426,214.46,214.482 ,214.503,214.523,214.543,214.562,214.59 ,214.609,214.626,214.651,214.675, 214.691,214.706,214.734,214.761,214.787 ,214.793,214.793,215.27,216.002,216.48, 216.496,216.501,216.485,216.468,216.46, 216.451,216.442,216.433,216.424,216.414 ,216.405,216.395,216.385,216.369, 216.359,216.343,216.332,216.315,216.303 ,216.292,216.28,216.268,216.255,216.243 ,216.223,216.21,216.196,216.182,216.168 ,216.153,216.138,216.115,216.092, 216.068,216.051,216.034,216.017,215.999 ,215.981,215.962,215.941,215.917, 215.893,215.869,215.844,215.818,215.805 ,215.755)
ORBIT_NUMBER = 7434
ORBITAL_ECCENTRICITY = 0.571
ORBITAL_INCLINATION = 86.84
ORBITAL_SEMIMAJOR_AXIS = 8724.51
PERIAPSIS_ALTITUDE = 357.75
PERIAPSIS_ARGUMENT_ANGLE = 134.25
PERIAPSIS_TIME = 2009-10-19T15:56:19.000Z
SPACECRAFT_ORIENTATION = (0.0,-1.0,0.0)
^MEX_ORIENTATION_DESC = "MEX_ORIENTATION_DESC.TXT"
SPACECRAFT_POINTING_MODE = NADIR
^MEX_POINTING_DESC = "MEX_POINTING_DESC.TXT"
RIGHT_ASCENSION = -1e+32
DECLINATION = -1e+32
OFFSET_ANGLE = -1e+32
SPACECRAFT_SOLAR_DISTANCE = 2.31722e+08
TARGET_NAME = MARS
/* CAMERA DATA ELEMENTS */
DETECTOR_TEMPERATURE = 18.5744
FOCAL_PLANE_TEMPERATURE = 8.5833
INST_CMPRS_NAME = "DISCRETE COSINE TRANSFORMATION (DCT)"
INST_CMPRS_RATIO = 26.9514
INST_CMPRS_QUALITY = 0
INST_CMPRS_QUANTZ_TBL_ID = 0
INSTRUMENT_TEMPERATURE = 10.0106
LENS_TEMPERATURE = 9.195
MACROPIXEL_SIZE = 4
MISSING_FRAMES = 0
PIXEL_SUBSAMPLING_FLAG = N
SIGNAL_CHAIN_ID = 2
/* RADIOMETRIC DATA ELEMENTS */
BANDWIDTH = 48.0
CENTER_FILTER_WAVELENGTH = 748.0
RADIANCE_OFFSET = 1.00514
RADIANCE_SCALING_FACTOR = 0.00635765
REFLECTANCE_SCALING_FACTOR = 0.000779031
MEX:REFLECTANCE_OFFSET = 0.123165
/* IMAGE OBJECT DEFINITIONS */
OBJECT = IMAGE
  INTERCHANGE_FORMAT = BINARY
  LINES = 18708
  LINE_SAMPLES = 2410
  SAMPLE_TYPE = UNSIGNED_INTEGER
  SAMPLE_BITS = 8
  BANDS = 1
  BAND_STORAGE_TYPE = BAND_SEQUENTIAL
  MAXIMUM = 255
  MEAN = 124.252
  MINIMUM = 1
  STANDARD_DEVIATION = 37.8974
END_OBJECT = IMAGE
/* MAP OBJECT DEFINITIONS */
OBJECT = IMAGE_MAP_PROJECTION
  ^DATA_SET_MAP_PROJECTION_CATALOG= "DSMAP.CAT"
  A_AXIS_RADIUS = 3396.0
  B_AXIS_RADIUS = 3396.0
  C_AXIS_RADIUS = 3396.0
  CENTER_LATITUDE = 0.0
  CENTER_LONGITUDE = 215.0
  COORDINATE_SYSTEM_NAME = PLANETOGRAPHIC
  COORDINATE_SYSTEM_TYPE = "BODY-FIXED ROTATING"
  EASTERNMOST_LONGITUDE = 216.501
  FIRST_STANDARD_PARALLEL = "N/A"
  LINE_FIRST_PIXEL = 1
  LINE_LAST_PIXEL = 18708
  LINE_PROJECTION_OFFSET = 66840.875
  MAP_PROJECTION_ROTATION = 0.0
  MAP_PROJECTION_TYPE = SINUSOIDAL
  MAP_RESOLUTION = 1185.42760773333
  MAP_SCALE = 0.05
  MAXIMUM_LATITUDE = 56.3577
  MINIMUM_LATITUDE = 40.6137
  POSITIVE_LONGITUDE_DIRECTION = EAST
  REFERENCE_LATITUDE = "N/A"
  REFERENCE_LONGITUDE = "N/A"
  SAMPLE_FIRST_PIXEL = 1
  SAMPLE_LAST_PIXEL = 2410
  SAMPLE_PROJECTION_OFFSET = 1071.875
  SECOND_STANDARD_PARALLEL = "N/A"
  WESTERNMOST_LONGITUDE = 213.397
END_OBJECT = IMAGE_MAP_PROJECTION
END
