PDS_VERSION_ID = PDS3
/* FILE DATA ELEMENTS */
RECORD_TYPE = UNDEFINED
/* POINTERS TO DATA OBJECTS */
^IMAGE = ("H7433_0000_S14.TIF")
/* IDENTIFICATION DATA ELEMENTS */
DATA_SET_ID = "MEX-M-HRSC-4-REFDR-MAPPROJECT-EXT3-V4.0"
DATA_SET_NAME = "MARS EXPRESS HRSC MAP PROJECTED REFDR EXTENSION3 V4.0"
DETECTOR_ID = MEX_HRSC_S1
EVENT_TYPE = "MARS-REGIONAL-MAPPING-Fl-Pf-Eo"
INSTRUMENT_HOST_ID = MEX
INSTRUMENT_HOST_NAME = "MARS EXPRESS"
INSTRUMENT_ID = HRSC
INSTRUMENT_NAME = "HIGH RESOLUTION STEREO CAMERA"
MISSION_NAME = "MARS EXPRESS"
MISSION_PHASE_NAME = ME_Phase_18
PROCESSING_LEVEL_ID = 4
PRODUCT_CREATION_TIME = 2023-02-02T15:10:19.000Z
PRODUCT_ID = "H7433_0000_S14.TIF"
RELEASE_ID = 0003
REVISION_ID = 0000
/* QUALITY DATA ELEMENTS */
DATA_QUALITY_ID = 1
DATA_QUALITY_DESC = "Data calculated based on original SPICE kernels"
/* TIME DATA ELEMENTS */
SPACECRAFT_CLOCK_START_COUNT = "1/0204023058.09036"
SPACECRAFT_CLOCK_STOP_COUNT = "1/0204023471.39253"
START_TIME = 2009-10-19T09:04:20.658Z
STOP_TIME = 2009-10-19T09:09:26.021Z
/* ORBITAL DATA ELEMENTS */
ASCENDING_NODE_LONGITUDE = 75.57
MAXIMUM_RESOLUTION = 0.0314
FOOTPRINT_POINT_LATITUDE = (36.7846,36.8172,36.8404,36.8602, 36.8608,36.7929,36.0397,35.2861,34.909, 34.3433,33.9661,33.5889,33.0232,32.646, 32.0801,31.7027,31.1367,30.7593,30.3821 ,30.0046,29.4391,29.062,28.1196,27.3665 ,26.9799,26.5938,26.2077,25.8217, 25.4266,25.0309,24.6356,24.0348,23.6299 ,23.2252,22.8153,22.4012,21.9875, 21.5682,21.145,20.7223,20.0757,19.6442, 18.9848,18.5443,18.0953,17.6465,17.1902 ,16.9628,16.9267,16.8859,16.8549, 16.8161,16.8148,16.815,17.5039,17.9531, 18.403,18.8443,19.5056,20.1539,20.587, 21.0097,21.4333,21.854,22.2683,22.6829, 23.0942,23.4994,23.9048,24.3093,24.7055 ,25.1015,25.4979,26.0827,26.4694, 26.8562,27.4325,27.8095,28.1866,28.5639 ,29.1302,29.5077,29.8855,30.2628, 30.6407,31.0185,31.3966,31.7748,32.342, 32.7195,33.0973,33.4746,33.8523,34.4187 ,34.7963,35.1741,35.5523,36.4944, 36.6829,36.7846)
FOOTPRINT_POINT_LONGITUDE = (318.74,318.127,317.625,317.136,317.121 ,317.135,317.141,317.146,317.148,317.15 ,317.151,317.151,317.151,317.151,317.15 ,317.149,317.147,317.145,317.143, 317.141,317.137,317.134,317.125,317.117 ,317.112,317.107,317.102,317.097, 317.091,317.084,317.078,317.068,317.061 ,317.053,317.045,317.037,317.028,317.02 ,317.01,317.001,316.986,316.975,316.958 ,316.947,316.935,316.923,316.91,316.904 ,316.902,317.625,318.147,318.735, 318.753,318.76,318.759,318.76,318.762, 318.762,318.764,318.765,318.765,318.767 ,318.768,318.769,318.77,318.771,318.772 ,318.773,318.774,318.775,318.776, 318.777,318.778,318.78,318.781,318.782, 318.784,318.785,318.786,318.788,318.789 ,318.79,318.791,318.793,318.794,318.795 ,318.796,318.797,318.798,318.799, 318.801,318.802,318.803,318.805,318.806 ,318.807,318.808,318.811,318.812, 318.74)
ORBIT_NUMBER = 7433
ORBITAL_ECCENTRICITY = 0.571
ORBITAL_INCLINATION = 86.83
ORBITAL_SEMIMAJOR_AXIS = 8722.6
PERIAPSIS_ALTITUDE = 358.19
PERIAPSIS_ARGUMENT_ANGLE = 134.45
PERIAPSIS_TIME = 2009-10-19T09:02:39.000Z
SPACECRAFT_ORIENTATION = (0.0,-1.0,0.0)
^MEX_ORIENTATION_DESC = "MEX_ORIENTATION_DESC.TXT"
SPACECRAFT_POINTING_MODE = ACROSSTRACK
^MEX_POINTING_DESC = "MEX_POINTING_DESC.TXT"
RIGHT_ASCENSION = -1e+32
DECLINATION = -1e+32
OFFSET_ANGLE = 1.05
SPACECRAFT_SOLAR_DISTANCE = 2.31668e+08
TARGET_NAME = MARS
/* CAMERA DATA ELEMENTS */
DETECTOR_TEMPERATURE = 17.5549
FOCAL_PLANE_TEMPERATURE = 8.5833
INST_CMPRS_NAME = "DISCRETE COSINE TRANSFORMATION (DCT)"
INST_CMPRS_RATIO = 12.8282
INST_CMPRS_QUALITY = 0
INST_CMPRS_QUANTZ_TBL_ID = 0
INSTRUMENT_TEMPERATURE = 9.8067
LENS_TEMPERATURE = 9.3989
MACROPIXEL_SIZE = 2
MISSING_FRAMES = 0
PIXEL_SUBSAMPLING_FLAG = N
SIGNAL_CHAIN_ID = 1
/* RADIOMETRIC DATA ELEMENTS */
BANDWIDTH = 180.0
CENTER_FILTER_WAVELENGTH = 677.0
RADIANCE_OFFSET = 4.12971
RADIANCE_SCALING_FACTOR = 0.0180234
REFLECTANCE_SCALING_FACTOR = 0.000504674
MEX:REFLECTANCE_OFFSET = 0.115636
/* IMAGE OBJECT DEFINITIONS */
OBJECT = IMAGE
  INTERCHANGE_FORMAT = BINARY
  LINES = 47137
  LINE_SAMPLES = 4469
  SAMPLE_TYPE = UNSIGNED_INTEGER
  SAMPLE_BITS = 8
  BANDS = 1
  BAND_STORAGE_TYPE = BAND_SEQUENTIAL
  MAXIMUM = 255
  MEAN = 114.605
  MINIMUM = 1
  STANDARD_DEVIATION = 54.0832
END_OBJECT = IMAGE
/* MAP OBJECT DEFINITIONS */
OBJECT = IMAGE_MAP_PROJECTION
  ^DATA_SET_MAP_PROJECTION_CATALOG= "DSMAP.CAT"
  A_AXIS_RADIUS = 3396.0
  B_AXIS_RADIUS = 3396.0
  C_AXIS_RADIUS = 3396.0
  CENTER_LATITUDE = 0.0
  CENTER_LONGITUDE = 318.0
  COORDINATE_SYSTEM_NAME = PLANETOGRAPHIC
  COORDINATE_SYSTEM_TYPE = "BODY-FIXED ROTATING"
  EASTERNMOST_LONGITUDE = 318.812
  FIRST_STANDARD_PARALLEL = "N/A"
  LINE_FIRST_PIXEL = 1
  LINE_LAST_PIXEL = 47137
  LINE_PROJECTION_OFFSET = 87184.75
  MAP_PROJECTION_ROTATION = 0.0
  MAP_PROJECTION_TYPE = SINUSOIDAL
  MAP_RESOLUTION = 2370.85521546667
  MAP_SCALE = 0.025
  MAXIMUM_LATITUDE = 36.8608
  MINIMUM_LATITUDE = 16.8148
  POSITIVE_LONGITUDE_DIRECTION = EAST
  REFERENCE_LATITUDE = "N/A"
  REFERENCE_LONGITUDE = "N/A"
  SAMPLE_FIRST_PIXEL = 1
  SAMPLE_LAST_PIXEL = 4469
  SAMPLE_PROJECTION_OFFSET = 2653.25
  SECOND_STANDARD_PARALLEL = "N/A"
  WESTERNMOST_LONGITUDE = 316.902
END_OBJECT = IMAGE_MAP_PROJECTION
END
