PDS_VERSION_ID = PDS3
/* FILE DATA ELEMENTS */
RECORD_TYPE = UNDEFINED
/* POINTERS TO DATA OBJECTS */
^IMAGE = ("H7433_0000_RE4.TIF")
/* IDENTIFICATION DATA ELEMENTS */
DATA_SET_ID = "MEX-M-HRSC-4-REFDR-MAPPROJECT-EXT3-V4.0"
DATA_SET_NAME = "MARS EXPRESS HRSC MAP PROJECTED REFDR EXTENSION3 V4.0"
DETECTOR_ID = MEX_HRSC_RED
EVENT_TYPE = "MARS-REGIONAL-MAPPING-Fl-Pf-Eo"
INSTRUMENT_HOST_ID = MEX
INSTRUMENT_HOST_NAME = "MARS EXPRESS"
INSTRUMENT_ID = HRSC
INSTRUMENT_NAME = "HIGH RESOLUTION STEREO CAMERA"
MISSION_NAME = "MARS EXPRESS"
MISSION_PHASE_NAME = ME_Phase_18
PROCESSING_LEVEL_ID = 4
PRODUCT_CREATION_TIME = 2023-02-02T15:10:19.000Z
PRODUCT_ID = "H7433_0000_RE4.TIF"
RELEASE_ID = 0003
REVISION_ID = 0000
/* QUALITY DATA ELEMENTS */
DATA_QUALITY_ID = 1
DATA_QUALITY_DESC = "Data calculated based on original SPICE kernels"
/* TIME DATA ELEMENTS */
SPACECRAFT_CLOCK_START_COUNT = "1/0204023058.09036"
SPACECRAFT_CLOCK_STOP_COUNT = "1/0204023471.39253"
START_TIME = 2009-10-19T09:05:23.795Z
STOP_TIME = 2009-10-19T09:11:01.420Z
/* ORBITAL DATA ELEMENTS */
ASCENDING_NODE_LONGITUDE = 75.57
MAXIMUM_RESOLUTION = 0.1285
FOOTPRINT_POINT_LATITUDE = (36.7461,36.7179,36.6952,36.6719, 36.6712,36.7276,36.1702,35.7994,35.4292 ,35.0599,34.6912,33.9559,33.2232, 32.4936,31.767,31.3963,31.0253,30.6552, 30.2859,29.9086,29.343,28.9674,28.5839, 28.2006,27.8181,27.4296,27.0396,26.6508 ,26.2548,25.6614,25.0593,24.6576, 24.0464,23.6386,23.2239,22.8097,22.3904 ,21.9702,21.5445,21.1188,20.6868, 20.0348,19.5966,19.1528,18.7077,18.2573 ,17.8031,17.3469,17.1153,16.8892, 16.9009,16.9149,16.9352,16.9356,16.9384 ,17.3992,17.8572,18.3124,18.7637, 19.2093,19.6541,20.0933,20.5327,20.963, 21.6057,22.0317,22.4528,22.8729,23.2878 ,23.703,24.1115,24.7235,25.1259,25.7286 ,26.3232,26.7195,27.1089,27.4996, 27.8887,28.2718,28.6558,29.0397,29.4161 ,29.9824,30.3606,30.7304,31.101,31.4724 ,31.8434,32.5709,33.3018,34.0357, 34.4036,34.7723,35.1412,35.5099,36.0673 ,36.4392,36.6255,36.7461)
FOOTPRINT_POINT_LONGITUDE = (318.764,318.105,317.606,317.119, 317.104,317.112,317.114,317.116,317.116 ,317.117,317.117,317.117,317.115, 317.112,317.107,317.105,317.102,317.098 ,317.095,317.091,317.085,317.08,317.075 ,317.07,317.064,317.058,317.052,317.045 ,317.038,317.027,317.015,317.006, 316.993,316.983,316.974,316.964,316.953 ,316.942,316.931,316.919,316.907, 316.888,316.874,316.861,316.846,316.832 ,316.816,316.801,316.792,316.784, 317.283,317.928,318.849,318.869,318.883 ,318.879,318.877,318.875,318.872,318.87 ,318.868,318.866,318.867,318.862,318.86 ,318.858,318.857,318.856,318.855, 318.853,318.852,318.851,318.85,318.848, 318.847,318.846,318.846,318.845,318.845 ,318.844,318.843,318.843,318.842, 318.842,318.841,318.841,318.84,318.84, 318.839,318.839,318.838,318.838,318.838 ,318.838,318.837,318.835,318.836, 318.836,318.836,318.764)
ORBIT_NUMBER = 7433
ORBITAL_ECCENTRICITY = 0.571
ORBITAL_INCLINATION = 86.83
ORBITAL_SEMIMAJOR_AXIS = 8722.6
PERIAPSIS_ALTITUDE = 358.19
PERIAPSIS_ARGUMENT_ANGLE = 134.45
PERIAPSIS_TIME = 2009-10-19T09:02:39.000Z
SPACECRAFT_ORIENTATION = (0.0,-1.0,0.0)
^MEX_ORIENTATION_DESC = "MEX_ORIENTATION_DESC.TXT"
SPACECRAFT_POINTING_MODE = ACROSSTRACK
^MEX_POINTING_DESC = "MEX_POINTING_DESC.TXT"
RIGHT_ASCENSION = -1e+32
DECLINATION = -1e+32
OFFSET_ANGLE = 1.05
SPACECRAFT_SOLAR_DISTANCE = 2.31668e+08
TARGET_NAME = MARS
/* CAMERA DATA ELEMENTS */
DETECTOR_TEMPERATURE = 18.7783
FOCAL_PLANE_TEMPERATURE = 8.5833
INST_CMPRS_NAME = "DISCRETE COSINE TRANSFORMATION (DCT)"
INST_CMPRS_RATIO = 28.4546
INST_CMPRS_QUALITY = 0
INST_CMPRS_QUANTZ_TBL_ID = 0
INSTRUMENT_TEMPERATURE = 9.8067
LENS_TEMPERATURE = 9.3989
MACROPIXEL_SIZE = 8
MISSING_FRAMES = 0
PIXEL_SUBSAMPLING_FLAG = N
SIGNAL_CHAIN_ID = 2
/* RADIOMETRIC DATA ELEMENTS */
BANDWIDTH = 48.0
CENTER_FILTER_WAVELENGTH = 748.0
RADIANCE_OFFSET = 1.00819
RADIANCE_SCALING_FACTOR = 0.00524625
REFLECTANCE_SCALING_FACTOR = 0.000642552
MEX:REFLECTANCE_OFFSET = 0.123482
/* IMAGE OBJECT DEFINITIONS */
OBJECT = IMAGE
  INTERCHANGE_FORMAT = BINARY
  LINES = 11785
  LINE_SAMPLES = 1118
  SAMPLE_TYPE = UNSIGNED_INTEGER
  SAMPLE_BITS = 8
  BANDS = 1
  BAND_STORAGE_TYPE = BAND_SEQUENTIAL
  MAXIMUM = 255
  MEAN = 114.584
  MINIMUM = 1
  STANDARD_DEVIATION = 55.2154
END_OBJECT = IMAGE
/* MAP OBJECT DEFINITIONS */
OBJECT = IMAGE_MAP_PROJECTION
  ^DATA_SET_MAP_PROJECTION_CATALOG= "DSMAP.CAT"
  A_AXIS_RADIUS = 3396.0
  B_AXIS_RADIUS = 3396.0
  C_AXIS_RADIUS = 3396.0
  CENTER_LATITUDE = 0.0
  CENTER_LONGITUDE = 318.0
  COORDINATE_SYSTEM_NAME = PLANETOGRAPHIC
  COORDINATE_SYSTEM_TYPE = "BODY-FIXED ROTATING"
  EASTERNMOST_LONGITUDE = 318.883
  FIRST_STANDARD_PARALLEL = "N/A"
  LINE_FIRST_PIXEL = 1
  LINE_LAST_PIXEL = 11785
  LINE_PROJECTION_OFFSET = 21795.8125
  MAP_PROJECTION_ROTATION = 0.0
  MAP_PROJECTION_TYPE = SINUSOIDAL
  MAP_RESOLUTION = 592.713803866667
  MAP_SCALE = 0.1
  MAXIMUM_LATITUDE = 36.7461
  MINIMUM_LATITUDE = 16.8892
  POSITIVE_LONGITUDE_DIRECTION = EAST
  REFERENCE_LATITUDE = "N/A"
  REFERENCE_LONGITUDE = "N/A"
  SAMPLE_FIRST_PIXEL = 1
  SAMPLE_LAST_PIXEL = 1118
  SAMPLE_PROJECTION_OFFSET = 662.9375
  SECOND_STANDARD_PARALLEL = "N/A"
  WESTERNMOST_LONGITUDE = 316.784
END_OBJECT = IMAGE_MAP_PROJECTION
END
