PDS_VERSION_ID = PDS3
/* FILE DATA ELEMENTS */
RECORD_TYPE = UNDEFINED
/* POINTERS TO DATA OBJECTS */
^IMAGE = ("H7432_0000_P14.TIF")
/* IDENTIFICATION DATA ELEMENTS */
DATA_SET_ID = "MEX-M-HRSC-4-REFDR-MAPPROJECT-EXT3-V4.0"
DATA_SET_NAME = "MARS EXPRESS HRSC MAP PROJECTED REFDR EXTENSION3 V4.0"
DETECTOR_ID = MEX_HRSC_P1
EVENT_TYPE = "MARS-REGIONAL-MAPPING-Te-Fl-Gl"
INSTRUMENT_HOST_ID = MEX
INSTRUMENT_HOST_NAME = "MARS EXPRESS"
INSTRUMENT_ID = HRSC
INSTRUMENT_NAME = "HIGH RESOLUTION STEREO CAMERA"
MISSION_NAME = "MARS EXPRESS"
MISSION_PHASE_NAME = ME_Phase_18
PROCESSING_LEVEL_ID = 4
PRODUCT_CREATION_TIME = 2023-02-02T15:10:19.000Z
PRODUCT_ID = "H7432_0000_P14.TIF"
RELEASE_ID = 0003
REVISION_ID = 0000
/* QUALITY DATA ELEMENTS */
DATA_QUALITY_ID = 1
DATA_QUALITY_DESC = "Data calculated based on original SPICE kernels"
/* TIME DATA ELEMENTS */
SPACECRAFT_CLOCK_START_COUNT = "1/0203998197.07288"
SPACECRAFT_CLOCK_STOP_COUNT = "1/0203998580.32823"
START_TIME = 2009-10-19T02:10:10.595Z
STOP_TIME = 2009-10-19T02:15:00.710Z
/* ORBITAL DATA ELEMENTS */
ASCENDING_NODE_LONGITUDE = 75.59
MAXIMUM_RESOLUTION = 0.0298
FOOTPRINT_POINT_LATITUDE = (39.0659,39.0506,39.0356,39.0196,39.019 ,38.9791,38.3482,37.8742,37.5562, 37.2354,36.7553,36.4379,35.8125,35.2883 ,34.913,34.5346,34.155,33.7752,33.2033, 32.6358,32.2565,31.8791,31.5006,31.1231 ,30.7446,30.3675,29.8018,29.4222, 29.0481,28.6687,28.1054,27.7296,27.3557 ,26.7775,26.3909,26.0076,25.6211, 25.2285,24.8395,24.446,24.0457,23.6427, 23.2401,22.832,22.42,22.008,21.3795, 20.9599,20.5337,20.3186,20.3105,20.3196 ,20.3235,20.3205,20.3203,20.3209, 20.7514,21.1661,21.5887,22.0149,22.4264 ,22.8397,23.2498,23.6527,24.0565, 24.4597,24.8539,25.4453,26.0285,26.4159 ,26.8012,27.1856,27.75,28.3152,28.8806, 29.2578,29.6358,30.0135,30.58,30.9599, 31.5282,31.9067,32.4743,32.8534,33.2329 ,33.6119,34.1845,34.5662,34.9467, 35.3226,35.9981,36.4775,36.7967,37.1149 ,37.4336,37.7506,38.386,38.8637,39.0215 ,39.0659)
FOOTPRINT_POINT_LONGITUDE = (57.8353,57.2075,56.7146,56.2649, 56.2493,56.2136,56.2422,56.2619,56.2731 ,56.2817,56.2948,56.3052,56.3317, 56.3427,56.3555,56.3653,56.3738,56.3816 ,56.3937,56.4047,56.4107,56.4175,56.423 ,56.4286,56.433,56.4378,56.4439,56.4456 ,56.4506,56.4514,56.4555,56.4573, 56.4598,56.457,56.4565,56.4575,56.4565, 56.4569,56.459,56.4575,56.4554,56.4529, 56.4501,56.4468,56.4429,56.4383,56.4312 ,56.4262,56.4204,56.4169,56.4168, 56.8895,57.4581,58.1258,58.1425,58.1485 ,58.1441,58.1425,58.1377,58.131,58.1269 ,58.1222,58.1175,58.1132,58.1086, 58.1033,58.0987,58.092,58.0851,58.0796, 58.0749,58.0701,58.0626,58.0548,58.0469 ,58.0414,58.0357,58.03,58.0213,58.0147, 58.0051,57.9988,57.9892,57.9824,57.9754 ,57.9684,57.9576,57.9493,57.9414, 57.9349,57.9223,57.911,57.9035,57.8962, 57.8886,57.8814,57.8662,57.8539,57.8503 ,57.8353)
ORBIT_NUMBER = 7432
ORBITAL_ECCENTRICITY = 0.571
ORBITAL_INCLINATION = 86.83
ORBITAL_SEMIMAJOR_AXIS = 8729.97
PERIAPSIS_ALTITUDE = 357.67
PERIAPSIS_ARGUMENT_ANGLE = 134.63
PERIAPSIS_TIME = 2009-10-19T02:08:54.000Z
SPACECRAFT_ORIENTATION = (0.0,-1.0,0.0)
^MEX_ORIENTATION_DESC = "MEX_ORIENTATION_DESC.TXT"
SPACECRAFT_POINTING_MODE = ACROSSTRACK
^MEX_POINTING_DESC = "MEX_POINTING_DESC.TXT"
RIGHT_ASCENSION = -1e+32
DECLINATION = -1e+32
OFFSET_ANGLE = -0.25
SPACECRAFT_SOLAR_DISTANCE = 2.31614e+08
TARGET_NAME = MARS
/* CAMERA DATA ELEMENTS */
DETECTOR_TEMPERATURE = 16.9432
FOCAL_PLANE_TEMPERATURE = 7.9716
INST_CMPRS_NAME = "DISCRETE COSINE TRANSFORMATION (DCT)"
INST_CMPRS_RATIO = 13.0282
INST_CMPRS_QUALITY = 0
INST_CMPRS_QUANTZ_TBL_ID = 0
INSTRUMENT_TEMPERATURE = 11.234
LENS_TEMPERATURE = 8.3794
MACROPIXEL_SIZE = 2
MISSING_FRAMES = 1
PIXEL_SUBSAMPLING_FLAG = N
SIGNAL_CHAIN_ID = 3
/* RADIOMETRIC DATA ELEMENTS */
BANDWIDTH = 174.0
CENTER_FILTER_WAVELENGTH = 675.0
RADIANCE_OFFSET = 3.65696
RADIANCE_SCALING_FACTOR = 0.0248939
REFLECTANCE_SCALING_FACTOR = 0.0007183
MEX:REFLECTANCE_OFFSET = 0.10552
/* IMAGE OBJECT DEFINITIONS */
OBJECT = IMAGE
  INTERCHANGE_FORMAT = BINARY
  LINES = 44378
  LINE_SAMPLES = 4084
  SAMPLE_TYPE = UNSIGNED_INTEGER
  SAMPLE_BITS = 8
  BANDS = 1
  BAND_STORAGE_TYPE = BAND_SEQUENTIAL
  MAXIMUM = 255
  MEAN = 160.63
  MINIMUM = 1
  STANDARD_DEVIATION = 34.1259
END_OBJECT = IMAGE
/* MAP OBJECT DEFINITIONS */
OBJECT = IMAGE_MAP_PROJECTION
  ^DATA_SET_MAP_PROJECTION_CATALOG= "DSMAP.CAT"
  A_AXIS_RADIUS = 3396.0
  B_AXIS_RADIUS = 3396.0
  C_AXIS_RADIUS = 3396.0
  CENTER_LATITUDE = 0.0
  CENTER_LONGITUDE = 57.0
  COORDINATE_SYSTEM_NAME = PLANETOGRAPHIC
  COORDINATE_SYSTEM_TYPE = "BODY-FIXED ROTATING"
  EASTERNMOST_LONGITUDE = 58.1485
  FIRST_STANDARD_PARALLEL = "N/A"
  LINE_FIRST_PIXEL = 1
  LINE_LAST_PIXEL = 44378
  LINE_PROJECTION_OFFSET = 92528.75
  MAP_PROJECTION_ROTATION = 0.0
  MAP_PROJECTION_TYPE = SINUSOIDAL
  MAP_RESOLUTION = 2370.85521546667
  MAP_SCALE = 0.025
  MAXIMUM_LATITUDE = 39.0659
  MINIMUM_LATITUDE = 20.3105
  POSITIVE_LONGITUDE_DIRECTION = EAST
  REFERENCE_LATITUDE = "N/A"
  REFERENCE_LONGITUDE = "N/A"
  SAMPLE_FIRST_PIXEL = 1
  SAMPLE_LAST_PIXEL = 4084
  SAMPLE_PROJECTION_OFFSET = 1461.25
  SECOND_STANDARD_PARALLEL = "N/A"
  WESTERNMOST_LONGITUDE = 56.2136
END_OBJECT = IMAGE_MAP_PROJECTION
END
