PDS_VERSION_ID = PDS3
/* FILE DATA ELEMENTS */
RECORD_TYPE = UNDEFINED
/* POINTERS TO DATA OBJECTS */
^IMAGE = ("H7425_0000_S14.TIF")
/* IDENTIFICATION DATA ELEMENTS */
DATA_SET_ID = "MEX-M-HRSC-4-REFDR-MAPPROJECT-EXT3-V4.0"
DATA_SET_NAME = "MARS EXPRESS HRSC MAP PROJECTED REFDR EXTENSION3 V4.0"
DETECTOR_ID = MEX_HRSC_S1
EVENT_TYPE = "MARS-REGIONAL-MAPPING-Im-Fl-Pf"
INSTRUMENT_HOST_ID = MEX
INSTRUMENT_HOST_NAME = "MARS EXPRESS"
INSTRUMENT_ID = HRSC
INSTRUMENT_NAME = "HIGH RESOLUTION STEREO CAMERA"
MISSION_NAME = "MARS EXPRESS"
MISSION_PHASE_NAME = ME_Phase_18
PROCESSING_LEVEL_ID = 4
PRODUCT_CREATION_TIME = 2023-02-02T15:10:19.000Z
PRODUCT_ID = "H7425_0000_S14.TIF"
RELEASE_ID = 0003
REVISION_ID = 0000
/* QUALITY DATA ELEMENTS */
DATA_QUALITY_ID = 1
DATA_QUALITY_DESC = "Data calculated based on original SPICE kernels"
/* TIME DATA ELEMENTS */
SPACECRAFT_CLOCK_START_COUNT = "1/0203824530.09042"
SPACECRAFT_CLOCK_STOP_COUNT = "1/0203824900.34448"
START_TIME = 2009-10-17T01:55:32.646Z
STOP_TIME = 2009-10-17T01:59:50.351Z
/* ORBITAL DATA ELEMENTS */
ASCENDING_NODE_LONGITUDE = 75.73
MAXIMUM_RESOLUTION = 0.0323
FOOTPRINT_POINT_LATITUDE = (30.5952,30.5824,30.5669,30.5447, 30.5441,30.5085,30.0437,29.7322,29.4194 ,29.1073,28.6388,28.327,28.0158,27.5488 ,27.2367,26.9253,26.6149,26.3036, 25.6817,25.2164,24.7413,24.2642,23.9414 ,23.6288,23.3032,22.9774,22.4882, 21.9926,21.6586,21.326,20.9922,20.65, 20.137,19.6147,19.089,18.7375,18.204, 17.8477,17.4894,17.1258,16.7617,16.3995 ,16.0363,15.4933,14.9487,14.4075, 14.0457,13.8653,13.8236,13.8357,13.8426 ,13.846,13.846,13.8466,14.2083,14.5701, 14.9327,15.2942,15.6568,16.0207,16.5667 ,16.9326,17.2965,17.8392,18.1994, 18.5557,18.9087,19.2599,19.6102,20.1292 ,20.6459,21.1577,21.4915,21.8258, 22.1601,22.489,22.8147,23.3041,23.6306, 23.9492,24.2689,24.5859,24.9052,25.3774 ,25.6884,26.1522,26.7802,27.0912, 27.4033,27.7161,28.0291,28.3407,28.6527 ,28.9652,29.2769,29.5904,30.0596, 30.3719,30.5272,30.5952)
FOOTPRINT_POINT_LONGITUDE = (43.8109,43.3411,42.8672,42.2987, 42.2837,42.2604,42.2686,42.2728,42.276, 42.2794,42.2836,42.2864,42.2891,42.2926 ,42.2942,42.2958,42.2977,42.2988, 42.3004,42.3014,42.3014,42.3014,42.2987 ,42.3007,42.2997,42.2987,42.2962, 42.2928,42.2904,42.2884,42.2854,42.2817 ,42.276,42.269,42.2613,42.2552,42.2473, 42.2417,42.2358,42.2297,42.2229,42.2166 ,42.2094,42.1985,42.186,42.174,42.165, 42.1606,42.1596,42.8243,43.4833,43.9787 ,43.9964,44.0027,44.0,43.9972,43.9944, 43.9918,43.989,43.986,43.9815,43.9782, 43.9753,43.9706,43.967,43.964,43.9608, 43.9573,43.954,43.9489,43.9441,43.9387, 43.9354,43.932,43.9286,43.9252,43.9218, 43.9165,43.9129,43.9093,43.9055,43.902, 43.8982,43.8923,43.8884,43.8829,43.8738 ,43.8696,43.8652,43.8606,43.8559, 43.8514,43.8467,43.8419,43.8371,43.8319 ,43.8242,43.819,43.8165,43.8109)
ORBIT_NUMBER = 7425
ORBITAL_ECCENTRICITY = 0.571
ORBITAL_INCLINATION = 86.82
ORBITAL_SEMIMAJOR_AXIS = 8731.62
PERIAPSIS_ALTITUDE = 357.22
PERIAPSIS_ARGUMENT_ANGLE = 135.85
PERIAPSIS_TIME = 2009-10-17T01:52:37.000Z
SPACECRAFT_ORIENTATION = (0.0,-1.0,0.0)
^MEX_ORIENTATION_DESC = "MEX_ORIENTATION_DESC.TXT"
SPACECRAFT_POINTING_MODE = ACROSSTRACK
^MEX_POINTING_DESC = "MEX_POINTING_DESC.TXT"
RIGHT_ASCENSION = -1e+32
DECLINATION = -1e+32
OFFSET_ANGLE = -0.38
SPACECRAFT_SOLAR_DISTANCE = 2.31233e+08
TARGET_NAME = MARS
/* CAMERA DATA ELEMENTS */
DETECTOR_TEMPERATURE = 17.1471
FOCAL_PLANE_TEMPERATURE = 8.3794
INST_CMPRS_NAME = "DISCRETE COSINE TRANSFORMATION (DCT)"
INST_CMPRS_RATIO = 13.4259
INST_CMPRS_QUALITY = 0
INST_CMPRS_QUANTZ_TBL_ID = 0
INSTRUMENT_TEMPERATURE = 11.234
LENS_TEMPERATURE = 8.5833
MACROPIXEL_SIZE = 2
MISSING_FRAMES = 1
PIXEL_SUBSAMPLING_FLAG = N
SIGNAL_CHAIN_ID = 1
/* RADIOMETRIC DATA ELEMENTS */
BANDWIDTH = 180.0
CENTER_FILTER_WAVELENGTH = 677.0
RADIANCE_OFFSET = 6.69338
RADIANCE_SCALING_FACTOR = 0.0181152
REFLECTANCE_SCALING_FACTOR = 0.000505344
MEX:REFLECTANCE_OFFSET = 0.186719
/* IMAGE OBJECT DEFINITIONS */
OBJECT = IMAGE
  INTERCHANGE_FORMAT = BINARY
  LINES = 39624
  LINE_SAMPLES = 4528
  SAMPLE_TYPE = UNSIGNED_INTEGER
  SAMPLE_BITS = 8
  BANDS = 1
  BAND_STORAGE_TYPE = BAND_SEQUENTIAL
  MAXIMUM = 255
  MEAN = 152.761
  MINIMUM = 1
  STANDARD_DEVIATION = 29.8063
END_OBJECT = IMAGE
/* MAP OBJECT DEFINITIONS */
OBJECT = IMAGE_MAP_PROJECTION
  ^DATA_SET_MAP_PROJECTION_CATALOG= "DSMAP.CAT"
  A_AXIS_RADIUS = 3396.0
  B_AXIS_RADIUS = 3396.0
  C_AXIS_RADIUS = 3396.0
  CENTER_LATITUDE = 0.0
  CENTER_LONGITUDE = 43.0
  COORDINATE_SYSTEM_NAME = PLANETOGRAPHIC
  COORDINATE_SYSTEM_TYPE = "BODY-FIXED ROTATING"
  EASTERNMOST_LONGITUDE = 44.0027
  FIRST_STANDARD_PARALLEL = "N/A"
  LINE_FIRST_PIXEL = 1
  LINE_LAST_PIXEL = 39624
  LINE_PROJECTION_OFFSET = 72407.25
  MAP_PROJECTION_ROTATION = 0.0
  MAP_PROJECTION_TYPE = SINUSOIDAL
  MAP_RESOLUTION = 2370.85521546667
  MAP_SCALE = 0.025
  MAXIMUM_LATITUDE = 30.5952
  MINIMUM_LATITUDE = 13.8236
  POSITIVE_LONGITUDE_DIRECTION = EAST
  REFERENCE_LATITUDE = "N/A"
  REFERENCE_LONGITUDE = "N/A"
  SAMPLE_FIRST_PIXEL = 1
  SAMPLE_LAST_PIXEL = 4528
  SAMPLE_PROJECTION_OFFSET = 2081.75
  SECOND_STANDARD_PARALLEL = "N/A"
  WESTERNMOST_LONGITUDE = 42.1596
END_OBJECT = IMAGE_MAP_PROJECTION
END
