PDS_VERSION_ID = PDS3
/* FILE DATA ELEMENTS */
RECORD_TYPE = UNDEFINED
/* POINTERS TO DATA OBJECTS */
^IMAGE = ("H7424_0000_P24.TIF")
/* IDENTIFICATION DATA ELEMENTS */
DATA_SET_ID = "MEX-M-HRSC-4-REFDR-MAPPROJECT-EXT3-V4.0"
DATA_SET_NAME = "MARS EXPRESS HRSC MAP PROJECTED REFDR EXTENSION3 V4.0"
DETECTOR_ID = MEX_HRSC_P2
EVENT_TYPE = "MARS-REGIONAL-MAPPING-Vo-Te-Fl"
INSTRUMENT_HOST_ID = MEX
INSTRUMENT_HOST_NAME = "MARS EXPRESS"
INSTRUMENT_ID = HRSC
INSTRUMENT_NAME = "HIGH RESOLUTION STEREO CAMERA"
MISSION_NAME = "MARS EXPRESS"
MISSION_PHASE_NAME = ME_Phase_18
PROCESSING_LEVEL_ID = 4
PRODUCT_CREATION_TIME = 2023-02-02T15:10:19.000Z
PRODUCT_ID = "H7424_0000_P24.TIF"
RELEASE_ID = 0003
REVISION_ID = 0000
/* QUALITY DATA ELEMENTS */
DATA_QUALITY_ID = 1
DATA_QUALITY_DESC = "Data calculated based on original SPICE kernels"
/* TIME DATA ELEMENTS */
SPACECRAFT_CLOCK_START_COUNT = "1/0203799634.09050"
SPACECRAFT_CLOCK_STOP_COUNT = "1/0203799972.21194"
START_TIME = 2009-10-16T19:01:33.386Z
STOP_TIME = 2009-10-16T19:05:54.513Z
/* ORBITAL DATA ELEMENTS */
ASCENDING_NODE_LONGITUDE = 75.75
MAXIMUM_RESOLUTION = 0.0314
FOOTPRINT_POINT_LATITUDE = (34.9784,34.9846,34.9898,34.9943, 34.9944,35.038,34.5832,34.2808,33.8272, 33.5254,33.2241,32.7721,32.4709,32.1695 ,31.869,31.5688,30.9714,30.6703,30.0741 ,29.4798,29.1772,28.8738,28.5713, 28.1176,27.8114,27.3519,27.0415,26.7326 ,26.4195,26.1053,25.7924,25.4801, 25.1611,24.6832,24.3656,24.0414,23.7173 ,23.394,23.0662,22.7368,22.4082,22.0753 ,21.7407,21.2371,20.8966,20.5575, 20.0418,19.5232,19.3482,19.3036,19.2939 ,19.2786,19.2668,19.2503,19.2497, 19.2501,19.6012,20.119,20.4648,20.8047, 21.1453,21.4838,21.8188,22.3213,22.6505 ,22.9806,23.3101,23.6339,23.9583, 24.2827,24.6013,24.9202,25.2393,25.5569 ,25.87,26.3414,26.6561,26.9642,27.2729, 27.5825,28.0444,28.3471,28.6504,29.1066 ,29.7086,30.1566,30.7546,31.3549, 31.8058,32.1077,32.4091,32.7116,33.0139 ,33.3169,33.6193,34.0732,34.3761, 34.8314,34.9835,34.9784)
FOOTPRINT_POINT_LONGITUDE = (143.961,143.469,142.966,142.354, 142.338,142.272,142.289,142.299,142.314 ,142.324,142.333,142.348,142.357, 142.367,142.376,142.385,142.399,142.41, 142.424,142.437,142.443,142.448,142.452 ,142.459,142.464,142.465,142.471, 142.475,142.478,142.48,142.482,142.483, 142.483,142.484,142.484,142.483,142.483 ,142.482,142.481,142.479,142.477, 142.475,142.472,142.468,142.465,142.461 ,142.454,142.447,142.444,142.444, 142.799,143.333,143.733,144.307,144.325 ,144.331,144.325,144.316,144.309, 144.303,144.297,144.291,144.284,144.275 ,144.268,144.262,144.255,144.249, 144.242,144.235,144.229,144.222,144.215 ,144.209,144.202,144.191,144.184, 144.177,144.17,144.163,144.152,144.144, 144.137,144.125,144.11,144.097,144.081, 144.064,144.051,144.042,144.033,144.024 ,144.015,144.005,143.996,143.981, 143.972,143.957,143.952,143.961)
ORBIT_NUMBER = 7424
ORBITAL_ECCENTRICITY = 0.571
ORBITAL_INCLINATION = 86.81
ORBITAL_SEMIMAJOR_AXIS = 8729.1
PERIAPSIS_ALTITUDE = 357.6
PERIAPSIS_ARGUMENT_ANGLE = 136.02
PERIAPSIS_TIME = 2009-10-16T18:58:53.000Z
SPACECRAFT_ORIENTATION = (0.0,-1.0,0.0)
^MEX_ORIENTATION_DESC = "MEX_ORIENTATION_DESC.TXT"
SPACECRAFT_POINTING_MODE = ACROSSTRACK
^MEX_POINTING_DESC = "MEX_POINTING_DESC.TXT"
RIGHT_ASCENSION = -1e+32
DECLINATION = -1e+32
OFFSET_ANGLE = -0.9
SPACECRAFT_SOLAR_DISTANCE = 2.31179e+08
TARGET_NAME = MARS
/* CAMERA DATA ELEMENTS */
DETECTOR_TEMPERATURE = 18.5744
FOCAL_PLANE_TEMPERATURE = 8.5833
INST_CMPRS_NAME = "DISCRETE COSINE TRANSFORMATION (DCT)"
INST_CMPRS_RATIO = 7.21102
INST_CMPRS_QUALITY = 0
INST_CMPRS_QUANTZ_TBL_ID = 0
INSTRUMENT_TEMPERATURE = 11.234
LENS_TEMPERATURE = 8.7872
MACROPIXEL_SIZE = 2
MISSING_FRAMES = 0
PIXEL_SUBSAMPLING_FLAG = N
SIGNAL_CHAIN_ID = 3
/* RADIOMETRIC DATA ELEMENTS */
BANDWIDTH = 177.0
CENTER_FILTER_WAVELENGTH = 676.5
RADIANCE_OFFSET = 3.79076
RADIANCE_SCALING_FACTOR = 0.0326515
REFLECTANCE_SCALING_FACTOR = 0.000925244
MEX:REFLECTANCE_OFFSET = 0.107419
/* IMAGE OBJECT DEFINITIONS */
OBJECT = IMAGE
  INTERCHANGE_FORMAT = BINARY
  LINES = 37373
  LINE_SAMPLES = 4262
  SAMPLE_TYPE = UNSIGNED_INTEGER
  SAMPLE_BITS = 8
  BANDS = 1
  BAND_STORAGE_TYPE = BAND_SEQUENTIAL
  MAXIMUM = 255
  MEAN = 144.509
  MINIMUM = 1
  STANDARD_DEVIATION = 23.5865
END_OBJECT = IMAGE
/* MAP OBJECT DEFINITIONS */
OBJECT = IMAGE_MAP_PROJECTION
  ^DATA_SET_MAP_PROJECTION_CATALOG= "DSMAP.CAT"
  A_AXIS_RADIUS = 3396.0
  B_AXIS_RADIUS = 3396.0
  C_AXIS_RADIUS = 3396.0
  CENTER_LATITUDE = 0.0
  CENTER_LONGITUDE = 143.0
  COORDINATE_SYSTEM_NAME = PLANETOGRAPHIC
  COORDINATE_SYSTEM_TYPE = "BODY-FIXED ROTATING"
  EASTERNMOST_LONGITUDE = 144.331
  FIRST_STANDARD_PARALLEL = "N/A"
  LINE_FIRST_PIXEL = 1
  LINE_LAST_PIXEL = 37373
  LINE_PROJECTION_OFFSET = 83088.75
  MAP_PROJECTION_ROTATION = 0.0
  MAP_PROJECTION_TYPE = SINUSOIDAL
  MAP_RESOLUTION = 2370.85521546667
  MAP_SCALE = 0.025
  MAXIMUM_LATITUDE = 35.038
  MINIMUM_LATITUDE = 19.2497
  POSITIVE_LONGITUDE_DIRECTION = EAST
  REFERENCE_LATITUDE = "N/A"
  REFERENCE_LONGITUDE = "N/A"
  SAMPLE_FIRST_PIXEL = 1
  SAMPLE_LAST_PIXEL = 4262
  SAMPLE_PROJECTION_OFFSET = 1374.25
  SECOND_STANDARD_PARALLEL = "N/A"
  WESTERNMOST_LONGITUDE = 142.272
END_OBJECT = IMAGE_MAP_PROJECTION
END
