PDS_VERSION_ID = PDS3
/* FILE DATA ELEMENTS */
RECORD_TYPE = UNDEFINED
/* POINTERS TO DATA OBJECTS */
^IMAGE = ("H7422_0000_S14.TIF")
/* IDENTIFICATION DATA ELEMENTS */
DATA_SET_ID = "MEX-M-HRSC-4-REFDR-MAPPROJECT-EXT3-V4.0"
DATA_SET_NAME = "MARS EXPRESS HRSC MAP PROJECTED REFDR EXTENSION3 V4.0"
DETECTOR_ID = MEX_HRSC_S1
EVENT_TYPE = "MARS-LOCAL-STEREO-Im-Lc-La"
INSTRUMENT_HOST_ID = MEX
INSTRUMENT_HOST_NAME = "MARS EXPRESS"
INSTRUMENT_ID = HRSC
INSTRUMENT_NAME = "HIGH RESOLUTION STEREO CAMERA"
MISSION_NAME = "MARS EXPRESS"
MISSION_PHASE_NAME = ME_Phase_18
PROCESSING_LEVEL_ID = 4
PRODUCT_CREATION_TIME = 2023-02-02T15:10:19.000Z
PRODUCT_ID = "H7422_0000_S14.TIF"
RELEASE_ID = 0003
REVISION_ID = 0000
/* QUALITY DATA ELEMENTS */
DATA_QUALITY_ID = 1
DATA_QUALITY_DESC = "Data calculated based on original SPICE kernels"
/* TIME DATA ELEMENTS */
SPACECRAFT_CLOCK_START_COUNT = "1/0203750105.07286"
SPACECRAFT_CLOCK_STOP_COUNT = "1/0203750303.06382"
START_TIME = 2009-10-16T05:15:07.589Z
STOP_TIME = 2009-10-16T05:16:52.078Z
/* ORBITAL DATA ELEMENTS */
ASCENDING_NODE_LONGITUDE = 75.79
MAXIMUM_RESOLUTION = 0.017
FOOTPRINT_POINT_LATITUDE = (26.6362,26.6322,26.6276,26.6223, 26.6162,26.6094,26.5999,26.5994,26.5548 ,26.2278,25.9023,25.5762,25.3794, 25.1183,24.9226,24.662,24.4638,24.2632, 24.129,23.9276,23.7933,23.5257,23.3922, 23.2581,23.1243,22.9873,22.8495,22.7118 ,22.574,22.4362,22.2972,22.1603,22.0225 ,21.8164,21.6774,21.5354,21.3937, 21.2531,21.1134,20.9745,20.7647,20.6247 ,20.4848,20.3427,20.1984,20.055,19.8401 ,19.7689,19.765,19.7671,19.7693,19.771, 19.7738,19.7784,19.7825,19.7854,19.7866 ,19.7867,19.7871,19.9313,20.0754, 20.2195,20.3635,20.5074,20.6481,20.789, 21.0,21.2113,21.3522,21.4935,21.6353, 21.7764,21.9133,22.0479,22.1862,22.3946 ,22.532,22.6699,22.8769,23.0148,23.1513 ,23.2854,23.4197,23.5537,23.6882, 23.8228,23.9563,24.0909,24.2923,24.494, 24.7581,25.019,25.2809,25.5422,25.8703, 26.1322,26.3287,26.5249,26.5905, 26.6362)
FOOTPRINT_POINT_LONGITUDE = (346.529,346.287,346.045,345.801, 345.557,345.311,345.003,344.988,344.96, 344.961,344.962,344.963,344.963,344.963 ,344.964,344.964,344.964,344.963, 344.963,344.962,344.962,344.961,344.961 ,344.96,344.96,344.959,344.958,344.957, 344.956,344.955,344.953,344.952,344.951 ,344.949,344.948,344.946,344.944, 344.943,344.942,344.942,344.94,344.939, 344.937,344.936,344.935,344.933,344.931 ,344.93,344.93,345.08,345.295,345.527, 345.693,345.942,346.222,346.436,346.583 ,346.6,346.608,346.607,346.605,346.604, 346.603,346.602,346.6,346.599,346.597, 346.595,346.594,346.592,346.591,346.589 ,346.588,346.587,346.586,346.583, 346.582,346.581,346.578,346.577,346.576 ,346.574,346.573,346.572,346.57,346.569 ,346.567,346.566,346.564,346.561, 346.559,346.556,346.553,346.55,346.546, 346.543,346.541,346.538,346.538, 346.529)
ORBIT_NUMBER = 7422
ORBITAL_ECCENTRICITY = 0.571
ORBITAL_INCLINATION = 86.83
ORBITAL_SEMIMAJOR_AXIS = 8726.44
PERIAPSIS_ALTITUDE = 356.98
PERIAPSIS_ARGUMENT_ANGLE = 136.34
PERIAPSIS_TIME = 2009-10-16T05:11:19.000Z
SPACECRAFT_ORIENTATION = (0.0,-1.0,0.0)
^MEX_ORIENTATION_DESC = "MEX_ORIENTATION_DESC.TXT"
SPACECRAFT_POINTING_MODE = ACROSSTRACK
^MEX_POINTING_DESC = "MEX_POINTING_DESC.TXT"
RIGHT_ASCENSION = -1e+32
DECLINATION = -1e+32
OFFSET_ANGLE = -0.3
SPACECRAFT_SOLAR_DISTANCE = 2.3107e+08
TARGET_NAME = MARS
/* CAMERA DATA ELEMENTS */
DETECTOR_TEMPERATURE = 17.5549
FOCAL_PLANE_TEMPERATURE = 8.7872
INST_CMPRS_NAME = "DISCRETE COSINE TRANSFORMATION (DCT)"
INST_CMPRS_RATIO = 8.3184
INST_CMPRS_QUALITY = 0
INST_CMPRS_QUANTZ_TBL_ID = 0
INSTRUMENT_TEMPERATURE = 11.4379
LENS_TEMPERATURE = 9.195
MACROPIXEL_SIZE = 1
MISSING_FRAMES = 0
PIXEL_SUBSAMPLING_FLAG = N
SIGNAL_CHAIN_ID = 2
/* RADIOMETRIC DATA ELEMENTS */
BANDWIDTH = 180.0
CENTER_FILTER_WAVELENGTH = 677.0
RADIANCE_OFFSET = 4.48908
RADIANCE_SCALING_FACTOR = 0.0234723
REFLECTANCE_SCALING_FACTOR = 0.000653864
MEX:REFLECTANCE_OFFSET = 0.125052
/* IMAGE OBJECT DEFINITIONS */
OBJECT = IMAGE
  INTERCHANGE_FORMAT = BINARY
  LINES = 32239
  LINE_SAMPLES = 7854
  SAMPLE_TYPE = UNSIGNED_INTEGER
  SAMPLE_BITS = 8
  BANDS = 1
  BAND_STORAGE_TYPE = BAND_SEQUENTIAL
  MAXIMUM = 255
  MEAN = 104.126
  MINIMUM = 1
  STANDARD_DEVIATION = 29.3757
END_OBJECT = IMAGE
/* MAP OBJECT DEFINITIONS */
OBJECT = IMAGE_MAP_PROJECTION
  ^DATA_SET_MAP_PROJECTION_CATALOG= "DSMAP.CAT"
  A_AXIS_RADIUS = 3396.0
  B_AXIS_RADIUS = 3396.0
  C_AXIS_RADIUS = 3396.0
  CENTER_LATITUDE = 0.0
  CENTER_LONGITUDE = 346.0
  COORDINATE_SYSTEM_NAME = PLANETOGRAPHIC
  COORDINATE_SYSTEM_TYPE = "BODY-FIXED ROTATING"
  EASTERNMOST_LONGITUDE = 346.608
  FIRST_STANDARD_PARALLEL = "N/A"
  LINE_FIRST_PIXEL = 1
  LINE_LAST_PIXEL = 32239
  LINE_PROJECTION_OFFSET = 126068.0
  MAP_PROJECTION_ROTATION = 0.0
  MAP_PROJECTION_TYPE = SINUSOIDAL
  MAP_RESOLUTION = 4741.71043093333
  MAP_SCALE = 0.0125
  MAXIMUM_LATITUDE = 26.6362
  MINIMUM_LATITUDE = 19.765
  POSITIVE_LONGITUDE_DIRECTION = EAST
  REFERENCE_LATITUDE = "N/A"
  REFERENCE_LONGITUDE = "N/A"
  SAMPLE_FIRST_PIXEL = 1
  SAMPLE_LAST_PIXEL = 7854
  SAMPLE_PROJECTION_OFFSET = 4961.0
  SECOND_STANDARD_PARALLEL = "N/A"
  WESTERNMOST_LONGITUDE = 344.93
END_OBJECT = IMAGE_MAP_PROJECTION
END
