PDS_VERSION_ID = PDS3
/* FILE DATA ELEMENTS */
RECORD_TYPE = UNDEFINED
/* POINTERS TO DATA OBJECTS */
^IMAGE = ("H7420_0000_P24.TIF")
/* IDENTIFICATION DATA ELEMENTS */
DATA_SET_ID = "MEX-M-HRSC-4-REFDR-MAPPROJECT-EXT3-V4.0"
DATA_SET_NAME = "MARS EXPRESS HRSC MAP PROJECTED REFDR EXTENSION3 V4.0"
DETECTOR_ID = MEX_HRSC_P2
EVENT_TYPE = "MARS-REGIONAL-MAPPING-Vo-Te-Pf"
INSTRUMENT_HOST_ID = MEX
INSTRUMENT_HOST_NAME = "MARS EXPRESS"
INSTRUMENT_ID = HRSC
INSTRUMENT_NAME = "HIGH RESOLUTION STEREO CAMERA"
MISSION_NAME = "MARS EXPRESS"
MISSION_PHASE_NAME = ME_Phase_18
PROCESSING_LEVEL_ID = 4
PRODUCT_CREATION_TIME = 2023-02-02T15:10:19.000Z
PRODUCT_ID = "H7420_0000_P24.TIF"
RELEASE_ID = 0003
REVISION_ID = 0000
/* QUALITY DATA ELEMENTS */
DATA_QUALITY_ID = 1
DATA_QUALITY_DESC = "Data calculated based on original SPICE kernels"
/* TIME DATA ELEMENTS */
SPACECRAFT_CLOCK_START_COUNT = "1/0203700153.07300"
SPACECRAFT_CLOCK_STOP_COUNT = "1/0203700381.21533"
START_TIME = 2009-10-15T15:23:30.038Z
STOP_TIME = 2009-10-15T15:26:10.014Z
/* ORBITAL DATA ELEMENTS */
ASCENDING_NODE_LONGITUDE = 75.82
MAXIMUM_RESOLUTION = 0.0595
FOOTPRINT_POINT_LATITUDE = (45.9469,45.9394,45.9288,45.9196,45.906 ,45.9055,45.9637,45.6553,45.4497, 45.2442,44.9359,44.7305,44.5251,44.3198 ,44.0119,43.8069,43.4993,43.2944, 42.9872,42.7825,42.5777,42.3732,42.1686 ,41.9643,41.7599,41.5557,41.3516, 41.0455,40.8416,40.5359,40.3323,40.027, 39.8236,39.6202,39.4163,39.2138,39.0108 ,38.8081,38.6052,38.4027,38.2001, 37.9969,37.4907,36.8867,36.4834,36.1821 ,35.852,35.7322,35.7022,35.7085,35.7132 ,35.7186,35.722,35.7221,35.7232,35.9625 ,36.3788,36.6806,36.9849,37.1877, 37.5897,37.995,38.1989,38.4014,38.6043, 38.8073,39.0118,39.2156,39.4199,39.6234 ,39.9289,40.1329,40.337,40.5409,40.7452 ,40.9496,41.2562,41.4607,41.6654, 41.8701,42.0749,42.2799,42.4849,42.6901 ,42.8952,43.1005,43.4085,43.6141, 43.8196,44.1281,44.3339,44.5397,44.7456 ,45.0545,45.2606,45.4666,45.6729,45.879 ,45.9822,45.9469)
FOOTPRINT_POINT_LONGITUDE = (188.194,187.802,187.33,186.956,186.467 ,186.45,186.404,186.425,186.44,186.453, 186.473,186.487,186.5,186.512,186.531, 186.543,186.56,186.572,186.589,186.6, 186.611,186.621,186.631,186.641,186.651 ,186.661,186.671,186.684,186.693, 186.707,186.715,186.728,186.736,186.744 ,186.752,186.759,186.766,186.774, 186.781,186.788,186.794,186.801,186.817 ,186.834,186.845,186.853,186.861, 186.864,186.864,187.271,187.603,188.071 ,188.464,188.479,188.484,188.479, 188.471,188.465,188.46,188.456,188.447, 188.439,188.435,188.431,188.426,188.422 ,188.418,188.414,188.41,188.405,188.398 ,188.394,188.389,188.384,188.379, 188.374,188.367,188.362,188.356,188.351 ,188.346,188.34,188.335,188.33,188.324, 188.318,188.31,188.304,188.298,188.289, 188.283,188.277,188.27,188.261,188.254, 188.248,188.241,188.234,188.231, 188.194)
ORBIT_NUMBER = 7420
ORBITAL_ECCENTRICITY = 0.571
ORBITAL_INCLINATION = 86.83
ORBITAL_SEMIMAJOR_AXIS = 8725.33
PERIAPSIS_ALTITUDE = 356.75
PERIAPSIS_ARGUMENT_ANGLE = 136.71
PERIAPSIS_TIME = 2009-10-15T15:23:51.000Z
SPACECRAFT_ORIENTATION = (0.0,-1.0,0.0)
^MEX_ORIENTATION_DESC = "MEX_ORIENTATION_DESC.TXT"
SPACECRAFT_POINTING_MODE = NADIR
^MEX_POINTING_DESC = "MEX_POINTING_DESC.TXT"
RIGHT_ASCENSION = -1e+32
DECLINATION = -1e+32
OFFSET_ANGLE = -1e+32
SPACECRAFT_SOLAR_DISTANCE = 2.30961e+08
TARGET_NAME = MARS
/* CAMERA DATA ELEMENTS */
DETECTOR_TEMPERATURE = 18.5744
FOCAL_PLANE_TEMPERATURE = 7.7677
INST_CMPRS_NAME = "DISCRETE COSINE TRANSFORMATION (DCT)"
INST_CMPRS_RATIO = 11.2345
INST_CMPRS_QUALITY = 0
INST_CMPRS_QUANTZ_TBL_ID = 0
INSTRUMENT_TEMPERATURE = 11.0301
LENS_TEMPERATURE = 8.7872
MACROPIXEL_SIZE = 4
MISSING_FRAMES = 0
PIXEL_SUBSAMPLING_FLAG = N
SIGNAL_CHAIN_ID = 3
/* RADIOMETRIC DATA ELEMENTS */
BANDWIDTH = 177.0
CENTER_FILTER_WAVELENGTH = 676.5
RADIANCE_OFFSET = 5.51608
RADIANCE_SCALING_FACTOR = 0.0126028
REFLECTANCE_SCALING_FACTOR = 0.000356451
MEX:REFLECTANCE_OFFSET = 0.156014
/* IMAGE OBJECT DEFINITIONS */
OBJECT = IMAGE
  INTERCHANGE_FORMAT = BINARY
  LINES = 12216
  LINE_SAMPLES = 1773
  SAMPLE_TYPE = UNSIGNED_INTEGER
  SAMPLE_BITS = 8
  BANDS = 1
  BAND_STORAGE_TYPE = BAND_SEQUENTIAL
  MAXIMUM = 255
  MEAN = 107.823
  MINIMUM = 1
  STANDARD_DEVIATION = 28.186
END_OBJECT = IMAGE
/* MAP OBJECT DEFINITIONS */
OBJECT = IMAGE_MAP_PROJECTION
  ^DATA_SET_MAP_PROJECTION_CATALOG= "DSMAP.CAT"
  A_AXIS_RADIUS = 3396.0
  B_AXIS_RADIUS = 3396.0
  C_AXIS_RADIUS = 3396.0
  CENTER_LATITUDE = 0.0
  CENTER_LONGITUDE = 188.0
  COORDINATE_SYSTEM_NAME = PLANETOGRAPHIC
  COORDINATE_SYSTEM_TYPE = "BODY-FIXED ROTATING"
  EASTERNMOST_LONGITUDE = 188.484
  FIRST_STANDARD_PARALLEL = "N/A"
  LINE_FIRST_PIXEL = 1
  LINE_LAST_PIXEL = 12216
  LINE_PROJECTION_OFFSET = 54533.375
  MAP_PROJECTION_ROTATION = 0.0
  MAP_PROJECTION_TYPE = SINUSOIDAL
  MAP_RESOLUTION = 1185.42760773333
  MAP_SCALE = 0.05
  MAXIMUM_LATITUDE = 45.9822
  MINIMUM_LATITUDE = 35.7022
  POSITIVE_LONGITUDE_DIRECTION = EAST
  REFERENCE_LATITUDE = "N/A"
  REFERENCE_LONGITUDE = "N/A"
  SAMPLE_FIRST_PIXEL = 1
  SAMPLE_LAST_PIXEL = 1773
  SAMPLE_PROJECTION_OFFSET = 1319.625
  SECOND_STANDARD_PARALLEL = "N/A"
  WESTERNMOST_LONGITUDE = 186.404
END_OBJECT = IMAGE_MAP_PROJECTION
END
