PDS_VERSION_ID = PDS3
/* FILE DATA ELEMENTS */
RECORD_TYPE = UNDEFINED
/* POINTERS TO DATA OBJECTS */
^IMAGE = ("H7420_0000_P14.TIF")
/* IDENTIFICATION DATA ELEMENTS */
DATA_SET_ID = "MEX-M-HRSC-4-REFDR-MAPPROJECT-EXT3-V4.0"
DATA_SET_NAME = "MARS EXPRESS HRSC MAP PROJECTED REFDR EXTENSION3 V4.0"
DETECTOR_ID = MEX_HRSC_P1
EVENT_TYPE = "MARS-REGIONAL-MAPPING-Vo-Te-Pf"
INSTRUMENT_HOST_ID = MEX
INSTRUMENT_HOST_NAME = "MARS EXPRESS"
INSTRUMENT_ID = HRSC
INSTRUMENT_NAME = "HIGH RESOLUTION STEREO CAMERA"
MISSION_NAME = "MARS EXPRESS"
MISSION_PHASE_NAME = ME_Phase_18
PROCESSING_LEVEL_ID = 4
PRODUCT_CREATION_TIME = 2023-02-02T15:10:19.000Z
PRODUCT_ID = "H7420_0000_P14.TIF"
RELEASE_ID = 0003
REVISION_ID = 0000
/* QUALITY DATA ELEMENTS */
DATA_QUALITY_ID = 1
DATA_QUALITY_DESC = "Data calculated based on original SPICE kernels"
/* TIME DATA ELEMENTS */
SPACECRAFT_CLOCK_START_COUNT = "1/0203700153.07300"
SPACECRAFT_CLOCK_STOP_COUNT = "1/0203700381.21533"
START_TIME = 2009-10-15T15:22:46.969Z
STOP_TIME = 2009-10-15T15:25:26.109Z
/* ORBITAL DATA ELEMENTS */
ASCENDING_NODE_LONGITUDE = 75.82
MAXIMUM_RESOLUTION = 0.0592
FOOTPRINT_POINT_LATITUDE = (46.0568,46.0499,46.04,46.0272,46.011, 46.0104,45.9511,45.4432,45.1382,44.7312 ,44.4256,44.2218,44.0179,43.7117, 43.5076,43.3033,43.099,42.8945,42.5877, 42.2806,42.0759,41.871,41.5637,41.3586, 41.1536,40.9484,40.6406,40.4352,40.1271 ,39.9216,39.7162,39.4083,39.0994, 38.7908,38.585,38.3793,38.1734,37.8664, 37.5578,37.3508,37.0407,36.8348,36.5261 ,36.32,36.1134,35.8043,35.7011,35.6754, 35.6843,35.69,35.6957,35.6995,35.6995, 35.7004,35.9074,36.1146,36.321,36.5275, 36.8378,37.0424,37.2499,37.458,37.664, 37.8703,38.1789,38.3856,38.5919,38.7982 ,39.1061,39.3112,39.5173,39.8266, 40.1354,40.4442,40.65,40.8557,41.0614, 41.267,41.4725,41.7807,42.0888,42.2941, 42.4993,42.7044,43.0121,43.2169,43.4219 ,43.6267,43.8314,44.0359,44.3427, 44.5471,44.8535,45.0576,45.2617,45.4655 ,45.6694,45.8732,45.975,46.0568)
FOOTPRINT_POINT_LONGITUDE = (188.198,187.836,187.409,186.949, 186.457,186.44,186.402,186.439,186.46, 186.487,186.507,186.521,186.533,186.552 ,186.564,186.576,186.588,186.6,186.617, 186.633,186.644,186.655,186.67,186.68, 186.69,186.7,186.714,186.723,186.737, 186.745,186.754,186.767,186.779,186.791 ,186.798,186.806,186.813,186.825, 186.835,186.841,186.85,186.857,186.866, 186.872,186.877,186.886,186.888,186.889 ,187.299,187.637,188.078,188.445,188.46 ,188.465,188.461,188.458,188.454, 188.451,188.445,188.443,188.439,188.434 ,188.431,188.427,188.422,188.418, 188.414,188.41,188.405,188.402,188.398, 188.391,188.385,188.379,188.374,188.37, 188.365,188.361,188.356,188.349,188.342 ,188.337,188.332,188.328,188.32,188.315 ,188.31,188.304,188.299,188.294,188.286 ,188.28,188.272,188.266,188.26,188.254, 188.248,188.242,188.239,188.198)
ORBIT_NUMBER = 7420
ORBITAL_ECCENTRICITY = 0.571
ORBITAL_INCLINATION = 86.83
ORBITAL_SEMIMAJOR_AXIS = 8725.33
PERIAPSIS_ALTITUDE = 356.75
PERIAPSIS_ARGUMENT_ANGLE = 136.71
PERIAPSIS_TIME = 2009-10-15T15:23:51.000Z
SPACECRAFT_ORIENTATION = (0.0,-1.0,0.0)
^MEX_ORIENTATION_DESC = "MEX_ORIENTATION_DESC.TXT"
SPACECRAFT_POINTING_MODE = NADIR
^MEX_POINTING_DESC = "MEX_POINTING_DESC.TXT"
RIGHT_ASCENSION = -1e+32
DECLINATION = -1e+32
OFFSET_ANGLE = -1e+32
SPACECRAFT_SOLAR_DISTANCE = 2.30961e+08
TARGET_NAME = MARS
/* CAMERA DATA ELEMENTS */
DETECTOR_TEMPERATURE = 17.7588
FOCAL_PLANE_TEMPERATURE = 7.7677
INST_CMPRS_NAME = "DISCRETE COSINE TRANSFORMATION (DCT)"
INST_CMPRS_RATIO = 17.1038
INST_CMPRS_QUALITY = 0
INST_CMPRS_QUANTZ_TBL_ID = 0
INSTRUMENT_TEMPERATURE = 11.0301
LENS_TEMPERATURE = 8.7872
MACROPIXEL_SIZE = 4
MISSING_FRAMES = 0
PIXEL_SUBSAMPLING_FLAG = N
SIGNAL_CHAIN_ID = 3
/* RADIOMETRIC DATA ELEMENTS */
BANDWIDTH = 174.0
CENTER_FILTER_WAVELENGTH = 675.0
RADIANCE_OFFSET = 5.3102
RADIANCE_SCALING_FACTOR = 0.0125861
REFLECTANCE_SCALING_FACTOR = 0.000361121
MEX:REFLECTANCE_OFFSET = 0.15236
/* IMAGE OBJECT DEFINITIONS */
OBJECT = IMAGE
  INTERCHANGE_FORMAT = BINARY
  LINES = 12216
  LINE_SAMPLES = 1773
  SAMPLE_TYPE = UNSIGNED_INTEGER
  SAMPLE_BITS = 8
  BANDS = 1
  BAND_STORAGE_TYPE = BAND_SEQUENTIAL
  MAXIMUM = 255
  MEAN = 116.151
  MINIMUM = 1
  STANDARD_DEVIATION = 24.4824
END_OBJECT = IMAGE
/* MAP OBJECT DEFINITIONS */
OBJECT = IMAGE_MAP_PROJECTION
  ^DATA_SET_MAP_PROJECTION_CATALOG= "DSMAP.CAT"
  A_AXIS_RADIUS = 3396.0
  B_AXIS_RADIUS = 3396.0
  C_AXIS_RADIUS = 3396.0
  CENTER_LATITUDE = 0.0
  CENTER_LONGITUDE = 188.0
  COORDINATE_SYSTEM_NAME = PLANETOGRAPHIC
  COORDINATE_SYSTEM_TYPE = "BODY-FIXED ROTATING"
  EASTERNMOST_LONGITUDE = 188.465
  FIRST_STANDARD_PARALLEL = "N/A"
  LINE_FIRST_PIXEL = 1
  LINE_LAST_PIXEL = 12216
  LINE_PROJECTION_OFFSET = 54533.375
  MAP_PROJECTION_ROTATION = 0.0
  MAP_PROJECTION_TYPE = SINUSOIDAL
  MAP_RESOLUTION = 1185.42760773333
  MAP_SCALE = 0.05
  MAXIMUM_LATITUDE = 46.0568
  MINIMUM_LATITUDE = 35.6754
  POSITIVE_LONGITUDE_DIRECTION = EAST
  REFERENCE_LATITUDE = "N/A"
  REFERENCE_LONGITUDE = "N/A"
  SAMPLE_FIRST_PIXEL = 1
  SAMPLE_LAST_PIXEL = 1773
  SAMPLE_PROJECTION_OFFSET = 1319.625
  SECOND_STANDARD_PARALLEL = "N/A"
  WESTERNMOST_LONGITUDE = 186.402
END_OBJECT = IMAGE_MAP_PROJECTION
END
