PDS_VERSION_ID = PDS3
/* FILE DATA ELEMENTS */
RECORD_TYPE = UNDEFINED
/* POINTERS TO DATA OBJECTS */
^IMAGE = ("H7420_0000_IR4.TIF")
/* IDENTIFICATION DATA ELEMENTS */
DATA_SET_ID = "MEX-M-HRSC-4-REFDR-MAPPROJECT-EXT3-V4.0"
DATA_SET_NAME = "MARS EXPRESS HRSC MAP PROJECTED REFDR EXTENSION3 V4.0"
DETECTOR_ID = MEX_HRSC_IR
EVENT_TYPE = "MARS-REGIONAL-MAPPING-Vo-Te-Pf"
INSTRUMENT_HOST_ID = MEX
INSTRUMENT_HOST_NAME = "MARS EXPRESS"
INSTRUMENT_ID = HRSC
INSTRUMENT_NAME = "HIGH RESOLUTION STEREO CAMERA"
MISSION_NAME = "MARS EXPRESS"
MISSION_PHASE_NAME = ME_Phase_18
PROCESSING_LEVEL_ID = 4
PRODUCT_CREATION_TIME = 2023-02-02T15:10:19.000Z
PRODUCT_ID = "H7420_0000_IR4.TIF"
RELEASE_ID = 0003
REVISION_ID = 0000
/* QUALITY DATA ELEMENTS */
DATA_QUALITY_ID = 1
DATA_QUALITY_DESC = "Data calculated based on original SPICE kernels"
/* TIME DATA ELEMENTS */
SPACECRAFT_CLOCK_START_COUNT = "1/0203700153.07300"
SPACECRAFT_CLOCK_STOP_COUNT = "1/0203700381.21533"
START_TIME = 2009-10-15T15:22:41.460Z
STOP_TIME = 2009-10-15T15:25:20.586Z
/* ORBITAL DATA ELEMENTS */
ASCENDING_NODE_LONGITUDE = 75.82
MAXIMUM_RESOLUTION = 0.1203
FOOTPRINT_POINT_LATITUDE = (46.0585,46.0505,46.0364,46.0229, 46.0127,46.0121,45.9362,45.5312,45.0243 ,44.6183,44.3137,44.0083,43.8048,43.601 ,43.3973,43.0912,42.8871,42.5807, 42.3764,42.1719,41.9674,41.7627,41.4556 ,41.2506,41.0457,40.738,40.5329,40.3275 ,40.0195,39.8141,39.5065,39.3001, 39.0945,38.8886,38.5799,38.3739,38.0653 ,37.8605,37.6553,37.3444,37.1373, 36.9308,36.726,36.5187,36.3121,36.1053, 35.7956,35.6924,35.6682,35.6746,35.6834 ,35.6879,35.6922,35.6923,35.6939, 35.9015,36.2129,36.5231,36.8345,37.0386 ,37.2454,37.4552,37.6616,37.8678, 38.0745,38.3834,38.5899,38.8991,39.2068 ,39.412,39.6181,39.8245,40.1331,40.3389 ,40.5448,40.7504,41.0587,41.2643, 41.4695,41.6749,41.8801,42.0853,42.2904 ,42.4952,42.7001,42.9048,43.1094, 43.3139,43.6207,43.8249,44.0291,44.2332 ,44.4371,44.641,44.8446,45.0482,45.4551 ,45.8614,45.963,46.0585)
FOOTPRINT_POINT_LONGITUDE = (188.201,187.788,187.211,186.766,186.47 ,186.453,186.412,186.442,186.477, 186.504,186.524,186.543,186.556,186.568 ,186.58,186.598,186.61,186.627,186.638, 186.649,186.659,186.67,186.685,186.695, 186.705,186.72,186.729,186.738,186.751, 186.76,186.773,186.781,186.789,186.797, 186.809,186.816,186.827,186.835,186.842 ,186.852,186.858,186.864,186.871, 186.877,186.883,186.888,186.897,186.9, 186.9,187.177,187.676,188.014,188.44, 188.454,188.464,188.461,188.455,188.45, 188.445,188.443,188.439,188.434,188.431 ,188.427,188.423,188.418,188.414, 188.409,188.404,188.4,188.396,188.392, 188.386,188.382,188.377,188.373,188.366 ,188.362,188.358,188.353,188.348, 188.344,188.339,188.334,188.329,188.324 ,188.319,188.314,188.307,188.301, 188.296,188.291,188.285,188.28,188.274, 188.269,188.257,188.246,188.243, 188.201)
ORBIT_NUMBER = 7420
ORBITAL_ECCENTRICITY = 0.571
ORBITAL_INCLINATION = 86.83
ORBITAL_SEMIMAJOR_AXIS = 8725.33
PERIAPSIS_ALTITUDE = 356.75
PERIAPSIS_ARGUMENT_ANGLE = 136.71
PERIAPSIS_TIME = 2009-10-15T15:23:51.000Z
SPACECRAFT_ORIENTATION = (0.0,-1.0,0.0)
^MEX_ORIENTATION_DESC = "MEX_ORIENTATION_DESC.TXT"
SPACECRAFT_POINTING_MODE = NADIR
^MEX_POINTING_DESC = "MEX_POINTING_DESC.TXT"
RIGHT_ASCENSION = -1e+32
DECLINATION = -1e+32
OFFSET_ANGLE = -1e+32
SPACECRAFT_SOLAR_DISTANCE = 2.30961e+08
TARGET_NAME = MARS
/* CAMERA DATA ELEMENTS */
DETECTOR_TEMPERATURE = 17.7588
FOCAL_PLANE_TEMPERATURE = 7.7677
INST_CMPRS_NAME = "DISCRETE COSINE TRANSFORMATION (DCT)"
INST_CMPRS_RATIO = 21.8777
INST_CMPRS_QUALITY = 0
INST_CMPRS_QUANTZ_TBL_ID = 0
INSTRUMENT_TEMPERATURE = 11.0301
LENS_TEMPERATURE = 8.7872
MACROPIXEL_SIZE = 8
MISSING_FRAMES = 0
PIXEL_SUBSAMPLING_FLAG = N
SIGNAL_CHAIN_ID = 2
/* RADIOMETRIC DATA ELEMENTS */
BANDWIDTH = 81.0
CENTER_FILTER_WAVELENGTH = 955.5
RADIANCE_OFFSET = 1.43843
RADIANCE_SCALING_FACTOR = 0.00366659
REFLECTANCE_SCALING_FACTOR = 0.000421954
MEX:REFLECTANCE_OFFSET = 0.165536
/* IMAGE OBJECT DEFINITIONS */
OBJECT = IMAGE
  INTERCHANGE_FORMAT = BINARY
  LINES = 6108
  LINE_SAMPLES = 887
  SAMPLE_TYPE = UNSIGNED_INTEGER
  SAMPLE_BITS = 8
  BANDS = 1
  BAND_STORAGE_TYPE = BAND_SEQUENTIAL
  MAXIMUM = 255
  MEAN = 108.204
  MINIMUM = 1
  STANDARD_DEVIATION = 27.425
END_OBJECT = IMAGE
/* MAP OBJECT DEFINITIONS */
OBJECT = IMAGE_MAP_PROJECTION
  ^DATA_SET_MAP_PROJECTION_CATALOG= "DSMAP.CAT"
  A_AXIS_RADIUS = 3396.0
  B_AXIS_RADIUS = 3396.0
  C_AXIS_RADIUS = 3396.0
  CENTER_LATITUDE = 0.0
  CENTER_LONGITUDE = 188.0
  COORDINATE_SYSTEM_NAME = PLANETOGRAPHIC
  COORDINATE_SYSTEM_TYPE = "BODY-FIXED ROTATING"
  EASTERNMOST_LONGITUDE = 188.464
  FIRST_STANDARD_PARALLEL = "N/A"
  LINE_FIRST_PIXEL = 1
  LINE_LAST_PIXEL = 6108
  LINE_PROJECTION_OFFSET = 27266.4375
  MAP_PROJECTION_ROTATION = 0.0
  MAP_PROJECTION_TYPE = SINUSOIDAL
  MAP_RESOLUTION = 592.713803866667
  MAP_SCALE = 0.1
  MAXIMUM_LATITUDE = 46.0585
  MINIMUM_LATITUDE = 35.6682
  POSITIVE_LONGITUDE_DIRECTION = EAST
  REFERENCE_LATITUDE = "N/A"
  REFERENCE_LONGITUDE = "N/A"
  SAMPLE_FIRST_PIXEL = 1
  SAMPLE_LAST_PIXEL = 887
  SAMPLE_PROJECTION_OFFSET = 659.5625
  SECOND_STANDARD_PARALLEL = "N/A"
  WESTERNMOST_LONGITUDE = 186.412
END_OBJECT = IMAGE_MAP_PROJECTION
END
