PDS_VERSION_ID = PDS3
/* FILE DATA ELEMENTS */
RECORD_TYPE = UNDEFINED
/* POINTERS TO DATA OBJECTS */
^IMAGE = ("H7419_0000_P24.TIF")
/* IDENTIFICATION DATA ELEMENTS */
DATA_SET_ID = "MEX-M-HRSC-4-REFDR-MAPPROJECT-EXT3-V4.0"
DATA_SET_NAME = "MARS EXPRESS HRSC MAP PROJECTED REFDR EXTENSION3 V4.0"
DETECTOR_ID = MEX_HRSC_P2
EVENT_TYPE = "MARS-REGIONAL-MAPPING-Vo-Te"
INSTRUMENT_HOST_ID = MEX
INSTRUMENT_HOST_NAME = "MARS EXPRESS"
INSTRUMENT_ID = HRSC
INSTRUMENT_NAME = "HIGH RESOLUTION STEREO CAMERA"
MISSION_NAME = "MARS EXPRESS"
MISSION_PHASE_NAME = ME_Phase_18
PROCESSING_LEVEL_ID = 4
PRODUCT_CREATION_TIME = 2023-02-02T15:10:19.000Z
PRODUCT_ID = "H7419_0000_P24.TIF"
RELEASE_ID = 0003
REVISION_ID = 0000
/* QUALITY DATA ELEMENTS */
DATA_QUALITY_ID = 1
DATA_QUALITY_DESC = "Data calculated based on original SPICE kernels"
/* TIME DATA ELEMENTS */
SPACECRAFT_CLOCK_START_COUNT = "1/0203675761.07295"
SPACECRAFT_CLOCK_STOP_COUNT = "1/0203676087.27569"
START_TIME = 2009-10-15T08:37:19.846Z
STOP_TIME = 2009-10-15T08:40:58.786Z
/* ORBITAL DATA ELEMENTS */
ASCENDING_NODE_LONGITUDE = 75.85
MAXIMUM_RESOLUTION = 0.0417
FOOTPRINT_POINT_LATITUDE = (17.8653,17.8727,17.877,17.8812,17.8855 ,17.8925,17.8928,17.8971,17.5843,17.266 ,16.8443,16.3055,15.8732,15.4376, 15.2167,14.778,14.5553,14.331,14.1051, 13.881,13.6528,13.4261,13.1969,12.853, 12.5053,12.2732,12.0392,11.8041,11.5694 ,11.3312,11.0936,10.7337,10.4935, 10.2503,9.88558,9.63931,9.39341,9.14498 ,8.89732,8.64561,8.3947,8.14145,7.88742 ,7.63138,7.37532,7.11652,6.7268,6.33397 ,6.20187,6.13692,6.12712,6.11554, 6.10665,6.09536,6.08559,6.07597,6.07545 ,6.07599,6.34103,6.60304,6.86494, 7.12455,7.38339,7.64053,8.02363,8.27853 ,8.53005,8.78195,9.03154,9.28103, 9.52783,9.89793,10.1418,10.3863,10.7481 ,10.9894,11.2277,11.5854,11.9388, 12.1743,12.5234,12.7565,12.9864,13.2168 ,13.446,13.7867,14.0141,14.2381,14.4624 ,14.6868,14.9078,15.3513,15.788,16.1154 ,16.546,16.8688,17.2932,17.7158,17.8219 ,17.8653)
FOOTPRINT_POINT_LONGITUDE = (289.222,288.738,288.451,288.163, 287.874,287.383,287.365,287.356,287.349 ,287.342,287.331,287.318,287.307, 287.295,287.289,287.275,287.269,287.263 ,287.257,287.25,287.243,287.237,287.229 ,287.218,287.206,287.198,287.19,287.182 ,287.174,287.165,287.156,287.143, 287.134,287.124,287.11,287.1,287.09, 287.08,287.07,287.059,287.049,287.038, 287.027,287.016,287.004,286.992,286.974 ,286.956,286.949,286.946,287.302, 287.729,288.06,288.509,288.909,289.356, 289.379,289.388,289.384,289.38,289.376, 289.372,289.368,289.364,289.358,289.354 ,289.351,289.347,289.343,289.34,289.336 ,289.331,289.328,289.324,289.319, 289.316,289.313,289.308,289.303,289.3, 289.295,289.292,289.289,289.286,289.283 ,289.278,289.275,289.272,289.269, 289.266,289.263,289.258,289.252,289.248 ,289.242,289.238,289.232,289.227, 289.226,289.222)
ORBIT_NUMBER = 7419
ORBITAL_ECCENTRICITY = 0.571
ORBITAL_INCLINATION = 86.82
ORBITAL_SEMIMAJOR_AXIS = 8731.95
PERIAPSIS_ALTITUDE = 356.46
PERIAPSIS_ARGUMENT_ANGLE = 136.9
PERIAPSIS_TIME = 2009-10-15T08:30:09.000Z
SPACECRAFT_ORIENTATION = (0.0,-1.0,0.0)
^MEX_ORIENTATION_DESC = "MEX_ORIENTATION_DESC.TXT"
SPACECRAFT_POINTING_MODE = ACROSSTRACK
^MEX_POINTING_DESC = "MEX_POINTING_DESC.TXT"
RIGHT_ASCENSION = -1e+32
DECLINATION = -1e+32
OFFSET_ANGLE = -0.3
SPACECRAFT_SOLAR_DISTANCE = 2.30906e+08
TARGET_NAME = MARS
/* CAMERA DATA ELEMENTS */
DETECTOR_TEMPERATURE = 18.1666
FOCAL_PLANE_TEMPERATURE = 8.3794
INST_CMPRS_NAME = "DISCRETE COSINE TRANSFORMATION (DCT)"
INST_CMPRS_RATIO = 7.22546
INST_CMPRS_QUALITY = 0
INST_CMPRS_QUANTZ_TBL_ID = 0
INSTRUMENT_TEMPERATURE = 11.234
LENS_TEMPERATURE = 8.7872
MACROPIXEL_SIZE = 2
MISSING_FRAMES = 0
PIXEL_SUBSAMPLING_FLAG = N
SIGNAL_CHAIN_ID = 3
/* RADIOMETRIC DATA ELEMENTS */
BANDWIDTH = 177.0
CENTER_FILTER_WAVELENGTH = 676.5
RADIANCE_OFFSET = 5.86095
RADIANCE_SCALING_FACTOR = 0.0212161
REFLECTANCE_SCALING_FACTOR = 0.000599785
MEX:REFLECTANCE_OFFSET = 0.165691
/* IMAGE OBJECT DEFINITIONS */
OBJECT = IMAGE
  INTERCHANGE_FORMAT = BINARY
  LINES = 13988
  LINE_SAMPLES = 2669
  SAMPLE_TYPE = UNSIGNED_INTEGER
  SAMPLE_BITS = 8
  BANDS = 1
  BAND_STORAGE_TYPE = BAND_SEQUENTIAL
  MAXIMUM = 255
  MEAN = 118.496
  MINIMUM = 1
  STANDARD_DEVIATION = 32.5966
END_OBJECT = IMAGE
/* MAP OBJECT DEFINITIONS */
OBJECT = IMAGE_MAP_PROJECTION
  ^DATA_SET_MAP_PROJECTION_CATALOG= "DSMAP.CAT"
  A_AXIS_RADIUS = 3396.0
  B_AXIS_RADIUS = 3396.0
  C_AXIS_RADIUS = 3396.0
  CENTER_LATITUDE = 0.0
  CENTER_LONGITUDE = 288.0
  COORDINATE_SYSTEM_NAME = PLANETOGRAPHIC
  COORDINATE_SYSTEM_TYPE = "BODY-FIXED ROTATING"
  EASTERNMOST_LONGITUDE = 289.388
  FIRST_STANDARD_PARALLEL = "N/A"
  LINE_FIRST_PIXEL = 1
  LINE_LAST_PIXEL = 13988
  LINE_PROJECTION_OFFSET = 21204.25
  MAP_PROJECTION_ROTATION = 0.0
  MAP_PROJECTION_TYPE = SINUSOIDAL
  MAP_RESOLUTION = 1185.42760773333
  MAP_SCALE = 0.05
  MAXIMUM_LATITUDE = 17.8971
  MINIMUM_LATITUDE = 6.07545
  POSITIVE_LONGITUDE_DIRECTION = EAST
  REFERENCE_LATITUDE = "N/A"
  REFERENCE_LONGITUDE = "N/A"
  SAMPLE_FIRST_PIXEL = 1
  SAMPLE_LAST_PIXEL = 2669
  SAMPLE_PROJECTION_OFFSET = 1134.25
  SECOND_STANDARD_PARALLEL = "N/A"
  WESTERNMOST_LONGITUDE = 286.946
END_OBJECT = IMAGE_MAP_PROJECTION
END
