PDS_VERSION_ID = PDS3
/* FILE DATA ELEMENTS */
RECORD_TYPE = UNDEFINED
/* POINTERS TO DATA OBJECTS */
^IMAGE = ("H7419_0000_GR4.TIF")
/* IDENTIFICATION DATA ELEMENTS */
DATA_SET_ID = "MEX-M-HRSC-4-REFDR-MAPPROJECT-EXT3-V4.0"
DATA_SET_NAME = "MARS EXPRESS HRSC MAP PROJECTED REFDR EXTENSION3 V4.0"
DETECTOR_ID = MEX_HRSC_GREEN
EVENT_TYPE = "MARS-REGIONAL-MAPPING-Vo-Te"
INSTRUMENT_HOST_ID = MEX
INSTRUMENT_HOST_NAME = "MARS EXPRESS"
INSTRUMENT_ID = HRSC
INSTRUMENT_NAME = "HIGH RESOLUTION STEREO CAMERA"
MISSION_NAME = "MARS EXPRESS"
MISSION_PHASE_NAME = ME_Phase_18
PROCESSING_LEVEL_ID = 4
PRODUCT_CREATION_TIME = 2023-02-02T15:10:19.000Z
PRODUCT_ID = "H7419_0000_GR4.TIF"
RELEASE_ID = 0003
REVISION_ID = 0000
/* QUALITY DATA ELEMENTS */
DATA_QUALITY_ID = 1
DATA_QUALITY_DESC = "Data calculated based on original SPICE kernels"
/* TIME DATA ELEMENTS */
SPACECRAFT_CLOCK_START_COUNT = "1/0203675761.07295"
SPACECRAFT_CLOCK_STOP_COUNT = "1/0203676087.27569"
START_TIME = 2009-10-15T08:36:39.781Z
STOP_TIME = 2009-10-15T08:39:59.453Z
/* ORBITAL DATA ELEMENTS */
ASCENDING_NODE_LONGITUDE = 75.85
MAXIMUM_RESOLUTION = 0.1532
FOOTPRINT_POINT_LATITUDE = (17.8746,17.877,17.8781,17.879,17.8789, 17.8783,17.8783,17.8748,17.3507,16.9302 ,16.503,16.0753,15.6415,15.2066,14.9867 ,14.7647,14.5436,14.323,14.0983,13.8732 ,13.5368,13.3079,13.0797,12.8517, 12.5047,12.2729,12.0414,11.8058,11.5706 ,11.2161,10.9773,10.7388,10.4978, 10.2556,10.0138,9.76837,9.40034,9.02782 ,8.77926,8.40197,8.15,7.89565,7.64025, 7.25423,6.99561,6.60404,6.34235,6.21032 ,6.11005,6.10622,6.10211,6.09595, 6.09158,6.08642,6.07788,6.07752,6.08023 ,6.34525,6.60781,6.8705,7.12969,7.51817 ,7.77416,8.03063,8.28321,8.53619, 8.91095,9.16117,9.40991,9.6558,10.0244, 10.2668,10.5097,10.8703,11.1095,11.3486 ,11.5841,11.82,12.0557,12.2877,12.5201, 12.8673,13.0959,13.3248,13.5532,13.7784 ,14.0036,14.3413,14.5626,14.7843, 15.1168,15.5529,15.7711,15.9891,16.4175 ,16.9524,17.3736,17.6902,17.7952, 17.8746)
FOOTPRINT_POINT_LONGITUDE = (289.168,288.764,288.472,288.016, 287.755,287.46,287.443,287.432,287.422, 287.413,287.405,287.396,287.386,287.376 ,287.371,287.364,287.358,287.354, 287.349,287.342,287.334,287.327,287.321 ,287.315,287.305,287.298,287.291, 287.284,287.277,287.266,287.258,287.251 ,287.243,287.235,287.227,287.218, 287.206,287.193,287.184,287.17,287.16, 287.151,287.141,287.126,287.116,287.1, 287.09,287.084,287.08,287.389,287.7, 288.134,288.423,288.753,289.246,289.266 ,289.28,289.278,289.275,289.273,289.27, 289.266,289.264,289.262,289.259,289.257 ,289.255,289.252,289.249,289.247, 289.243,289.241,289.239,289.236,289.234 ,289.231,289.229,289.227,289.225, 289.223,289.221,289.217,289.215,289.213 ,289.211,289.209,289.207,289.204, 289.202,289.2,289.197,289.192,289.19, 289.188,289.184,289.179,289.175,289.171 ,289.17,289.168)
ORBIT_NUMBER = 7419
ORBITAL_ECCENTRICITY = 0.571
ORBITAL_INCLINATION = 86.82
ORBITAL_SEMIMAJOR_AXIS = 8731.95
PERIAPSIS_ALTITUDE = 356.46
PERIAPSIS_ARGUMENT_ANGLE = 136.9
PERIAPSIS_TIME = 2009-10-15T08:30:09.000Z
SPACECRAFT_ORIENTATION = (0.0,-1.0,0.0)
^MEX_ORIENTATION_DESC = "MEX_ORIENTATION_DESC.TXT"
SPACECRAFT_POINTING_MODE = ACROSSTRACK
^MEX_POINTING_DESC = "MEX_POINTING_DESC.TXT"
RIGHT_ASCENSION = -1e+32
DECLINATION = -1e+32
OFFSET_ANGLE = -0.3
SPACECRAFT_SOLAR_DISTANCE = 2.30906e+08
TARGET_NAME = MARS
/* CAMERA DATA ELEMENTS */
DETECTOR_TEMPERATURE = 18.3705
FOCAL_PLANE_TEMPERATURE = 8.3794
INST_CMPRS_NAME = "DISCRETE COSINE TRANSFORMATION (DCT)"
INST_CMPRS_RATIO = 18.1325
INST_CMPRS_QUALITY = 0
INST_CMPRS_QUANTZ_TBL_ID = 0
INSTRUMENT_TEMPERATURE = 11.234
LENS_TEMPERATURE = 8.7872
MACROPIXEL_SIZE = 8
MISSING_FRAMES = 0
PIXEL_SUBSAMPLING_FLAG = N
SIGNAL_CHAIN_ID = 2
/* RADIOMETRIC DATA ELEMENTS */
BANDWIDTH = 88.0
CENTER_FILTER_WAVELENGTH = 538.0
RADIANCE_OFFSET = 1.72489
RADIANCE_SCALING_FACTOR = 0.00546899
REFLECTANCE_SCALING_FACTOR = 0.000251055
MEX:REFLECTANCE_OFFSET = 0.0791816
/* IMAGE OBJECT DEFINITIONS */
OBJECT = IMAGE
  INTERCHANGE_FORMAT = BINARY
  LINES = 3497
  LINE_SAMPLES = 668
  SAMPLE_TYPE = UNSIGNED_INTEGER
  SAMPLE_BITS = 8
  BANDS = 1
  BAND_STORAGE_TYPE = BAND_SEQUENTIAL
  MAXIMUM = 255
  MEAN = 120.618
  MINIMUM = 1
  STANDARD_DEVIATION = 30.7467
END_OBJECT = IMAGE
/* MAP OBJECT DEFINITIONS */
OBJECT = IMAGE_MAP_PROJECTION
  ^DATA_SET_MAP_PROJECTION_CATALOG= "DSMAP.CAT"
  A_AXIS_RADIUS = 3396.0
  B_AXIS_RADIUS = 3396.0
  C_AXIS_RADIUS = 3396.0
  CENTER_LATITUDE = 0.0
  CENTER_LONGITUDE = 288.0
  COORDINATE_SYSTEM_NAME = PLANETOGRAPHIC
  COORDINATE_SYSTEM_TYPE = "BODY-FIXED ROTATING"
  EASTERNMOST_LONGITUDE = 289.28
  FIRST_STANDARD_PARALLEL = "N/A"
  LINE_FIRST_PIXEL = 1
  LINE_LAST_PIXEL = 3497
  LINE_PROJECTION_OFFSET = 5300.6875
  MAP_PROJECTION_ROTATION = 0.0
  MAP_PROJECTION_TYPE = SINUSOIDAL
  MAP_RESOLUTION = 296.356901933333
  MAP_SCALE = 0.2
  MAXIMUM_LATITUDE = 17.879
  MINIMUM_LATITUDE = 6.07752
  POSITIVE_LONGITUDE_DIRECTION = EAST
  REFERENCE_LATITUDE = "N/A"
  REFERENCE_LONGITUDE = "N/A"
  SAMPLE_FIRST_PIXEL = 1
  SAMPLE_LAST_PIXEL = 668
  SAMPLE_PROJECTION_OFFSET = 283.1875
  SECOND_STANDARD_PARALLEL = "N/A"
  WESTERNMOST_LONGITUDE = 287.08
END_OBJECT = IMAGE_MAP_PROJECTION
END
