PDS_VERSION_ID = PDS3
/* FILE DATA ELEMENTS */
RECORD_TYPE = UNDEFINED
/* POINTERS TO DATA OBJECTS */
^IMAGE = ("H7418_0000_S24.TIF")
/* IDENTIFICATION DATA ELEMENTS */
DATA_SET_ID = "MEX-M-HRSC-4-REFDR-MAPPROJECT-EXT3-V4.0"
DATA_SET_NAME = "MARS EXPRESS HRSC MAP PROJECTED REFDR EXTENSION3 V4.0"
DETECTOR_ID = MEX_HRSC_S2
EVENT_TYPE = "MARS-REGIONAL-MAPPING-Te-Fl-La"
INSTRUMENT_HOST_ID = MEX
INSTRUMENT_HOST_NAME = "MARS EXPRESS"
INSTRUMENT_ID = HRSC
INSTRUMENT_NAME = "HIGH RESOLUTION STEREO CAMERA"
MISSION_NAME = "MARS EXPRESS"
MISSION_PHASE_NAME = ME_Phase_18
PROCESSING_LEVEL_ID = 4
PRODUCT_CREATION_TIME = 2023-02-02T15:10:19.000Z
PRODUCT_ID = "H7418_0000_S24.TIF"
RELEASE_ID = 0003
REVISION_ID = 0000
/* QUALITY DATA ELEMENTS */
DATA_QUALITY_ID = 1
DATA_QUALITY_DESC = "Data calculated based on original SPICE kernels"
/* TIME DATA ELEMENTS */
SPACECRAFT_CLOCK_START_COUNT = "1/0203650699.08392"
SPACECRAFT_CLOCK_STOP_COUNT = "1/0203651034.07473"
START_TIME = 2009-10-15T01:39:30.516Z
STOP_TIME = 2009-10-15T01:43:54.636Z
/* ORBITAL DATA ELEMENTS */
ASCENDING_NODE_LONGITUDE = 75.87
MAXIMUM_RESOLUTION = 0.033
FOOTPRINT_POINT_LATITUDE = (32.8162,32.8101,32.801,32.7865,32.7862 ,32.8352,32.5372,32.0922,31.6479, 31.3546,30.9167,30.625,29.8982,29.3184, 28.8844,28.3015,28.0053,27.5619,27.2682 ,26.9701,26.6704,26.3693,26.0712, 25.7691,25.4629,25.1586,24.8642,24.4017 ,24.0916,23.7832,23.4691,23.1543, 22.8383,22.5204,22.0404,21.7204,21.3939 ,21.0698,20.7436,20.4184,20.0917, 19.5939,19.2624,18.9236,18.5864,18.246, 17.903,17.5562,17.3828,17.3816,17.383, 17.3828,17.3829,17.3837,17.3839,17.3845 ,17.9047,18.2473,18.5884,18.9245, 19.2621,19.7609,20.2588,20.5913,20.9204 ,21.2452,21.5709,21.8945,22.2136, 22.5315,23.0085,23.4811,23.7969,24.2617 ,24.5725,24.8814,25.1857,25.4894, 25.7933,26.0929,26.3868,26.692,26.9944, 27.2889,27.7265,28.022,28.3194,28.9057, 29.4863,29.9224,30.3582,30.7975,31.0906 ,31.5298,31.8232,32.1178,32.4129,32.712 ,32.8613,32.8162)
FOOTPRINT_POINT_LONGITUDE = (30.5322,30.1751,29.6808,28.9603,28.945 ,28.9284,28.9318,28.9363,28.9403, 28.9421,28.9441,28.9453,28.9471,28.9477 ,28.9478,28.947,28.9466,28.9455,28.9442 ,28.9425,28.9407,28.9391,28.9368, 28.9343,28.932,28.9291,28.924,28.9185, 28.915,28.9111,28.9068,28.9025,28.8984, 28.8934,28.8859,28.8803,28.875,28.869, 28.8626,28.8552,28.8481,28.8366,28.8288 ,28.8209,28.8127,28.804,28.7954,28.7867 ,28.782,28.7819,29.2877,29.965,30.2862, 30.7032,30.7222,30.7291,30.7234,30.7193 ,30.7151,30.7105,30.706,30.6999,30.6942 ,30.6922,30.6883,30.6852,30.6822, 30.6787,30.6754,30.6712,30.6667,30.6619 ,30.6589,30.6545,30.6515,30.6478, 30.6447,30.641,30.6371,30.6322,30.6266, 30.6258,30.6234,30.6179,30.6114,30.6083 ,30.6059,30.6006,30.5945,30.5895, 30.5837,30.5789,30.5755,30.5695,30.5655 ,30.5618,30.558,30.5559,30.5546, 30.5322)
ORBIT_NUMBER = 7418
ORBITAL_ECCENTRICITY = 0.571
ORBITAL_INCLINATION = 86.82
ORBITAL_SEMIMAJOR_AXIS = 8732.52
PERIAPSIS_ALTITUDE = 356.58
PERIAPSIS_ARGUMENT_ANGLE = 137.06
PERIAPSIS_TIME = 2009-10-15T01:36:19.000Z
SPACECRAFT_ORIENTATION = (0.0,-1.0,0.0)
^MEX_ORIENTATION_DESC = "MEX_ORIENTATION_DESC.TXT"
SPACECRAFT_POINTING_MODE = ACROSSTRACK
^MEX_POINTING_DESC = "MEX_POINTING_DESC.TXT"
RIGHT_ASCENSION = -1e+32
DECLINATION = -1e+32
OFFSET_ANGLE = 0.25
SPACECRAFT_SOLAR_DISTANCE = 2.30851e+08
TARGET_NAME = MARS
/* CAMERA DATA ELEMENTS */
DETECTOR_TEMPERATURE = 18.7783
FOCAL_PLANE_TEMPERATURE = 8.7872
INST_CMPRS_NAME = "DISCRETE COSINE TRANSFORMATION (DCT)"
INST_CMPRS_RATIO = 11.7048
INST_CMPRS_QUALITY = 0
INST_CMPRS_QUANTZ_TBL_ID = 0
INSTRUMENT_TEMPERATURE = 11.4379
LENS_TEMPERATURE = 8.9911
MACROPIXEL_SIZE = 2
MISSING_FRAMES = 0
PIXEL_SUBSAMPLING_FLAG = N
SIGNAL_CHAIN_ID = 1
/* RADIOMETRIC DATA ELEMENTS */
BANDWIDTH = 178.0
CENTER_FILTER_WAVELENGTH = 679.0
RADIANCE_OFFSET = 6.39269
RADIANCE_SCALING_FACTOR = 0.018068
REFLECTANCE_SCALING_FACTOR = 0.000509923
MEX:REFLECTANCE_OFFSET = 0.180417
/* IMAGE OBJECT DEFINITIONS */
OBJECT = IMAGE
  INTERCHANGE_FORMAT = BINARY
  LINES = 36706
  LINE_SAMPLES = 4058
  SAMPLE_TYPE = UNSIGNED_INTEGER
  SAMPLE_BITS = 8
  BANDS = 1
  BAND_STORAGE_TYPE = BAND_SEQUENTIAL
  MAXIMUM = 255
  MEAN = 158.574
  MINIMUM = 1
  STANDARD_DEVIATION = 22.834
END_OBJECT = IMAGE
/* MAP OBJECT DEFINITIONS */
OBJECT = IMAGE_MAP_PROJECTION
  ^DATA_SET_MAP_PROJECTION_CATALOG= "DSMAP.CAT"
  A_AXIS_RADIUS = 3396.0
  B_AXIS_RADIUS = 3396.0
  C_AXIS_RADIUS = 3396.0
  CENTER_LATITUDE = 0.0
  CENTER_LONGITUDE = 30.0
  COORDINATE_SYSTEM_NAME = PLANETOGRAPHIC
  COORDINATE_SYSTEM_TYPE = "BODY-FIXED ROTATING"
  EASTERNMOST_LONGITUDE = 30.7291
  FIRST_STANDARD_PARALLEL = "N/A"
  LINE_FIRST_PIXEL = 1
  LINE_LAST_PIXEL = 36706
  LINE_PROJECTION_OFFSET = 77912.75
  MAP_PROJECTION_ROTATION = 0.0
  MAP_PROJECTION_TYPE = SINUSOIDAL
  MAP_RESOLUTION = 2370.85521546667
  MAP_SCALE = 0.025
  MAXIMUM_LATITUDE = 32.8613
  MINIMUM_LATITUDE = 17.3816
  POSITIVE_LONGITUDE_DIRECTION = EAST
  REFERENCE_LATITUDE = "N/A"
  REFERENCE_LONGITUDE = "N/A"
  SAMPLE_FIRST_PIXEL = 1
  SAMPLE_LAST_PIXEL = 4058
  SAMPLE_PROJECTION_OFFSET = 2594.25
  SECOND_STANDARD_PARALLEL = "N/A"
  WESTERNMOST_LONGITUDE = 28.7819
END_OBJECT = IMAGE_MAP_PROJECTION
END
