PDS_VERSION_ID = PDS3
/* FILE DATA ELEMENTS */
RECORD_TYPE = UNDEFINED
/* POINTERS TO DATA OBJECTS */
^IMAGE = ("H7412_0000_GR4.TIF")
/* IDENTIFICATION DATA ELEMENTS */
DATA_SET_ID = "MEX-M-HRSC-4-REFDR-MAPPROJECT-EXT3-V4.0"
DATA_SET_NAME = "MARS EXPRESS HRSC MAP PROJECTED REFDR EXTENSION3 V4.0"
DETECTOR_ID = MEX_HRSC_GREEN
EVENT_TYPE = "MARS-REGIONAL-MAPPING-Vo-Te"
INSTRUMENT_HOST_ID = MEX
INSTRUMENT_HOST_NAME = "MARS EXPRESS"
INSTRUMENT_ID = HRSC
INSTRUMENT_NAME = "HIGH RESOLUTION STEREO CAMERA"
MISSION_NAME = "MARS EXPRESS"
MISSION_PHASE_NAME = ME_Phase_18
PROCESSING_LEVEL_ID = 4
PRODUCT_CREATION_TIME = 2023-02-02T15:10:19.000Z
PRODUCT_ID = "H7412_0000_GR4.TIF"
RELEASE_ID = 0003
REVISION_ID = 0000
/* QUALITY DATA ELEMENTS */
DATA_QUALITY_ID = 1
DATA_QUALITY_DESC = "Data calculated based on original SPICE kernels"
/* TIME DATA ELEMENTS */
SPACECRAFT_CLOCK_START_COUNT = "1/0203501813.07289"
SPACECRAFT_CLOCK_STOP_COUNT = "1/0203502123.52757"
START_TIME = 2009-10-13T08:17:24.431Z
STOP_TIME = 2009-10-13T08:21:01.188Z
/* ORBITAL DATA ELEMENTS */
ASCENDING_NODE_LONGITUDE = 75.99
MAXIMUM_RESOLUTION = 0.1245
FOOTPRINT_POINT_LATITUDE = (27.8151,27.8122,27.8083,27.8041, 27.8039,27.7989,27.5495,27.0512,26.5535 ,26.0566,25.5604,25.065,24.5703,24.1909 ,23.9376,23.6844,23.4315,23.1788, 22.7917,22.5329,22.1446,21.8857,21.6229 ,21.3586,21.0946,20.8324,20.4327, 20.1632,19.8941,19.6252,19.3531,19.0784 ,18.804,18.5301,18.112,17.8323,17.5531, 17.1276,16.8428,16.5584,16.2694,15.9795 ,15.69,15.397,15.1019,14.8074,14.5092, 14.3591,14.3204,14.3188,14.3167,14.3147 ,14.3109,14.3074,14.3072,14.3095, 14.7594,15.0546,15.3502,15.6445,15.9345 ,16.2251,16.5153,16.8001,17.0854, 17.5125,17.7922,18.0723,18.4919,18.7663 ,19.0412,19.3164,19.5898,19.8591, 20.1286,20.3985,20.6679,20.9318,21.1959 ,21.4604,21.857,22.1156,22.3743,22.6334 ,22.8927,23.1516,23.4048,23.6581, 23.9117,24.2924,24.5462,25.0417,25.5379 ,26.0349,26.5326,27.031,27.2805,27.6549 ,27.7799,27.8151)
FOOTPRINT_POINT_LONGITUDE = (275.169,274.492,274.039,273.684,273.67 ,273.655,273.656,273.658,273.659,273.66 ,273.66,273.66,273.658,273.657,273.656, 273.655,273.654,273.652,273.65,273.648, 273.643,273.639,273.637,273.634,273.631 ,273.632,273.627,273.624,273.62,273.617 ,273.613,273.609,273.605,273.601, 273.594,273.589,273.584,273.576,273.571 ,273.565,273.559,273.553,273.547, 273.541,273.534,273.527,273.52,273.517, 273.516,273.918,274.272,274.54,274.96, 275.279,275.296,275.307,275.303,275.301 ,275.298,275.296,275.293,275.291, 275.288,275.286,275.284,275.28,275.278, 275.275,275.271,275.269,275.267,275.264 ,275.262,275.259,275.257,275.254, 275.252,275.249,275.247,275.244,275.24, 275.237,275.235,275.232,275.23,275.227, 275.224,275.222,275.219,275.215,275.212 ,275.207,275.201,275.196,275.19,275.184 ,275.181,275.176,275.175,275.169)
ORBIT_NUMBER = 7412
ORBITAL_ECCENTRICITY = 0.572
ORBITAL_INCLINATION = 86.81
ORBITAL_SEMIMAJOR_AXIS = 8737.53
PERIAPSIS_ALTITUDE = 355.52
PERIAPSIS_ARGUMENT_ANGLE = 138.11
PERIAPSIS_TIME = 2009-10-13T08:13:52.000Z
SPACECRAFT_ORIENTATION = (0.0,-1.0,0.0)
^MEX_ORIENTATION_DESC = "MEX_ORIENTATION_DESC.TXT"
SPACECRAFT_POINTING_MODE = ACROSSTRACK
^MEX_POINTING_DESC = "MEX_POINTING_DESC.TXT"
RIGHT_ASCENSION = -1e+32
DECLINATION = -1e+32
OFFSET_ANGLE = -0.15
SPACECRAFT_SOLAR_DISTANCE = 2.30522e+08
TARGET_NAME = MARS
/* CAMERA DATA ELEMENTS */
DETECTOR_TEMPERATURE = 18.1666
FOCAL_PLANE_TEMPERATURE = 8.1755
INST_CMPRS_NAME = "DISCRETE COSINE TRANSFORMATION (DCT)"
INST_CMPRS_RATIO = 23.1114
INST_CMPRS_QUALITY = 0
INST_CMPRS_QUANTZ_TBL_ID = 0
INSTRUMENT_TEMPERATURE = 12.2535
LENS_TEMPERATURE = 8.5833
MACROPIXEL_SIZE = 8
MISSING_FRAMES = 0
PIXEL_SUBSAMPLING_FLAG = N
SIGNAL_CHAIN_ID = 2
/* RADIOMETRIC DATA ELEMENTS */
BANDWIDTH = 88.0
CENTER_FILTER_WAVELENGTH = 538.0
RADIANCE_OFFSET = 1.81412
RADIANCE_SCALING_FACTOR = 0.00506987
REFLECTANCE_SCALING_FACTOR = 0.000231961
MEX:REFLECTANCE_OFFSET = 0.083001
/* IMAGE OBJECT DEFINITIONS */
OBJECT = IMAGE
  INTERCHANGE_FORMAT = BINARY
  LINES = 8004
  LINE_SAMPLES = 1054
  SAMPLE_TYPE = UNSIGNED_INTEGER
  SAMPLE_BITS = 8
  BANDS = 1
  BAND_STORAGE_TYPE = BAND_SEQUENTIAL
  MAXIMUM = 255
  MEAN = 152.864
  MINIMUM = 1
  STANDARD_DEVIATION = 16.8621
END_OBJECT = IMAGE
/* MAP OBJECT DEFINITIONS */
OBJECT = IMAGE_MAP_PROJECTION
  ^DATA_SET_MAP_PROJECTION_CATALOG= "DSMAP.CAT"
  A_AXIS_RADIUS = 3396.0
  B_AXIS_RADIUS = 3396.0
  C_AXIS_RADIUS = 3396.0
  CENTER_LATITUDE = 0.0
  CENTER_LONGITUDE = 274.0
  COORDINATE_SYSTEM_NAME = PLANETOGRAPHIC
  COORDINATE_SYSTEM_TYPE = "BODY-FIXED ROTATING"
  EASTERNMOST_LONGITUDE = 275.307
  FIRST_STANDARD_PARALLEL = "N/A"
  LINE_FIRST_PIXEL = 1
  LINE_LAST_PIXEL = 8004
  LINE_PROJECTION_OFFSET = 16484.1875
  MAP_PROJECTION_ROTATION = 0.0
  MAP_PROJECTION_TYPE = SINUSOIDAL
  MAP_RESOLUTION = 592.713803866667
  MAP_SCALE = 0.1
  MAXIMUM_LATITUDE = 27.8151
  MINIMUM_LATITUDE = 14.3072
  POSITIVE_LONGITUDE_DIRECTION = EAST
  REFERENCE_LATITUDE = "N/A"
  REFERENCE_LONGITUDE = "N/A"
  SAMPLE_FIRST_PIXEL = 1
  SAMPLE_LAST_PIXEL = 1054
  SAMPLE_PROJECTION_OFFSET = 296.0625
  SECOND_STANDARD_PARALLEL = "N/A"
  WESTERNMOST_LONGITUDE = 273.516
END_OBJECT = IMAGE_MAP_PROJECTION
END
