PDS_VERSION_ID = PDS3
/* FILE DATA ELEMENTS */
RECORD_TYPE = UNDEFINED
/* POINTERS TO DATA OBJECTS */
^IMAGE = ("H7404_0000_S24.TIF")
/* IDENTIFICATION DATA ELEMENTS */
DATA_SET_ID = "MEX-M-HRSC-4-REFDR-MAPPROJECT-EXT3-V4.0"
DATA_SET_NAME = "MARS EXPRESS HRSC MAP PROJECTED REFDR EXTENSION3 V4.0"
DETECTOR_ID = MEX_HRSC_S2
EVENT_TYPE = "MARS-REGIONAL-MAPPING-Im-La"
INSTRUMENT_HOST_ID = MEX
INSTRUMENT_HOST_NAME = "MARS EXPRESS"
INSTRUMENT_ID = HRSC
INSTRUMENT_NAME = "HIGH RESOLUTION STEREO CAMERA"
MISSION_NAME = "MARS EXPRESS"
MISSION_PHASE_NAME = ME_Phase_18
PROCESSING_LEVEL_ID = 4
PRODUCT_CREATION_TIME = 2023-02-02T15:10:19.000Z
PRODUCT_ID = "H7404_0000_S24.TIF"
RELEASE_ID = 0003
REVISION_ID = 0000
/* QUALITY DATA ELEMENTS */
DATA_QUALITY_ID = 1
DATA_QUALITY_DESC = "Data calculated based on original SPICE kernels"
/* TIME DATA ELEMENTS */
SPACECRAFT_CLOCK_START_COUNT = "1/0203303283.08384"
SPACECRAFT_CLOCK_STOP_COUNT = "1/0203303693.58524"
START_TIME = 2009-10-11T01:09:26.769Z
STOP_TIME = 2009-10-11T01:14:54.328Z
/* ORBITAL DATA ELEMENTS */
ASCENDING_NODE_LONGITUDE = 76.15
MAXIMUM_RESOLUTION = 0.0387
FOOTPRINT_POINT_LATITUDE = (21.2973,21.2828,21.2709,21.2592, 21.2589,21.2895,20.6834,20.2271,19.6138 ,18.9901,18.6796,18.3637,18.047,17.7308 ,17.2494,16.9283,16.4404,16.1153, 15.7836,15.4527,14.9633,14.4597,14.1214 ,13.5941,13.0801,12.7337,12.3841, 12.0333,11.678,11.1422,10.7831,10.2436, 9.87415,9.49967,8.94135,8.56618,7.99504 ,7.61298,7.22761,6.83846,6.44671,6.0545 ,5.66236,5.27304,4.88606,4.50345,4.12, 3.92992,3.91039,3.90862,3.91358,3.90586 ,3.90995,3.91466,3.91491,3.91565, 4.29825,4.68209,5.0682,5.45691,5.84807, 6.24061,6.63476,7.02612,7.41366,7.79899 ,8.18194,8.56202,8.93756,9.49956,10.053 ,10.6017,11.1439,11.503,11.8589,12.3896 ,12.9149,13.2629,13.6054,13.9498, 14.2883,14.796,15.1309,15.4701,15.7998, 16.1311,16.4564,16.7791,17.1043,17.4271 ,17.7487,18.0652,18.3825,18.6988,19.323 ,19.7873,20.5557,21.1615,21.3136, 21.2973)
FOOTPRINT_POINT_LONGITUDE = (2.96285,2.32624,1.79804,1.27572, 1.25948,1.25206,1.2404,1.23118,1.21793, 1.20409,1.19669,1.18923,1.1814,1.17344, 1.16092,1.15237,1.13891,1.12971,1.12026 ,1.1106,1.09437,1.07857,1.0676,1.05218, 1.03439,1.02223,1.00976,0.997026, 0.983903,0.963642,0.949736,0.927485, 0.91279,0.898143,0.874472,0.858281, 0.833291,0.815929,0.798012,0.779857, 0.761208,0.742015,0.722853,0.703375, 0.683646,0.663401,0.643325,0.633093, 0.632042,1.02133,1.60893,1.95187, 2.47118,3.14324,3.16827,3.17727,3.17022 ,3.1629,3.15577,3.149,3.14253,3.13583, 3.12915,3.12318,3.11712,3.1113,3.10565, 3.10031,3.09482,3.08814,3.0805,3.07392, 3.06721,3.06292,3.05879,3.05344,3.04829 ,3.04452,3.04065,3.03737,3.03392, 3.02944,3.02635,3.02623,3.02298,3.02022 ,3.01735,3.01255,3.01111,3.00919, 3.00668,3.00426,3.00178,2.99986,2.99475 ,2.99185,2.98676,2.98241,2.98141, 2.96285)
ORBIT_NUMBER = 7404
ORBITAL_ECCENTRICITY = 0.571
ORBITAL_INCLINATION = 86.81
ORBITAL_SEMIMAJOR_AXIS = 8733.25
PERIAPSIS_ALTITUDE = 355.12
PERIAPSIS_ARGUMENT_ANGLE = 139.48
PERIAPSIS_TIME = 2009-10-11T01:03:44.000Z
SPACECRAFT_ORIENTATION = (0.0,-1.0,0.0)
^MEX_ORIENTATION_DESC = "MEX_ORIENTATION_DESC.TXT"
SPACECRAFT_POINTING_MODE = ACROSSTRACK
^MEX_POINTING_DESC = "MEX_POINTING_DESC.TXT"
RIGHT_ASCENSION = -1e+32
DECLINATION = -1e+32
OFFSET_ANGLE = 0.6
SPACECRAFT_SOLAR_DISTANCE = 2.30082e+08
TARGET_NAME = MARS
/* CAMERA DATA ELEMENTS */
DETECTOR_TEMPERATURE = 18.9822
FOCAL_PLANE_TEMPERATURE = 8.5833
INST_CMPRS_NAME = "DISCRETE COSINE TRANSFORMATION (DCT)"
INST_CMPRS_RATIO = 12.599
INST_CMPRS_QUALITY = 0
INST_CMPRS_QUANTZ_TBL_ID = 0
INSTRUMENT_TEMPERATURE = 11.234
LENS_TEMPERATURE = 8.9911
MACROPIXEL_SIZE = 2
MISSING_FRAMES = 0
PIXEL_SUBSAMPLING_FLAG = N
SIGNAL_CHAIN_ID = 1
/* RADIOMETRIC DATA ELEMENTS */
BANDWIDTH = 178.0
CENTER_FILTER_WAVELENGTH = 679.0
RADIANCE_OFFSET = 3.53945
RADIANCE_SCALING_FACTOR = 0.035879
REFLECTANCE_SCALING_FACTOR = 0.00100586
MEX:REFLECTANCE_OFFSET = 0.0992282
/* IMAGE OBJECT DEFINITIONS */
OBJECT = IMAGE
  INTERCHANGE_FORMAT = BINARY
  LINES = 41324
  LINE_SAMPLES = 5321
  SAMPLE_TYPE = UNSIGNED_INTEGER
  SAMPLE_BITS = 8
  BANDS = 1
  BAND_STORAGE_TYPE = BAND_SEQUENTIAL
  MAXIMUM = 254
  MEAN = 131.831
  MINIMUM = 1
  STANDARD_DEVIATION = 16.0804
END_OBJECT = IMAGE
/* MAP OBJECT DEFINITIONS */
OBJECT = IMAGE_MAP_PROJECTION
  ^DATA_SET_MAP_PROJECTION_CATALOG= "DSMAP.CAT"
  A_AXIS_RADIUS = 3396.0
  B_AXIS_RADIUS = 3396.0
  C_AXIS_RADIUS = 3396.0
  CENTER_LATITUDE = 0.0
  CENTER_LONGITUDE = 2.0
  COORDINATE_SYSTEM_NAME = PLANETOGRAPHIC
  COORDINATE_SYSTEM_TYPE = "BODY-FIXED ROTATING"
  EASTERNMOST_LONGITUDE = 3.17727
  FIRST_STANDARD_PARALLEL = "N/A"
  LINE_FIRST_PIXEL = 1
  LINE_LAST_PIXEL = 41324
  LINE_PROJECTION_OFFSET = 50492.75
  MAP_PROJECTION_ROTATION = 0.0
  MAP_PROJECTION_TYPE = SINUSOIDAL
  MAP_RESOLUTION = 2370.85521546667
  MAP_SCALE = 0.025
  MAXIMUM_LATITUDE = 21.3136
  MINIMUM_LATITUDE = 3.90586
  POSITIVE_LONGITUDE_DIRECTION = EAST
  REFERENCE_LATITUDE = "N/A"
  REFERENCE_LONGITUDE = "N/A"
  SAMPLE_FIRST_PIXEL = 1
  SAMPLE_LAST_PIXEL = 5321
  SAMPLE_PROJECTION_OFFSET = 2916.25
  SECOND_STANDARD_PARALLEL = "N/A"
  WESTERNMOST_LONGITUDE = 0.632042
END_OBJECT = IMAGE_MAP_PROJECTION
END
