PDS_VERSION_ID = PDS3
/* FILE DATA ELEMENTS */
RECORD_TYPE = UNDEFINED
/* POINTERS TO DATA OBJECTS */
^IMAGE = ("H7395_0000_GR4.TIF")
/* IDENTIFICATION DATA ELEMENTS */
DATA_SET_ID = "MEX-M-HRSC-4-REFDR-MAPPROJECT-EXT3-V4.0"
DATA_SET_NAME = "MARS EXPRESS HRSC MAP PROJECTED REFDR EXTENSION3 V4.0"
DETECTOR_ID = MEX_HRSC_GREEN
EVENT_TYPE = "MARS-REGIONAL-MAPPING-Vo-Te-Pf"
INSTRUMENT_HOST_ID = MEX
INSTRUMENT_HOST_NAME = "MARS EXPRESS"
INSTRUMENT_ID = HRSC
INSTRUMENT_NAME = "HIGH RESOLUTION STEREO CAMERA"
MISSION_NAME = "MARS EXPRESS"
MISSION_PHASE_NAME = ME_Phase_18
PROCESSING_LEVEL_ID = 4
PRODUCT_CREATION_TIME = 2023-02-01T22:33:16.000Z
PRODUCT_ID = "H7395_0000_GR4.TIF"
RELEASE_ID = 0002
REVISION_ID = 0000
/* QUALITY DATA ELEMENTS */
DATA_QUALITY_ID = 1
DATA_QUALITY_DESC = "Data calculated based on original SPICE kernels"
/* TIME DATA ELEMENTS */
SPACECRAFT_CLOCK_START_COUNT = "1/0203079448.08257"
SPACECRAFT_CLOCK_STOP_COUNT = "1/0203079695.08193"
START_TIME = 2009-10-08T10:57:59.059Z
STOP_TIME = 2009-10-08T11:00:57.444Z
/* ORBITAL DATA ELEMENTS */
ASCENDING_NODE_LONGITUDE = 76.31
MAXIMUM_RESOLUTION = 0.1144
FOOTPRINT_POINT_LATITUDE = (46.0331,46.0189,46.0062,45.9901, 45.9896,45.9729,45.5189,45.0645,44.6097 ,44.1544,43.6987,43.4708,43.2427, 43.0146,42.7864,42.558,42.3296,42.1012, 41.8727,41.6441,41.4154,41.1867,40.9579 ,40.729,40.5001,40.2712,39.9278,39.6986 ,39.4696,39.2404,39.0116,38.7824, 38.4386,38.2091,37.98,37.7507,37.5215, 37.2921,37.0622,36.7181,36.4887,36.2593 ,35.9151,35.6858,35.4563,35.2269, 34.9976,34.6535,34.5389,34.467,34.4765, 34.4826,34.4854,34.4855,34.4873,34.717, 34.9468,35.1765,35.4063,35.6361,35.9809 ,36.2107,36.4405,36.7853,37.0151, 37.2449,37.5897,37.8195,38.0493,38.394, 38.6237,38.8535,39.0832,39.3129,39.5427 ,39.8871,40.1166,40.3461,40.5755, 40.8053,41.0342,41.2635,41.4928,41.722, 41.9512,42.1803,42.4093,42.6383,42.9816 ,43.3247,43.5534,43.7819,44.0105, 44.2389,44.4672,44.9236,45.3795,45.8351 ,45.949,46.0331)
FOOTPRINT_POINT_LONGITUDE = (189.53,188.812,188.312,187.778,187.761 ,187.716,187.751,187.784,187.816, 187.846,187.876,187.89,187.904,187.918, 187.932,187.945,187.958,187.971,187.984 ,187.996,188.008,188.02,188.031,188.043 ,188.054,188.064,188.081,188.091, 188.101,188.111,188.121,188.131,188.145 ,188.153,188.162,188.171,188.179, 188.187,188.194,188.205,188.213,188.22, 188.23,188.237,188.243,188.25,188.256, 188.265,188.268,188.27,188.849,189.389, 189.757,189.772,189.781,189.778,189.775 ,189.772,189.769,189.766,189.762, 189.758,189.755,189.75,189.747,189.744, 189.738,189.735,189.731,189.726,189.722 ,189.718,189.715,189.711,189.706,189.7, 189.697,189.692,189.688,189.683,189.68, 189.676,189.671,189.667,189.662,189.658 ,189.653,189.648,189.641,189.634, 189.628,189.623,189.618,189.613,189.608 ,189.597,189.585,189.574,189.571, 189.53)
ORBIT_NUMBER = 7395
ORBITAL_ECCENTRICITY = 0.571
ORBITAL_INCLINATION = 86.82
ORBITAL_SEMIMAJOR_AXIS = 8732.35
PERIAPSIS_ALTITUDE = 353.94
PERIAPSIS_ARGUMENT_ANGLE = 141.07
PERIAPSIS_TIME = 2009-10-08T10:59:55.000Z
SPACECRAFT_ORIENTATION = (0.0,-1.0,0.0)
^MEX_ORIENTATION_DESC = "MEX_ORIENTATION_DESC.TXT"
SPACECRAFT_POINTING_MODE = NADIR
^MEX_POINTING_DESC = "MEX_POINTING_DESC.TXT"
RIGHT_ASCENSION = -1e+32
DECLINATION = -1e+32
OFFSET_ANGLE = -1e+32
SPACECRAFT_SOLAR_DISTANCE = 2.29585e+08
TARGET_NAME = MARS
/* CAMERA DATA ELEMENTS */
DETECTOR_TEMPERATURE = 18.5744
FOCAL_PLANE_TEMPERATURE = 8.9911
INST_CMPRS_NAME = "DISCRETE COSINE TRANSFORMATION (DCT)"
INST_CMPRS_RATIO = 26.4904
INST_CMPRS_QUALITY = 0
INST_CMPRS_QUANTZ_TBL_ID = 0
INSTRUMENT_TEMPERATURE = 11.4379
LENS_TEMPERATURE = 9.195
MACROPIXEL_SIZE = 8
MISSING_FRAMES = 0
PIXEL_SUBSAMPLING_FLAG = N
SIGNAL_CHAIN_ID = 2
/* RADIOMETRIC DATA ELEMENTS */
BANDWIDTH = 88.0
CENTER_FILTER_WAVELENGTH = 538.0
RADIANCE_OFFSET = 1.48436
RADIANCE_SCALING_FACTOR = 0.0036074
REFLECTANCE_SCALING_FACTOR = 0.000163708
MEX:REFLECTANCE_OFFSET = 0.0673622
/* IMAGE OBJECT DEFINITIONS */
OBJECT = IMAGE
  INTERCHANGE_FORMAT = BINARY
  LINES = 6841
  LINE_SAMPLES = 920
  SAMPLE_TYPE = UNSIGNED_INTEGER
  SAMPLE_BITS = 8
  BANDS = 1
  BAND_STORAGE_TYPE = BAND_SEQUENTIAL
  MAXIMUM = 255
  MEAN = 112.166
  MINIMUM = 1
  STANDARD_DEVIATION = 35.0475
END_OBJECT = IMAGE
/* MAP OBJECT DEFINITIONS */
OBJECT = IMAGE_MAP_PROJECTION
  ^DATA_SET_MAP_PROJECTION_CATALOG= "DSMAP.CAT"
  A_AXIS_RADIUS = 3396.0
  B_AXIS_RADIUS = 3396.0
  C_AXIS_RADIUS = 3396.0
  CENTER_LATITUDE = 0.0
  CENTER_LONGITUDE = 189.0
  COORDINATE_SYSTEM_NAME = PLANETOGRAPHIC
  COORDINATE_SYSTEM_TYPE = "BODY-FIXED ROTATING"
  EASTERNMOST_LONGITUDE = 189.781
  FIRST_STANDARD_PARALLEL = "N/A"
  LINE_FIRST_PIXEL = 1
  LINE_LAST_PIXEL = 6841
  LINE_PROJECTION_OFFSET = 27278.0625
  MAP_PROJECTION_ROTATION = 0.0
  MAP_PROJECTION_TYPE = SINUSOIDAL
  MAP_RESOLUTION = 592.713803866667
  MAP_SCALE = 0.1
  MAXIMUM_LATITUDE = 46.0331
  MINIMUM_LATITUDE = 34.467
  POSITIVE_LONGITUDE_DIRECTION = EAST
  REFERENCE_LATITUDE = "N/A"
  REFERENCE_LONGITUDE = "N/A"
  SAMPLE_FIRST_PIXEL = 1
  SAMPLE_LAST_PIXEL = 920
  SAMPLE_PROJECTION_OFFSET = 536.4375
  SECOND_STANDARD_PARALLEL = "N/A"
  WESTERNMOST_LONGITUDE = 187.716
END_OBJECT = IMAGE_MAP_PROJECTION
END
