PDS_VERSION_ID = PDS3
/* FILE DATA ELEMENTS */
RECORD_TYPE = UNDEFINED
/* POINTERS TO DATA OBJECTS */
^IMAGE = ("H7394_0000_ND4.TIF")
/* IDENTIFICATION DATA ELEMENTS */
DATA_SET_ID = "MEX-M-HRSC-4-REFDR-MAPPROJECT-EXT3-V4.0"
DATA_SET_NAME = "MARS EXPRESS HRSC MAP PROJECTED REFDR EXTENSION3 V4.0"
DETECTOR_ID = MEX_HRSC_NADIR
EVENT_TYPE = "MARS-REGIONAL-MAPPING-Vo-Te"
INSTRUMENT_HOST_ID = MEX
INSTRUMENT_HOST_NAME = "MARS EXPRESS"
INSTRUMENT_ID = HRSC
INSTRUMENT_NAME = "HIGH RESOLUTION STEREO CAMERA"
MISSION_NAME = "MARS EXPRESS"
MISSION_PHASE_NAME = ME_Phase_18
PROCESSING_LEVEL_ID = 4
PRODUCT_CREATION_TIME = 2023-02-01T22:33:16.000Z
PRODUCT_ID = "H7394_0000_ND4.TIF"
RELEASE_ID = 0002
REVISION_ID = 0000
/* QUALITY DATA ELEMENTS */
DATA_QUALITY_ID = 1
DATA_QUALITY_DESC = "Data calculated based on original SPICE kernels"
/* TIME DATA ELEMENTS */
SPACECRAFT_CLOCK_START_COUNT = "1/0203055020.08929"
SPACECRAFT_CLOCK_STOP_COUNT = "1/0203055436.56798"
START_TIME = 2009-10-08T04:11:00.121Z
STOP_TIME = 2009-10-08T04:16:02.116Z
/* ORBITAL DATA ELEMENTS */
ASCENDING_NODE_LONGITUDE = 76.34
MAXIMUM_RESOLUTION = 0.0168
FOOTPRINT_POINT_LATITUDE = (20.3265,20.328,20.3282,20.3267,20.3266 ,20.3265,19.8651,19.2468,18.4643, 17.8341,17.3527,16.7102,16.3831,16.0553 ,15.7281,15.3961,15.0622,14.7289, 14.3905,14.0507,13.5387,13.1929,12.8477 ,12.4965,11.9697,11.6124,11.2553, 10.7126,10.35,9.98112,9.61268,9.23879, 8.86469,8.48506,7.91233,7.5268,7.13733, 6.54818,6.15175,5.7506,5.34777,4.94034, 4.52913,4.11557,3.69758,3.27513,2.6356, 2.42118,2.41319,2.40713,2.3992,2.39298, 2.38632,2.37657,2.37619,2.37637,2.80617 ,3.2327,3.6563,4.07527,4.49005,4.90235, 5.31076,5.71467,6.11689,6.51424,7.10487 ,7.49533,7.88172,8.45584,8.83642, 9.21132,9.58613,9.95534,10.325,10.6884, 11.2323,11.5902,11.9483,12.4761,12.8282 ,13.174,13.5205,14.0336,14.374,14.7132, 15.0471,15.3816,15.7143,16.0421,16.3705 ,16.6983,17.3419,17.8243,18.4556, 19.0849,19.7038,20.1691,20.3212, 20.3265)
FOOTPRINT_POINT_LONGITUDE = (290.412,289.939,289.495,288.877, 288.861,288.849,288.844,288.838,288.829 ,288.82,288.813,288.803,288.797,288.792 ,288.786,288.78,288.773,288.767,288.759 ,288.752,288.741,288.733,288.725, 288.716,288.703,288.694,288.684,288.669 ,288.659,288.649,288.638,288.626, 288.615,288.602,288.583,288.57,288.557, 288.536,288.521,288.506,288.491,288.475 ,288.458,288.442,288.425,288.409, 288.382,288.373,288.373,288.745,289.223 ,289.592,289.982,290.544,290.566, 290.577,290.572,290.568,290.564,290.56, 290.557,290.552,290.548,290.544,290.54, 290.536,290.531,290.527,290.524,290.518 ,290.515,290.512,290.508,290.505, 290.502,290.499,290.494,290.491,290.488 ,290.484,290.481,290.478,290.475,290.47 ,290.467,290.465,290.462,290.459, 290.456,290.453,290.45,290.447,290.442, 290.438,290.432,290.426,290.42,290.416, 290.414,290.412)
ORBIT_NUMBER = 7394
ORBITAL_ECCENTRICITY = 0.572
ORBITAL_INCLINATION = 86.81
ORBITAL_SEMIMAJOR_AXIS = 8739.37
PERIAPSIS_ALTITUDE = 353.65
PERIAPSIS_ARGUMENT_ANGLE = 141.26
PERIAPSIS_TIME = 2009-10-08T04:06:13.000Z
SPACECRAFT_ORIENTATION = (0.0,-1.0,0.0)
^MEX_ORIENTATION_DESC = "MEX_ORIENTATION_DESC.TXT"
SPACECRAFT_POINTING_MODE = ACROSSTRACK
^MEX_POINTING_DESC = "MEX_POINTING_DESC.TXT"
RIGHT_ASCENSION = -1e+32
DECLINATION = -1e+32
OFFSET_ANGLE = -0.3
SPACECRAFT_SOLAR_DISTANCE = 2.2953e+08
TARGET_NAME = MARS
/* CAMERA DATA ELEMENTS */
DETECTOR_TEMPERATURE = 18.1666
FOCAL_PLANE_TEMPERATURE = 8.5833
INST_CMPRS_NAME = "DISCRETE COSINE TRANSFORMATION (DCT)"
INST_CMPRS_RATIO = 7.64168
INST_CMPRS_QUALITY = 0
INST_CMPRS_QUANTZ_TBL_ID = 0
INSTRUMENT_TEMPERATURE = 11.234
LENS_TEMPERATURE = 9.195
MACROPIXEL_SIZE = 1
MISSING_FRAMES = 0
PIXEL_SUBSAMPLING_FLAG = N
SIGNAL_CHAIN_ID = 0
/* RADIOMETRIC DATA ELEMENTS */
BANDWIDTH = 177.0
CENTER_FILTER_WAVELENGTH = 677.5
RADIANCE_OFFSET = 4.77412
RADIANCE_SCALING_FACTOR = 0.0259873
REFLECTANCE_SCALING_FACTOR = 0.000727322
MEX:REFLECTANCE_OFFSET = 0.133616
/* IMAGE OBJECT DEFINITIONS */
OBJECT = IMAGE
  INTERCHANGE_FORMAT = BINARY
  LINES = 85124
  LINE_SAMPLES = 10439
  SAMPLE_TYPE = UNSIGNED_INTEGER
  SAMPLE_BITS = 8
  BANDS = 1
  BAND_STORAGE_TYPE = BAND_SEQUENTIAL
  MAXIMUM = 255
  MEAN = 110.394
  MINIMUM = 1
  STANDARD_DEVIATION = 33.2408
END_OBJECT = IMAGE
/* MAP OBJECT DEFINITIONS */
OBJECT = IMAGE_MAP_PROJECTION
  ^DATA_SET_MAP_PROJECTION_CATALOG= "DSMAP.CAT"
  A_AXIS_RADIUS = 3396.0
  B_AXIS_RADIUS = 3396.0
  C_AXIS_RADIUS = 3396.0
  CENTER_LATITUDE = 0.0
  CENTER_LONGITUDE = 290.0
  COORDINATE_SYSTEM_NAME = PLANETOGRAPHIC
  COORDINATE_SYSTEM_TYPE = "BODY-FIXED ROTATING"
  EASTERNMOST_LONGITUDE = 290.577
  FIRST_STANDARD_PARALLEL = "N/A"
  LINE_FIRST_PIXEL = 1
  LINE_LAST_PIXEL = 85124
  LINE_PROJECTION_OFFSET = 96391.0
  MAP_PROJECTION_ROTATION = 0.0
  MAP_PROJECTION_TYPE = SINUSOIDAL
  MAP_RESOLUTION = 4741.71043093333
  MAP_SCALE = 0.0125
  MAXIMUM_LATITUDE = 20.3282
  MINIMUM_LATITUDE = 2.37619
  POSITIVE_LONGITUDE_DIRECTION = EAST
  REFERENCE_LATITUDE = "N/A"
  REFERENCE_LONGITUDE = "N/A"
  SAMPLE_FIRST_PIXEL = 1
  SAMPLE_LAST_PIXEL = 10439
  SAMPLE_PROJECTION_OFFSET = 7706.0
  SECOND_STANDARD_PARALLEL = "N/A"
  WESTERNMOST_LONGITUDE = 288.373
END_OBJECT = IMAGE_MAP_PROJECTION
END
