PDS_VERSION_ID = PDS3
/* FILE DATA ELEMENTS */
RECORD_TYPE = UNDEFINED
/* POINTERS TO DATA OBJECTS */
^IMAGE = ("H7391_0000_IR4.TIF")
/* IDENTIFICATION DATA ELEMENTS */
DATA_SET_ID = "MEX-M-HRSC-4-REFDR-MAPPROJECT-EXT3-V4.0"
DATA_SET_NAME = "MARS EXPRESS HRSC MAP PROJECTED REFDR EXTENSION3 V4.0"
DETECTOR_ID = MEX_HRSC_IR
EVENT_TYPE = "MARS-REGIONAL-MAPPING-Vo-Te"
INSTRUMENT_HOST_ID = MEX
INSTRUMENT_HOST_NAME = "MARS EXPRESS"
INSTRUMENT_ID = HRSC
INSTRUMENT_NAME = "HIGH RESOLUTION STEREO CAMERA"
MISSION_NAME = "MARS EXPRESS"
MISSION_PHASE_NAME = ME_Phase_18
PROCESSING_LEVEL_ID = 4
PRODUCT_CREATION_TIME = 2023-02-01T22:33:16.000Z
PRODUCT_ID = "H7391_0000_IR4.TIF"
RELEASE_ID = 0002
REVISION_ID = 0000
/* QUALITY DATA ELEMENTS */
DATA_QUALITY_ID = 1
DATA_QUALITY_DESC = "Data calculated based on original SPICE kernels"
/* TIME DATA ELEMENTS */
SPACECRAFT_CLOCK_START_COUNT = "1/0202980198.09066"
SPACECRAFT_CLOCK_STOP_COUNT = "1/0202980526.50112"
START_TIME = 2009-10-07T07:23:26.445Z
STOP_TIME = 2009-10-07T07:27:41.812Z
/* ORBITAL DATA ELEMENTS */
ASCENDING_NODE_LONGITUDE = 76.4
MAXIMUM_RESOLUTION = 0.1173
FOOTPRINT_POINT_LATITUDE = (41.801,41.7961,41.7823,41.782,41.7363, 41.2559,40.6144,40.1324,39.4886,39.0051 ,38.6821,38.359,37.8731,37.3869,37.0628 ,36.7381,36.4133,36.0883,35.763,35.4374 ,34.9485,34.6224,34.2962,33.9699, 33.6428,33.3162,32.9893,32.6623,32.3348 ,32.0074,31.6799,31.3523,31.0243, 30.6965,30.3683,30.0404,29.7122,29.3839 ,29.0552,28.7262,28.3966,28.0674, 27.7394,27.2477,26.9196,26.3598,25.7763 ,25.3849,25.1878,25.1837,25.183,25.175, 25.1749,25.1768,25.7644,26.3536,26.7471 ,27.0807,27.4091,27.7378,28.0668, 28.3957,28.8886,29.2173,29.5458,29.8745 ,30.203,30.5313,30.8597,31.1881,31.5162 ,31.8446,32.1726,32.6643,33.1558,33.483 ,33.8104,34.1378,34.4643,34.791,35.1173 ,35.4435,35.77,36.0959,36.5844,36.9098, 37.3973,37.7224,38.0467,38.3708,38.6948 ,39.0184,39.3415,39.8258,40.1483, 40.4704,40.9534,41.5962,41.7566,41.801)
FOOTPRINT_POINT_LONGITUDE = (233.358,232.617,231.745,231.73,231.711 ,231.735,231.766,231.788,231.815, 231.835,231.848,231.86,231.877,231.894, 231.904,231.915,231.924,231.934,231.943 ,231.952,231.964,231.972,231.98,231.987 ,231.994,232.001,232.007,232.013, 232.019,232.024,232.029,232.034,232.038 ,232.043,232.047,232.05,232.054,232.057 ,232.059,232.062,232.064,232.066, 232.067,232.07,232.071,232.073,232.075, 232.075,232.074,232.074,233.042,233.491 ,233.504,233.513,233.511,233.508, 233.505,233.503,233.502,233.5,233.498, 233.497,233.494,233.492,233.49,233.488, 233.486,233.484,233.482,233.48,233.478, 233.476,233.474,233.47,233.467,233.464, 233.462,233.459,233.457,233.454,233.452 ,233.449,233.446,233.444,233.439, 233.437,233.432,233.429,233.426,233.423 ,233.42,233.416,233.413,233.408,233.405 ,233.401,233.396,233.388,233.386, 233.358)
ORBIT_NUMBER = 7391
ORBITAL_ECCENTRICITY = 0.572
ORBITAL_INCLINATION = 86.82
ORBITAL_SEMIMAJOR_AXIS = 8743.12
PERIAPSIS_ALTITUDE = 352.81
PERIAPSIS_ARGUMENT_ANGLE = 141.75
PERIAPSIS_TIME = 2009-10-07T07:24:48.000Z
SPACECRAFT_ORIENTATION = (0.0,-1.0,0.0)
^MEX_ORIENTATION_DESC = "MEX_ORIENTATION_DESC.TXT"
SPACECRAFT_POINTING_MODE = ACROSSTRACK
^MEX_POINTING_DESC = "MEX_POINTING_DESC.TXT"
RIGHT_ASCENSION = -1e+32
DECLINATION = -1e+32
OFFSET_ANGLE = 0.2
SPACECRAFT_SOLAR_DISTANCE = 2.29364e+08
TARGET_NAME = MARS
/* CAMERA DATA ELEMENTS */
DETECTOR_TEMPERATURE = 17.7588
FOCAL_PLANE_TEMPERATURE = 8.9911
INST_CMPRS_NAME = "DISCRETE COSINE TRANSFORMATION (DCT)"
INST_CMPRS_RATIO = 10.2251
INST_CMPRS_QUALITY = 0
INST_CMPRS_QUANTZ_TBL_ID = 0
INSTRUMENT_TEMPERATURE = 11.6418
LENS_TEMPERATURE = 9.3989
MACROPIXEL_SIZE = 8
MISSING_FRAMES = 0
PIXEL_SUBSAMPLING_FLAG = N
SIGNAL_CHAIN_ID = 2
/* RADIOMETRIC DATA ELEMENTS */
BANDWIDTH = 81.0
CENTER_FILTER_WAVELENGTH = 955.5
RADIANCE_OFFSET = 0.964154
RADIANCE_SCALING_FACTOR = 0.00821185
REFLECTANCE_SCALING_FACTOR = 0.000932003
MEX:REFLECTANCE_OFFSET = 0.109427
/* IMAGE OBJECT DEFINITIONS */
OBJECT = IMAGE
  INTERCHANGE_FORMAT = BINARY
  LINES = 9836
  LINE_SAMPLES = 856
  SAMPLE_TYPE = UNSIGNED_INTEGER
  SAMPLE_BITS = 8
  BANDS = 1
  BAND_STORAGE_TYPE = BAND_SEQUENTIAL
  MAXIMUM = 255
  MEAN = 127.821
  MINIMUM = 1
  STANDARD_DEVIATION = 34.3847
END_OBJECT = IMAGE
/* MAP OBJECT DEFINITIONS */
OBJECT = IMAGE_MAP_PROJECTION
  ^DATA_SET_MAP_PROJECTION_CATALOG= "DSMAP.CAT"
  A_AXIS_RADIUS = 3396.0
  B_AXIS_RADIUS = 3396.0
  C_AXIS_RADIUS = 3396.0
  CENTER_LATITUDE = 0.0
  CENTER_LONGITUDE = 233.0
  COORDINATE_SYSTEM_NAME = PLANETOGRAPHIC
  COORDINATE_SYSTEM_TYPE = "BODY-FIXED ROTATING"
  EASTERNMOST_LONGITUDE = 233.513
  FIRST_STANDARD_PARALLEL = "N/A"
  LINE_FIRST_PIXEL = 1
  LINE_LAST_PIXEL = 9836
  LINE_PROJECTION_OFFSET = 24753.0625
  MAP_PROJECTION_ROTATION = 0.0
  MAP_PROJECTION_TYPE = SINUSOIDAL
  MAP_RESOLUTION = 592.713803866667
  MAP_SCALE = 0.1
  MAXIMUM_LATITUDE = 41.801
  MINIMUM_LATITUDE = 25.1749
  POSITIVE_LONGITUDE_DIRECTION = EAST
  REFERENCE_LATITUDE = "N/A"
  REFERENCE_LONGITUDE = "N/A"
  SAMPLE_FIRST_PIXEL = 1
  SAMPLE_LAST_PIXEL = 856
  SAMPLE_PROJECTION_OFFSET = 572.4375
  SECOND_STANDARD_PARALLEL = "N/A"
  WESTERNMOST_LONGITUDE = 231.711
END_OBJECT = IMAGE_MAP_PROJECTION
END
