PDS_VERSION_ID = PDS3
/* FILE DATA ELEMENTS */
RECORD_TYPE = UNDEFINED
/* POINTERS TO DATA OBJECTS */
^IMAGE = ("H7390_0000_S24.TIF")
/* IDENTIFICATION DATA ELEMENTS */
DATA_SET_ID = "MEX-M-HRSC-4-REFDR-MAPPROJECT-EXT3-V4.0"
DATA_SET_NAME = "MARS EXPRESS HRSC MAP PROJECTED REFDR EXTENSION3 V4.0"
DETECTOR_ID = MEX_HRSC_S2
EVENT_TYPE = "MARS-REGIONAL-MAPPING-Vo-Lc-Pf"
INSTRUMENT_HOST_ID = MEX
INSTRUMENT_HOST_NAME = "MARS EXPRESS"
INSTRUMENT_ID = HRSC
INSTRUMENT_NAME = "HIGH RESOLUTION STEREO CAMERA"
MISSION_NAME = "MARS EXPRESS"
MISSION_PHASE_NAME = ME_Phase_18
PROCESSING_LEVEL_ID = 4
PRODUCT_CREATION_TIME = 2023-02-01T22:33:16.000Z
PRODUCT_ID = "H7390_0000_S24.TIF"
RELEASE_ID = 0002
REVISION_ID = 0000
/* QUALITY DATA ELEMENTS */
DATA_QUALITY_ID = 1
DATA_QUALITY_DESC = "Data calculated based on original SPICE kernels"
/* TIME DATA ELEMENTS */
SPACECRAFT_CLOCK_START_COUNT = "1/0202955397.07289"
SPACECRAFT_CLOCK_STOP_COUNT = "1/0202955668.07592"
START_TIME = 2009-10-07T00:31:03.984Z
STOP_TIME = 2009-10-07T00:34:28.621Z
/* ORBITAL DATA ELEMENTS */
ASCENDING_NODE_LONGITUDE = 76.42
MAXIMUM_RESOLUTION = 0.0306
FOOTPRINT_POINT_LATITUDE = (40.1108,40.1022,40.0951,40.085,40.0847 ,40.1654,39.9122,39.6594,39.4067, 39.1542,38.9019,38.6497,38.2719,38.02, 37.7686,37.5174,37.2663,37.0152,36.7645 ,36.5139,36.2635,35.8881,35.6382, 35.3886,35.1393,34.8901,34.5186,34.2679 ,34.0197,33.7715,33.2763,32.7817,32.288 ,31.7955,31.3035,30.8131,30.5445, 30.2534,29.9621,29.6713,29.3807,29.0909 ,28.8014,28.5121,28.2233,27.9352, 27.6477,27.3599,27.2165,27.1883,27.1902 ,27.1919,27.193,27.1929,27.1936,27.4811 ,27.7689,28.0572,28.3459,28.6352, 28.9248,29.2149,29.5055,29.7964,30.088, 30.3798,30.7996,31.2907,31.7822,32.2757 ,32.7705,33.3899,33.6379,33.8863, 34.1354,34.3844,34.6336,34.8829,35.1324 ,35.3822,35.6322,35.8825,36.133,36.3837 ,36.7603,37.0116,37.2631,37.5146, 37.7665,38.0185,38.2705,38.5228,38.7754 ,39.0283,39.2812,39.5343,39.7871, 40.0409,40.1677,40.1108)
FOOTPRINT_POINT_LONGITUDE = (333.958,333.357,332.926,332.387, 332.371,332.331,332.343,332.354,332.364 ,332.375,332.385,332.395,332.409, 332.419,332.428,332.437,332.445,332.453 ,332.461,332.469,332.477,332.488, 332.495,332.502,332.508,332.515,332.523 ,332.53,332.535,332.541,332.551,332.56, 332.569,332.577,332.584,332.591,332.594 ,332.597,332.6,332.603,332.606,332.608, 332.61,332.612,332.614,332.615,332.616, 332.618,332.618,332.618,333.023,333.667 ,334.147,334.162,334.167,334.164, 334.161,334.158,334.155,334.152,334.149 ,334.145,334.142,334.139,334.136, 334.132,334.127,334.122,334.116,334.11, 334.103,334.096,334.092,334.089,334.086 ,334.082,334.079,334.075,334.072, 334.068,334.064,334.061,334.057,334.053 ,334.047,334.043,334.04,334.035,334.031 ,334.027,334.023,334.018,334.014,334.01 ,334.005,334.0,333.996,333.991,333.989, 333.958)
ORBIT_NUMBER = 7390
ORBITAL_ECCENTRICITY = 0.572
ORBITAL_INCLINATION = 86.82
ORBITAL_SEMIMAJOR_AXIS = 8734.81
PERIAPSIS_ALTITUDE = 353.37
PERIAPSIS_ARGUMENT_ANGLE = 141.94
PERIAPSIS_TIME = 2009-10-07T00:31:05.000Z
SPACECRAFT_ORIENTATION = (0.0,-1.0,0.0)
^MEX_ORIENTATION_DESC = "MEX_ORIENTATION_DESC.TXT"
SPACECRAFT_POINTING_MODE = NADIR
^MEX_POINTING_DESC = "MEX_POINTING_DESC.TXT"
RIGHT_ASCENSION = -1e+32
DECLINATION = -1e+32
OFFSET_ANGLE = -1e+32
SPACECRAFT_SOLAR_DISTANCE = 2.29308e+08
TARGET_NAME = MARS
/* CAMERA DATA ELEMENTS */
DETECTOR_TEMPERATURE = 18.1666
FOCAL_PLANE_TEMPERATURE = 7.9716
INST_CMPRS_NAME = "DISCRETE COSINE TRANSFORMATION (DCT)"
INST_CMPRS_RATIO = 13.1264
INST_CMPRS_QUALITY = 0
INST_CMPRS_QUANTZ_TBL_ID = 0
INSTRUMENT_TEMPERATURE = 10.8262
LENS_TEMPERATURE = 8.3794
MACROPIXEL_SIZE = 2
MISSING_FRAMES = 0
PIXEL_SUBSAMPLING_FLAG = N
SIGNAL_CHAIN_ID = 1
/* RADIOMETRIC DATA ELEMENTS */
BANDWIDTH = 178.0
CENTER_FILTER_WAVELENGTH = 679.0
RADIANCE_OFFSET = 3.68588
RADIANCE_SCALING_FACTOR = 0.013551
REFLECTANCE_SCALING_FACTOR = 0.000377346
MEX:REFLECTANCE_OFFSET = 0.102638
/* IMAGE OBJECT DEFINITIONS */
OBJECT = IMAGE
  INTERCHANGE_FORMAT = BINARY
  LINES = 30806
  LINE_SAMPLES = 3603
  SAMPLE_TYPE = UNSIGNED_INTEGER
  SAMPLE_BITS = 8
  BANDS = 1
  BAND_STORAGE_TYPE = BAND_SEQUENTIAL
  MAXIMUM = 255
  MEAN = 109.497
  MINIMUM = 1
  STANDARD_DEVIATION = 60.0668
END_OBJECT = IMAGE
/* MAP OBJECT DEFINITIONS */
OBJECT = IMAGE_MAP_PROJECTION
  ^DATA_SET_MAP_PROJECTION_CATALOG= "DSMAP.CAT"
  A_AXIS_RADIUS = 3396.0
  B_AXIS_RADIUS = 3396.0
  C_AXIS_RADIUS = 3396.0
  CENTER_LATITUDE = 0.0
  CENTER_LONGITUDE = 333.0
  COORDINATE_SYSTEM_NAME = PLANETOGRAPHIC
  COORDINATE_SYSTEM_TYPE = "BODY-FIXED ROTATING"
  EASTERNMOST_LONGITUDE = 334.167
  FIRST_STANDARD_PARALLEL = "N/A"
  LINE_FIRST_PIXEL = 1
  LINE_LAST_PIXEL = 30806
  LINE_PROJECTION_OFFSET = 95233.25
  MAP_PROJECTION_ROTATION = 0.0
  MAP_PROJECTION_TYPE = SINUSOIDAL
  MAP_RESOLUTION = 2370.85521546667
  MAP_SCALE = 0.025
  MAXIMUM_LATITUDE = 40.1677
  MINIMUM_LATITUDE = 27.1883
  POSITIVE_LONGITUDE_DIRECTION = EAST
  REFERENCE_LATITUDE = "N/A"
  REFERENCE_LONGITUDE = "N/A"
  SAMPLE_FIRST_PIXEL = 1
  SAMPLE_LAST_PIXEL = 3603
  SAMPLE_PROJECTION_OFFSET = 1206.25
  SECOND_STANDARD_PARALLEL = "N/A"
  WESTERNMOST_LONGITUDE = 332.331
END_OBJECT = IMAGE_MAP_PROJECTION
END
