PDS_VERSION_ID = PDS3
/* FILE DATA ELEMENTS */
RECORD_TYPE = UNDEFINED
/* POINTERS TO DATA OBJECTS */
^IMAGE = ("H7390_0000_RE4.TIF")
/* IDENTIFICATION DATA ELEMENTS */
DATA_SET_ID = "MEX-M-HRSC-4-REFDR-MAPPROJECT-EXT3-V4.0"
DATA_SET_NAME = "MARS EXPRESS HRSC MAP PROJECTED REFDR EXTENSION3 V4.0"
DETECTOR_ID = MEX_HRSC_RED
EVENT_TYPE = "MARS-REGIONAL-MAPPING-Vo-Lc-Pf"
INSTRUMENT_HOST_ID = MEX
INSTRUMENT_HOST_NAME = "MARS EXPRESS"
INSTRUMENT_ID = HRSC
INSTRUMENT_NAME = "HIGH RESOLUTION STEREO CAMERA"
MISSION_NAME = "MARS EXPRESS"
MISSION_PHASE_NAME = ME_Phase_18
PROCESSING_LEVEL_ID = 4
PRODUCT_CREATION_TIME = 2023-02-01T22:33:16.000Z
PRODUCT_ID = "H7390_0000_RE4.TIF"
RELEASE_ID = 0002
REVISION_ID = 0000
/* QUALITY DATA ELEMENTS */
DATA_QUALITY_ID = 1
DATA_QUALITY_DESC = "Data calculated based on original SPICE kernels"
/* TIME DATA ELEMENTS */
SPACECRAFT_CLOCK_START_COUNT = "1/0202955397.07289"
SPACECRAFT_CLOCK_STOP_COUNT = "1/0202955668.07592"
START_TIME = 2009-10-07T00:30:58.577Z
STOP_TIME = 2009-10-07T00:34:22.207Z
/* ORBITAL DATA ELEMENTS */
ASCENDING_NODE_LONGITUDE = 76.42
MAXIMUM_RESOLUTION = 0.12
FOOTPRINT_POINT_LATITUDE = (40.1134,40.1079,40.099,40.0873,40.087, 40.1523,39.9017,39.6513,39.4011,39.1509 ,38.9009,38.6511,38.2766,38.027,37.7777 ,37.5286,37.2796,37.0305,36.7819, 36.5333,36.2849,36.0365,35.7886,35.5406 ,35.293,35.0455,34.7979,34.4271,34.1805 ,33.934,33.6875,33.4413,33.1954,32.9495 ,32.4584,31.9683,31.4791,30.8685, 30.3819,30.105,29.8153,29.3812,29.0923, 28.8039,28.3719,28.0842,27.7972,27.3671 ,27.2241,27.1908,27.192,27.1937,27.1953 ,27.1961,27.1961,27.1981,27.6283, 27.9154,28.2031,28.4911,28.7795,29.0684 ,29.3576,29.6471,29.9371,30.2276, 30.4869,30.9747,31.5855,32.0758,32.5672 ,32.8131,33.0591,33.3055,33.6754, 34.0459,34.2932,34.6643,35.036,35.2839, 35.5318,35.7802,36.153,36.4016,36.6507, 36.8999,37.1492,37.3986,37.6482,37.8978 ,38.1478,38.3977,38.7732,39.0237, 39.2743,39.5248,39.7755,40.0267,40.1521 ,40.1134)
FOOTPRINT_POINT_LONGITUDE = (333.953,333.555,333.009,332.403, 332.389,332.347,332.359,332.37,332.38, 332.391,332.401,332.411,332.425,332.435 ,332.443,332.452,332.461,332.469, 332.477,332.485,332.492,332.5,332.507, 332.514,332.521,332.527,332.534,332.543 ,332.548,332.554,332.559,332.564, 332.569,332.574,332.583,332.592,332.599 ,332.608,332.614,332.617,332.62,332.624 ,332.626,332.629,332.632,332.633, 332.635,332.637,332.637,332.637,332.921 ,333.249,333.791,334.134,334.148, 334.158,334.154,334.151,334.148,334.145 ,334.142,334.139,334.136,334.133, 334.129,334.126,334.123,334.118,334.111 ,334.105,334.099,334.096,334.093,334.09 ,334.085,334.08,334.077,334.072,334.067 ,334.063,334.06,334.056,334.051,334.047 ,334.043,334.04,334.036,334.032,334.028 ,334.024,334.02,334.015,334.009,334.005 ,334.0,333.996,333.991,333.987,333.984, 333.953)
ORBIT_NUMBER = 7390
ORBITAL_ECCENTRICITY = 0.572
ORBITAL_INCLINATION = 86.82
ORBITAL_SEMIMAJOR_AXIS = 8734.81
PERIAPSIS_ALTITUDE = 353.37
PERIAPSIS_ARGUMENT_ANGLE = 141.94
PERIAPSIS_TIME = 2009-10-07T00:31:05.000Z
SPACECRAFT_ORIENTATION = (0.0,-1.0,0.0)
^MEX_ORIENTATION_DESC = "MEX_ORIENTATION_DESC.TXT"
SPACECRAFT_POINTING_MODE = NADIR
^MEX_POINTING_DESC = "MEX_POINTING_DESC.TXT"
RIGHT_ASCENSION = -1e+32
DECLINATION = -1e+32
OFFSET_ANGLE = -1e+32
SPACECRAFT_SOLAR_DISTANCE = 2.29308e+08
TARGET_NAME = MARS
/* CAMERA DATA ELEMENTS */
DETECTOR_TEMPERATURE = 18.1666
FOCAL_PLANE_TEMPERATURE = 7.9716
INST_CMPRS_NAME = "DISCRETE COSINE TRANSFORMATION (DCT)"
INST_CMPRS_RATIO = 30.8178
INST_CMPRS_QUALITY = 0
INST_CMPRS_QUANTZ_TBL_ID = 0
INSTRUMENT_TEMPERATURE = 10.8262
LENS_TEMPERATURE = 8.3794
MACROPIXEL_SIZE = 8
MISSING_FRAMES = 0
PIXEL_SUBSAMPLING_FLAG = N
SIGNAL_CHAIN_ID = 2
/* RADIOMETRIC DATA ELEMENTS */
BANDWIDTH = 48.0
CENTER_FILTER_WAVELENGTH = 748.0
RADIANCE_OFFSET = 0.928365
RADIANCE_SCALING_FACTOR = 0.00364065
REFLECTANCE_SCALING_FACTOR = 0.000436861
MEX:REFLECTANCE_OFFSET = 0.1114
/* IMAGE OBJECT DEFINITIONS */
OBJECT = IMAGE
  INTERCHANGE_FORMAT = BINARY
  LINES = 7702
  LINE_SAMPLES = 901
  SAMPLE_TYPE = UNSIGNED_INTEGER
  SAMPLE_BITS = 8
  BANDS = 1
  BAND_STORAGE_TYPE = BAND_SEQUENTIAL
  MAXIMUM = 255
  MEAN = 111.193
  MINIMUM = 1
  STANDARD_DEVIATION = 62.5075
END_OBJECT = IMAGE
/* MAP OBJECT DEFINITIONS */
OBJECT = IMAGE_MAP_PROJECTION
  ^DATA_SET_MAP_PROJECTION_CATALOG= "DSMAP.CAT"
  A_AXIS_RADIUS = 3396.0
  B_AXIS_RADIUS = 3396.0
  C_AXIS_RADIUS = 3396.0
  CENTER_LATITUDE = 0.0
  CENTER_LONGITUDE = 333.0
  COORDINATE_SYSTEM_NAME = PLANETOGRAPHIC
  COORDINATE_SYSTEM_TYPE = "BODY-FIXED ROTATING"
  EASTERNMOST_LONGITUDE = 334.158
  FIRST_STANDARD_PARALLEL = "N/A"
  LINE_FIRST_PIXEL = 1
  LINE_LAST_PIXEL = 7702
  LINE_PROJECTION_OFFSET = 23807.9375
  MAP_PROJECTION_ROTATION = 0.0
  MAP_PROJECTION_TYPE = SINUSOIDAL
  MAP_RESOLUTION = 592.713803866667
  MAP_SCALE = 0.1
  MAXIMUM_LATITUDE = 40.1523
  MINIMUM_LATITUDE = 27.1908
  POSITIVE_LONGITUDE_DIRECTION = EAST
  REFERENCE_LATITUDE = "N/A"
  REFERENCE_LONGITUDE = "N/A"
  SAMPLE_FIRST_PIXEL = 1
  SAMPLE_LAST_PIXEL = 901
  SAMPLE_PROJECTION_OFFSET = 301.1875
  SECOND_STANDARD_PARALLEL = "N/A"
  WESTERNMOST_LONGITUDE = 332.347
END_OBJECT = IMAGE_MAP_PROJECTION
END
