PDS_VERSION_ID = PDS3
/* FILE DATA ELEMENTS */
RECORD_TYPE = UNDEFINED
/* POINTERS TO DATA OBJECTS */
^IMAGE = ("H7390_0000_P14.TIF")
/* IDENTIFICATION DATA ELEMENTS */
DATA_SET_ID = "MEX-M-HRSC-4-REFDR-MAPPROJECT-EXT3-V4.0"
DATA_SET_NAME = "MARS EXPRESS HRSC MAP PROJECTED REFDR EXTENSION3 V4.0"
DETECTOR_ID = MEX_HRSC_P1
EVENT_TYPE = "MARS-REGIONAL-MAPPING-Vo-Lc-Pf"
INSTRUMENT_HOST_ID = MEX
INSTRUMENT_HOST_NAME = "MARS EXPRESS"
INSTRUMENT_ID = HRSC
INSTRUMENT_NAME = "HIGH RESOLUTION STEREO CAMERA"
MISSION_NAME = "MARS EXPRESS"
MISSION_PHASE_NAME = ME_Phase_18
PROCESSING_LEVEL_ID = 4
PRODUCT_CREATION_TIME = 2023-02-01T22:33:16.000Z
PRODUCT_ID = "H7390_0000_P14.TIF"
RELEASE_ID = 0002
REVISION_ID = 0000
/* QUALITY DATA ELEMENTS */
DATA_QUALITY_ID = 1
DATA_QUALITY_DESC = "Data calculated based on original SPICE kernels"
/* TIME DATA ELEMENTS */
SPACECRAFT_CLOCK_START_COUNT = "1/0202955397.07289"
SPACECRAFT_CLOCK_STOP_COUNT = "1/0202955668.07592"
START_TIME = 2009-10-07T00:30:10.647Z
STOP_TIME = 2009-10-07T00:33:30.844Z
/* ORBITAL DATA ELEMENTS */
ASCENDING_NODE_LONGITUDE = 76.42
MAXIMUM_RESOLUTION = 0.0587
FOOTPRINT_POINT_LATITUDE = (40.2134,40.2025,40.1937,40.1821, 40.1817,40.1288,39.7443,39.2311,38.7172 ,38.3313,38.074,37.8164,37.5587,37.3008 ,37.0431,36.785,36.5269,36.2686,36.0104 ,35.7519,35.3639,35.1052,34.8466, 34.5855,34.0695,33.6808,33.2918,32.9029 ,32.6435,32.2544,31.9949,31.7353, 31.4761,31.0866,30.6968,30.3071,30.0473 ,29.7876,29.5279,29.1381,28.8783, 28.6187,28.2292,27.9693,27.7096,27.3203 ,27.1905,27.1612,27.1661,27.1694, 27.1704,27.1704,27.1712,27.4312,27.6912 ,27.9514,28.2116,28.4718,28.732,29.1222 ,29.3824,29.6427,29.9028,30.163,30.5533 ,30.8134,31.0734,31.4638,31.7241,31.984 ,32.2439,32.6335,32.8933,33.1533, 33.4129,33.6726,33.9321,34.3213,34.5807 ,34.84,35.229,35.4882,35.7473,36.0063, 36.2652,36.524,36.7826,37.0411,37.2995, 37.6871,37.9453,38.2033,38.4613,38.719, 38.9766,39.234,39.4914,40.0056,40.1341, 40.2134)
FOOTPRINT_POINT_LONGITUDE = (333.957,333.245,332.83,332.386,332.371 ,332.338,332.357,332.38,332.402,332.418 ,332.429,332.439,332.449,332.458, 332.468,332.477,332.486,332.494,332.503 ,332.511,332.523,332.53,332.538,332.544 ,332.558,332.568,332.577,332.586, 332.591,332.599,332.604,332.609,332.614 ,332.62,332.626,332.632,332.636,332.639 ,332.642,332.647,332.65,332.652,332.656 ,332.658,332.66,332.663,332.664,332.664 ,333.086,333.577,334.109,334.122, 334.127,334.125,334.123,334.121,334.12, 334.118,334.116,334.113,334.111,334.108 ,334.106,334.104,334.101,334.099, 334.096,334.093,334.09,334.088,334.086, 334.082,334.08,334.077,334.074,334.072, 334.069,334.065,334.062,334.06,334.055, 334.052,334.049,334.046,334.043,334.04, 334.037,334.033,334.03,334.025,334.021, 334.018,334.014,334.011,334.007,334.003 ,333.999,333.992,333.99,333.957)
ORBIT_NUMBER = 7390
ORBITAL_ECCENTRICITY = 0.572
ORBITAL_INCLINATION = 86.82
ORBITAL_SEMIMAJOR_AXIS = 8734.81
PERIAPSIS_ALTITUDE = 353.37
PERIAPSIS_ARGUMENT_ANGLE = 141.94
PERIAPSIS_TIME = 2009-10-07T00:31:05.000Z
SPACECRAFT_ORIENTATION = (0.0,-1.0,0.0)
^MEX_ORIENTATION_DESC = "MEX_ORIENTATION_DESC.TXT"
SPACECRAFT_POINTING_MODE = NADIR
^MEX_POINTING_DESC = "MEX_POINTING_DESC.TXT"
RIGHT_ASCENSION = -1e+32
DECLINATION = -1e+32
OFFSET_ANGLE = -1e+32
SPACECRAFT_SOLAR_DISTANCE = 2.29308e+08
TARGET_NAME = MARS
/* CAMERA DATA ELEMENTS */
DETECTOR_TEMPERATURE = 17.1471
FOCAL_PLANE_TEMPERATURE = 7.9716
INST_CMPRS_NAME = "DISCRETE COSINE TRANSFORMATION (DCT)"
INST_CMPRS_RATIO = 27.8457
INST_CMPRS_QUALITY = 0
INST_CMPRS_QUANTZ_TBL_ID = 0
INSTRUMENT_TEMPERATURE = 10.8262
LENS_TEMPERATURE = 8.3794
MACROPIXEL_SIZE = 4
MISSING_FRAMES = 0
PIXEL_SUBSAMPLING_FLAG = N
SIGNAL_CHAIN_ID = 3
/* RADIOMETRIC DATA ELEMENTS */
BANDWIDTH = 174.0
CENTER_FILTER_WAVELENGTH = 675.0
RADIANCE_OFFSET = 3.61794
RADIANCE_SCALING_FACTOR = 0.0121285
REFLECTANCE_SCALING_FACTOR = 0.000343028
MEX:REFLECTANCE_OFFSET = 0.102326
/* IMAGE OBJECT DEFINITIONS */
OBJECT = IMAGE
  INTERCHANGE_FORMAT = BINARY
  LINES = 15403
  LINE_SAMPLES = 1802
  SAMPLE_TYPE = UNSIGNED_INTEGER
  SAMPLE_BITS = 8
  BANDS = 1
  BAND_STORAGE_TYPE = BAND_SEQUENTIAL
  MAXIMUM = 255
  MEAN = 110.214
  MINIMUM = 1
  STANDARD_DEVIATION = 60.4226
END_OBJECT = IMAGE
/* MAP OBJECT DEFINITIONS */
OBJECT = IMAGE_MAP_PROJECTION
  ^DATA_SET_MAP_PROJECTION_CATALOG= "DSMAP.CAT"
  A_AXIS_RADIUS = 3396.0
  B_AXIS_RADIUS = 3396.0
  C_AXIS_RADIUS = 3396.0
  CENTER_LATITUDE = 0.0
  CENTER_LONGITUDE = 333.0
  COORDINATE_SYSTEM_NAME = PLANETOGRAPHIC
  COORDINATE_SYSTEM_TYPE = "BODY-FIXED ROTATING"
  EASTERNMOST_LONGITUDE = 334.127
  FIRST_STANDARD_PARALLEL = "N/A"
  LINE_FIRST_PIXEL = 1
  LINE_LAST_PIXEL = 15403
  LINE_PROJECTION_OFFSET = 47616.375
  MAP_PROJECTION_ROTATION = 0.0
  MAP_PROJECTION_TYPE = SINUSOIDAL
  MAP_RESOLUTION = 1185.42760773333
  MAP_SCALE = 0.05
  MAXIMUM_LATITUDE = 40.2134
  MINIMUM_LATITUDE = 27.1612
  POSITIVE_LONGITUDE_DIRECTION = EAST
  REFERENCE_LATITUDE = "N/A"
  REFERENCE_LONGITUDE = "N/A"
  SAMPLE_FIRST_PIXEL = 1
  SAMPLE_LAST_PIXEL = 1802
  SAMPLE_PROJECTION_OFFSET = 602.875
  SECOND_STANDARD_PARALLEL = "N/A"
  WESTERNMOST_LONGITUDE = 332.338
END_OBJECT = IMAGE_MAP_PROJECTION
END
