PDS_VERSION_ID = PDS3
/* FILE DATA ELEMENTS */
RECORD_TYPE = UNDEFINED
/* POINTERS TO DATA OBJECTS */
^IMAGE = ("H7390_0000_GR4.TIF")
/* IDENTIFICATION DATA ELEMENTS */
DATA_SET_ID = "MEX-M-HRSC-4-REFDR-MAPPROJECT-EXT3-V4.0"
DATA_SET_NAME = "MARS EXPRESS HRSC MAP PROJECTED REFDR EXTENSION3 V4.0"
DETECTOR_ID = MEX_HRSC_GREEN
EVENT_TYPE = "MARS-REGIONAL-MAPPING-Vo-Lc-Pf"
INSTRUMENT_HOST_ID = MEX
INSTRUMENT_HOST_NAME = "MARS EXPRESS"
INSTRUMENT_ID = HRSC
INSTRUMENT_NAME = "HIGH RESOLUTION STEREO CAMERA"
MISSION_NAME = "MARS EXPRESS"
MISSION_PHASE_NAME = ME_Phase_18
PROCESSING_LEVEL_ID = 4
PRODUCT_CREATION_TIME = 2023-02-01T22:33:16.000Z
PRODUCT_ID = "H7390_0000_GR4.TIF"
RELEASE_ID = 0002
REVISION_ID = 0000
/* QUALITY DATA ELEMENTS */
DATA_QUALITY_ID = 1
DATA_QUALITY_DESC = "Data calculated based on original SPICE kernels"
/* TIME DATA ELEMENTS */
SPACECRAFT_CLOCK_START_COUNT = "1/0202955397.07289"
SPACECRAFT_CLOCK_STOP_COUNT = "1/0202955668.07592"
START_TIME = 2009-10-07T00:30:26.619Z
STOP_TIME = 2009-10-07T00:33:47.096Z
/* ORBITAL DATA ELEMENTS */
ASCENDING_NODE_LONGITUDE = 76.42
MAXIMUM_RESOLUTION = 0.1144
FOOTPRINT_POINT_LATITUDE = (40.1692,40.1603,40.1519,40.141,40.1406 ,40.1259,39.8732,39.6203,39.3674, 39.1144,38.8613,38.6082,38.3551,38.1019 ,37.8486,37.5953,37.342,37.0887,36.7087 ,36.4553,36.0752,35.8218,35.4417, 35.1882,34.9348,34.5547,34.3014,34.048, 33.7946,33.5413,33.288,33.0347,32.7815, 32.5283,32.2752,32.0221,31.769,31.5161, 31.2632,30.8839,30.3783,29.7468,29.2421 ,28.7377,28.2337,27.9526,27.6521, 27.3519,27.2019,27.1775,27.181,27.1836, 27.1843,27.1843,27.1863,27.4869,27.7877 ,28.2233,28.7281,29.2333,29.7388, 29.9917,30.2447,30.4978,30.7509,31.0041 ,31.2574,31.6375,31.8909,32.1444, 32.3979,32.6515,32.9051,33.1588,33.4125 ,33.6662,34.0469,34.3007,34.5545, 34.9353,35.3161,35.57,35.8239,36.0778, 36.3317,36.5856,36.9664,37.3471,37.6009 ,37.8547,38.1085,38.4891,38.7427, 38.9963,39.2499,39.5034,39.7569,40.0103 ,40.137,40.1692)
FOOTPRINT_POINT_LONGITUDE = (333.951,333.318,332.877,332.406, 332.391,332.354,332.365,332.377,332.388 ,332.399,332.41,332.42,332.43,332.44, 332.45,332.459,332.469,332.478,332.491, 332.499,332.511,332.519,332.53,332.537, 332.544,332.554,332.561,332.567,332.573 ,332.579,332.585,332.59,332.596,332.601 ,332.606,332.61,332.615,332.619,332.623 ,332.629,332.636,332.644,332.65,332.655 ,332.659,332.661,332.663,332.665, 332.666,332.666,333.063,333.572,334.109 ,334.123,334.132,334.13,334.127,334.124 ,334.119,334.115,334.111,334.108, 334.106,334.104,334.101,334.099,334.096 ,334.092,334.09,334.087,334.085,334.082 ,334.08,334.077,334.074,334.071,334.067 ,334.064,334.061,334.057,334.052, 334.049,334.046,334.042,334.039,334.036 ,334.031,334.025,334.022,334.018, 334.014,334.009,334.005,334.001,333.997 ,333.993,333.989,333.985,333.982, 333.951)
ORBIT_NUMBER = 7390
ORBITAL_ECCENTRICITY = 0.572
ORBITAL_INCLINATION = 86.82
ORBITAL_SEMIMAJOR_AXIS = 8734.81
PERIAPSIS_ALTITUDE = 353.37
PERIAPSIS_ARGUMENT_ANGLE = 141.94
PERIAPSIS_TIME = 2009-10-07T00:31:05.000Z
SPACECRAFT_ORIENTATION = (0.0,-1.0,0.0)
^MEX_ORIENTATION_DESC = "MEX_ORIENTATION_DESC.TXT"
SPACECRAFT_POINTING_MODE = NADIR
^MEX_POINTING_DESC = "MEX_POINTING_DESC.TXT"
RIGHT_ASCENSION = -1e+32
DECLINATION = -1e+32
OFFSET_ANGLE = -1e+32
SPACECRAFT_SOLAR_DISTANCE = 2.29308e+08
TARGET_NAME = MARS
/* CAMERA DATA ELEMENTS */
DETECTOR_TEMPERATURE = 18.1666
FOCAL_PLANE_TEMPERATURE = 7.9716
INST_CMPRS_NAME = "DISCRETE COSINE TRANSFORMATION (DCT)"
INST_CMPRS_RATIO = 29.995
INST_CMPRS_QUALITY = 0
INST_CMPRS_QUANTZ_TBL_ID = 0
INSTRUMENT_TEMPERATURE = 10.8262
LENS_TEMPERATURE = 8.3794
MACROPIXEL_SIZE = 8
MISSING_FRAMES = 0
PIXEL_SUBSAMPLING_FLAG = N
SIGNAL_CHAIN_ID = 2
/* RADIOMETRIC DATA ELEMENTS */
BANDWIDTH = 88.0
CENTER_FILTER_WAVELENGTH = 538.0
RADIANCE_OFFSET = 1.38381
RADIANCE_SCALING_FACTOR = 0.00336593
REFLECTANCE_SCALING_FACTOR = 0.000152382
MEX:REFLECTANCE_OFFSET = 0.0626477
/* IMAGE OBJECT DEFINITIONS */
OBJECT = IMAGE
  INTERCHANGE_FORMAT = BINARY
  LINES = 7702
  LINE_SAMPLES = 901
  SAMPLE_TYPE = UNSIGNED_INTEGER
  SAMPLE_BITS = 8
  BANDS = 1
  BAND_STORAGE_TYPE = BAND_SEQUENTIAL
  MAXIMUM = 255
  MEAN = 128.747
  MINIMUM = 1
  STANDARD_DEVIATION = 57.0467
END_OBJECT = IMAGE
/* MAP OBJECT DEFINITIONS */
OBJECT = IMAGE_MAP_PROJECTION
  ^DATA_SET_MAP_PROJECTION_CATALOG= "DSMAP.CAT"
  A_AXIS_RADIUS = 3396.0
  B_AXIS_RADIUS = 3396.0
  C_AXIS_RADIUS = 3396.0
  CENTER_LATITUDE = 0.0
  CENTER_LONGITUDE = 333.0
  COORDINATE_SYSTEM_NAME = PLANETOGRAPHIC
  COORDINATE_SYSTEM_TYPE = "BODY-FIXED ROTATING"
  EASTERNMOST_LONGITUDE = 334.132
  FIRST_STANDARD_PARALLEL = "N/A"
  LINE_FIRST_PIXEL = 1
  LINE_LAST_PIXEL = 7702
  LINE_PROJECTION_OFFSET = 23807.9375
  MAP_PROJECTION_ROTATION = 0.0
  MAP_PROJECTION_TYPE = SINUSOIDAL
  MAP_RESOLUTION = 592.713803866667
  MAP_SCALE = 0.1
  MAXIMUM_LATITUDE = 40.1692
  MINIMUM_LATITUDE = 27.1775
  POSITIVE_LONGITUDE_DIRECTION = EAST
  REFERENCE_LATITUDE = "N/A"
  REFERENCE_LONGITUDE = "N/A"
  SAMPLE_FIRST_PIXEL = 1
  SAMPLE_LAST_PIXEL = 901
  SAMPLE_PROJECTION_OFFSET = 301.1875
  SECOND_STANDARD_PARALLEL = "N/A"
  WESTERNMOST_LONGITUDE = 332.354
END_OBJECT = IMAGE_MAP_PROJECTION
END
