PDS_VERSION_ID = PDS3
/* FILE DATA ELEMENTS */
RECORD_TYPE = UNDEFINED
/* POINTERS TO DATA OBJECTS */
^IMAGE = ("H7388_0000_P24.TIF")
/* IDENTIFICATION DATA ELEMENTS */
DATA_SET_ID = "MEX-M-HRSC-4-REFDR-MAPPROJECT-EXT3-V4.0"
DATA_SET_NAME = "MARS EXPRESS HRSC MAP PROJECTED REFDR EXTENSION3 V4.0"
DETECTOR_ID = MEX_HRSC_P2
EVENT_TYPE = "MARS-REGIONAL-MAPPING-Vo-Te-Pf"
INSTRUMENT_HOST_ID = MEX
INSTRUMENT_HOST_NAME = "MARS EXPRESS"
INSTRUMENT_ID = HRSC
INSTRUMENT_NAME = "HIGH RESOLUTION STEREO CAMERA"
MISSION_NAME = "MARS EXPRESS"
MISSION_PHASE_NAME = ME_Phase_18
PROCESSING_LEVEL_ID = 4
PRODUCT_CREATION_TIME = 2023-02-01T22:33:16.000Z
PRODUCT_ID = "H7388_0000_P24.TIF"
RELEASE_ID = 0002
REVISION_ID = 0000
/* QUALITY DATA ELEMENTS */
DATA_QUALITY_ID = 1
DATA_QUALITY_DESC = "Data calculated based on original SPICE kernels"
/* TIME DATA ELEMENTS */
SPACECRAFT_CLOCK_START_COUNT = "1/0202905842.09048"
SPACECRAFT_CLOCK_STOP_COUNT = "1/0202906106.25015"
START_TIME = 2009-10-06T10:44:57.861Z
STOP_TIME = 2009-10-06T10:48:13.045Z
/* ORBITAL DATA ELEMENTS */
ASCENDING_NODE_LONGITUDE = 76.45
MAXIMUM_RESOLUTION = 0.0597
FOOTPRINT_POINT_LATITUDE = (33.8491,33.8426,33.8292,33.8289, 33.8715,33.5385,33.3168,33.095,32.8736, 32.5415,32.2097,31.8782,31.6574,31.4369 ,31.1063,30.7762,30.3365,30.0073, 29.6781,29.3061,29.0451,28.7844,28.524, 28.2638,28.004,27.7444,27.4851,27.2259, 26.9671,26.7087,26.4505,26.064,25.8067, 25.5495,25.2906,24.9083,24.6524,24.3971 ,24.0142,23.7597,23.5048,23.2513, 22.9978,22.7445,22.4917,22.2393,21.8613 ,21.7355,21.6491,21.6497,21.6506,21.651 ,21.6513,21.6513,21.6523,21.9043, 22.1567,22.5348,22.7943,23.1696,23.4241 ,23.678,24.0591,24.3125,24.6977,24.955, 25.2103,25.4684,25.7283,25.9856,26.2431 ,26.5017,26.7603,27.0189,27.4083, 27.6678,27.9277,28.1877,28.4484,28.7093 ,28.9704,29.2317,29.6183,30.0575, 30.6073,30.8276,31.0483,31.2689,31.4897 ,31.7108,31.9318,32.2635,32.485,32.7067 ,33.0396,33.2617,33.4839,33.7062, 33.8176,33.8491)
FOOTPRINT_POINT_LONGITUDE = (175.856,175.289,174.393,174.379, 174.355,174.362,174.367,174.371,174.375 ,174.381,174.386,174.392,174.395, 174.398,174.403,174.407,174.412,174.415 ,174.419,174.422,174.424,174.426, 174.427,174.429,174.43,174.431,174.432, 174.433,174.434,174.435,174.435,174.435 ,174.435,174.435,174.436,174.434, 174.433,174.432,174.431,174.43,174.428, 174.427,174.425,174.423,174.421,174.419 ,174.416,174.414,174.414,174.779, 175.249,175.543,175.97,175.985,175.99, 175.988,175.986,175.982,175.984,175.978 ,175.976,175.974,175.97,175.967,175.965 ,175.963,175.96,175.959,175.958,175.956 ,175.954,175.952,175.95,175.948,175.945 ,175.943,175.94,175.938,175.936,175.934 ,175.932,175.929,175.926,175.922, 175.917,175.915,175.913,175.911,175.909 ,175.907,175.904,175.901,175.899, 175.896,175.893,175.891,175.888,175.886 ,175.885,175.856)
ORBIT_NUMBER = 7388
ORBITAL_ECCENTRICITY = 0.572
ORBITAL_INCLINATION = 86.82
ORBITAL_SEMIMAJOR_AXIS = 8734.53
PERIAPSIS_ALTITUDE = 353.41
PERIAPSIS_ARGUMENT_ANGLE = 142.3
PERIAPSIS_TIME = 2009-10-06T10:43:38.000Z
SPACECRAFT_ORIENTATION = (0.0,-1.0,0.0)
^MEX_ORIENTATION_DESC = "MEX_ORIENTATION_DESC.TXT"
SPACECRAFT_POINTING_MODE = ACROSSTRACK
^MEX_POINTING_DESC = "MEX_POINTING_DESC.TXT"
RIGHT_ASCENSION = -1e+32
DECLINATION = -1e+32
OFFSET_ANGLE = 0.1
SPACECRAFT_SOLAR_DISTANCE = 2.29197e+08
TARGET_NAME = MARS
/* CAMERA DATA ELEMENTS */
DETECTOR_TEMPERATURE = 18.7783
FOCAL_PLANE_TEMPERATURE = 8.5833
INST_CMPRS_NAME = "DISCRETE COSINE TRANSFORMATION (DCT)"
INST_CMPRS_RATIO = 8.70009
INST_CMPRS_QUALITY = 0
INST_CMPRS_QUANTZ_TBL_ID = 0
INSTRUMENT_TEMPERATURE = 11.4379
LENS_TEMPERATURE = 8.9911
MACROPIXEL_SIZE = 4
MISSING_FRAMES = 0
PIXEL_SUBSAMPLING_FLAG = N
SIGNAL_CHAIN_ID = 3
/* RADIOMETRIC DATA ELEMENTS */
BANDWIDTH = 177.0
CENTER_FILTER_WAVELENGTH = 676.5
RADIANCE_OFFSET = 5.03642
RADIANCE_SCALING_FACTOR = 0.018434
REFLECTANCE_SCALING_FACTOR = 0.000513447
MEX:REFLECTANCE_OFFSET = 0.140281
/* IMAGE OBJECT DEFINITIONS */
OBJECT = IMAGE
  INTERCHANGE_FORMAT = BINARY
  LINES = 14502
  LINE_SAMPLES = 1695
  SAMPLE_TYPE = UNSIGNED_INTEGER
  SAMPLE_BITS = 8
  BANDS = 1
  BAND_STORAGE_TYPE = BAND_SEQUENTIAL
  MAXIMUM = 255
  MEAN = 138.899
  MINIMUM = 1
  STANDARD_DEVIATION = 31.8221
END_OBJECT = IMAGE
/* MAP OBJECT DEFINITIONS */
OBJECT = IMAGE_MAP_PROJECTION
  ^DATA_SET_MAP_PROJECTION_CATALOG= "DSMAP.CAT"
  A_AXIS_RADIUS = 3396.0
  B_AXIS_RADIUS = 3396.0
  C_AXIS_RADIUS = 3396.0
  CENTER_LATITUDE = 0.0
  CENTER_LONGITUDE = 175.0
  COORDINATE_SYSTEM_NAME = PLANETOGRAPHIC
  COORDINATE_SYSTEM_TYPE = "BODY-FIXED ROTATING"
  EASTERNMOST_LONGITUDE = 175.99
  FIRST_STANDARD_PARALLEL = "N/A"
  LINE_FIRST_PIXEL = 1
  LINE_LAST_PIXEL = 14502
  LINE_PROJECTION_OFFSET = 40154.625
  MAP_PROJECTION_ROTATION = 0.0
  MAP_PROJECTION_TYPE = SINUSOIDAL
  MAP_RESOLUTION = 1185.42760773333
  MAP_SCALE = 0.05
  MAXIMUM_LATITUDE = 33.8715
  MINIMUM_LATITUDE = 21.6491
  POSITIVE_LONGITUDE_DIRECTION = EAST
  REFERENCE_LATITUDE = "N/A"
  REFERENCE_LONGITUDE = "N/A"
  SAMPLE_FIRST_PIXEL = 1
  SAMPLE_LAST_PIXEL = 1695
  SAMPLE_PROJECTION_OFFSET = 630.875
  SECOND_STANDARD_PARALLEL = "N/A"
  WESTERNMOST_LONGITUDE = 174.355
END_OBJECT = IMAGE_MAP_PROJECTION
END
