PDS_VERSION_ID = PDS3
/* FILE DATA ELEMENTS */
RECORD_TYPE = UNDEFINED
/* POINTERS TO DATA OBJECTS */
^IMAGE = ("H7388_0000_IR4.TIF")
/* IDENTIFICATION DATA ELEMENTS */
DATA_SET_ID = "MEX-M-HRSC-4-REFDR-MAPPROJECT-EXT3-V4.0"
DATA_SET_NAME = "MARS EXPRESS HRSC MAP PROJECTED REFDR EXTENSION3 V4.0"
DETECTOR_ID = MEX_HRSC_IR
EVENT_TYPE = "MARS-REGIONAL-MAPPING-Vo-Te-Pf"
INSTRUMENT_HOST_ID = MEX
INSTRUMENT_HOST_NAME = "MARS EXPRESS"
INSTRUMENT_ID = HRSC
INSTRUMENT_NAME = "HIGH RESOLUTION STEREO CAMERA"
MISSION_NAME = "MARS EXPRESS"
MISSION_PHASE_NAME = ME_Phase_18
PROCESSING_LEVEL_ID = 4
PRODUCT_CREATION_TIME = 2023-02-01T22:33:16.000Z
PRODUCT_ID = "H7388_0000_IR4.TIF"
RELEASE_ID = 0002
REVISION_ID = 0000
/* QUALITY DATA ELEMENTS */
DATA_QUALITY_ID = 1
DATA_QUALITY_DESC = "Data calculated based on original SPICE kernels"
/* TIME DATA ELEMENTS */
SPACECRAFT_CLOCK_START_COUNT = "1/0202905842.09048"
SPACECRAFT_CLOCK_STOP_COUNT = "1/0202906106.25015"
START_TIME = 2009-10-06T10:44:10.024Z
STOP_TIME = 2009-10-06T10:47:17.577Z
/* ORBITAL DATA ELEMENTS */
ASCENDING_NODE_LONGITUDE = 76.45
MAXIMUM_RESOLUTION = 0.1194
FOOTPRINT_POINT_LATITUDE = (33.9158,33.9129,33.9084,33.9042,33.904 ,33.8494,33.1693,32.9425,32.6021, 32.1481,31.9212,31.5805,31.3533,31.1259 ,30.8985,30.6713,30.4439,30.2163, 29.9886,29.7614,29.5338,29.3063,28.9648 ,28.7371,28.5093,28.1675,27.826,27.4843 ,27.0289,26.6871,26.4594,26.0745, 25.8026,25.5312,25.2624,24.9867,24.7151 ,24.4433,24.0383,23.7643,23.4925, 23.2204,22.9487,22.6771,22.4053,22.1339 ,21.8623,21.7268,21.6324,21.6327, 21.6312,21.6265,21.6263,21.6283,21.9001 ,22.1718,22.4443,22.7106,22.9889, 23.2597,23.5317,23.8043,24.0785,24.3533 ,24.6235,25.0314,25.3043,25.7094, 25.9816,26.3824,26.6103,26.9525,27.1806 ,27.4083,27.6367,27.8648,28.0929, 28.3213,28.549,28.7768,29.1188,29.3467, 29.5749,29.9166,30.1445,30.3723,30.6004 ,30.828,31.1693,31.3969,31.7382,31.9656 ,32.1933,32.421,32.6482,33.1024,33.4429 ,33.67,33.7835,33.9158)
FOOTPRINT_POINT_LONGITUDE = (175.847,175.123,174.702,174.417, 174.403,174.379,174.394,174.399,174.406 ,174.415,174.419,174.425,174.429, 174.432,174.436,174.439,174.442,174.445 ,174.448,174.451,174.454,174.456,174.46 ,174.462,174.464,174.467,174.47,174.472 ,174.475,174.476,174.477,174.479,174.48 ,174.48,174.482,174.481,174.481,174.481 ,174.481,174.48,174.479,174.479,174.478 ,174.476,174.475,174.474,174.472, 174.471,174.471,175.049,175.395,175.923 ,175.937,175.946,175.945,175.943, 175.942,175.943,175.939,175.939,175.937 ,175.936,175.934,175.931,175.931, 175.929,175.927,175.927,175.926,175.923 ,175.922,175.921,175.919,175.918, 175.917,175.916,175.914,175.913,175.912 ,175.911,175.909,175.907,175.906, 175.904,175.902,175.901,175.899,175.898 ,175.895,175.894,175.891,175.89,175.888 ,175.886,175.885,175.881,175.879, 175.877,175.876,175.847)
ORBIT_NUMBER = 7388
ORBITAL_ECCENTRICITY = 0.572
ORBITAL_INCLINATION = 86.82
ORBITAL_SEMIMAJOR_AXIS = 8734.53
PERIAPSIS_ALTITUDE = 353.41
PERIAPSIS_ARGUMENT_ANGLE = 142.3
PERIAPSIS_TIME = 2009-10-06T10:43:38.000Z
SPACECRAFT_ORIENTATION = (0.0,-1.0,0.0)
^MEX_ORIENTATION_DESC = "MEX_ORIENTATION_DESC.TXT"
SPACECRAFT_POINTING_MODE = ACROSSTRACK
^MEX_POINTING_DESC = "MEX_POINTING_DESC.TXT"
RIGHT_ASCENSION = -1e+32
DECLINATION = -1e+32
OFFSET_ANGLE = 0.1
SPACECRAFT_SOLAR_DISTANCE = 2.29197e+08
TARGET_NAME = MARS
/* CAMERA DATA ELEMENTS */
DETECTOR_TEMPERATURE = 17.7588
FOCAL_PLANE_TEMPERATURE = 8.5833
INST_CMPRS_NAME = "DISCRETE COSINE TRANSFORMATION (DCT)"
INST_CMPRS_RATIO = 12.9302
INST_CMPRS_QUALITY = 0
INST_CMPRS_QUANTZ_TBL_ID = 0
INSTRUMENT_TEMPERATURE = 11.4379
LENS_TEMPERATURE = 8.9911
MACROPIXEL_SIZE = 8
MISSING_FRAMES = 0
PIXEL_SUBSAMPLING_FLAG = N
SIGNAL_CHAIN_ID = 2
/* RADIOMETRIC DATA ELEMENTS */
BANDWIDTH = 81.0
CENTER_FILTER_WAVELENGTH = 955.5
RADIANCE_OFFSET = 1.2052
RADIANCE_SCALING_FACTOR = 0.00596692
REFLECTANCE_SCALING_FACTOR = 0.000676233
MEX:REFLECTANCE_OFFSET = 0.136586
/* IMAGE OBJECT DEFINITIONS */
OBJECT = IMAGE
  INTERCHANGE_FORMAT = BINARY
  LINES = 7251
  LINE_SAMPLES = 848
  SAMPLE_TYPE = UNSIGNED_INTEGER
  SAMPLE_BITS = 8
  BANDS = 1
  BAND_STORAGE_TYPE = BAND_SEQUENTIAL
  MAXIMUM = 255
  MEAN = 142.953
  MINIMUM = 1
  STANDARD_DEVIATION = 31.1251
END_OBJECT = IMAGE
/* MAP OBJECT DEFINITIONS */
OBJECT = IMAGE_MAP_PROJECTION
  ^DATA_SET_MAP_PROJECTION_CATALOG= "DSMAP.CAT"
  A_AXIS_RADIUS = 3396.0
  B_AXIS_RADIUS = 3396.0
  C_AXIS_RADIUS = 3396.0
  CENTER_LATITUDE = 0.0
  CENTER_LONGITUDE = 175.0
  COORDINATE_SYSTEM_NAME = PLANETOGRAPHIC
  COORDINATE_SYSTEM_TYPE = "BODY-FIXED ROTATING"
  EASTERNMOST_LONGITUDE = 175.946
  FIRST_STANDARD_PARALLEL = "N/A"
  LINE_FIRST_PIXEL = 1
  LINE_LAST_PIXEL = 7251
  LINE_PROJECTION_OFFSET = 20077.0625
  MAP_PROJECTION_ROTATION = 0.0
  MAP_PROJECTION_TYPE = SINUSOIDAL
  MAP_RESOLUTION = 592.713803866667
  MAP_SCALE = 0.1
  MAXIMUM_LATITUDE = 33.9158
  MINIMUM_LATITUDE = 21.6263
  POSITIVE_LONGITUDE_DIRECTION = EAST
  REFERENCE_LATITUDE = "N/A"
  REFERENCE_LONGITUDE = "N/A"
  SAMPLE_FIRST_PIXEL = 1
  SAMPLE_LAST_PIXEL = 848
  SAMPLE_PROJECTION_OFFSET = 315.1875
  SECOND_STANDARD_PARALLEL = "N/A"
  WESTERNMOST_LONGITUDE = 174.379
END_OBJECT = IMAGE_MAP_PROJECTION
END
