PDS_VERSION_ID = PDS3
/* FILE DATA ELEMENTS */
RECORD_TYPE = UNDEFINED
/* POINTERS TO DATA OBJECTS */
^IMAGE = ("H7387_0000_P24.TIF")
/* IDENTIFICATION DATA ELEMENTS */
DATA_SET_ID = "MEX-M-HRSC-4-REFDR-MAPPROJECT-EXT3-V4.0"
DATA_SET_NAME = "MARS EXPRESS HRSC MAP PROJECTED REFDR EXTENSION3 V4.0"
DETECTOR_ID = MEX_HRSC_P2
EVENT_TYPE = "MARS-REGIONAL-MAPPING-Vo-Te"
INSTRUMENT_HOST_ID = MEX
INSTRUMENT_HOST_NAME = "MARS EXPRESS"
INSTRUMENT_ID = HRSC
INSTRUMENT_NAME = "HIGH RESOLUTION STEREO CAMERA"
MISSION_NAME = "MARS EXPRESS"
MISSION_PHASE_NAME = ME_Phase_18
PROCESSING_LEVEL_ID = 4
PRODUCT_CREATION_TIME = 2023-02-01T22:33:16.000Z
PRODUCT_ID = "H7387_0000_P24.TIF"
RELEASE_ID = 0002
REVISION_ID = 0000
/* QUALITY DATA ELEMENTS */
DATA_QUALITY_ID = 1
DATA_QUALITY_DESC = "Data calculated based on original SPICE kernels"
/* TIME DATA ELEMENTS */
SPACECRAFT_CLOCK_START_COUNT = "1/0202881114.09065"
SPACECRAFT_CLOCK_STOP_COUNT = "1/0202881407.49981"
START_TIME = 2009-10-06T03:52:52.410Z
STOP_TIME = 2009-10-06T03:56:31.016Z
/* ORBITAL DATA ELEMENTS */
ASCENDING_NODE_LONGITUDE = 76.48
MAXIMUM_RESOLUTION = 0.0621
FOOTPRINT_POINT_LATITUDE = (27.4201,27.4217,27.4231,27.424,27.424, 27.4357,27.1626,26.8899,26.6176,26.3457 ,26.0732,25.8026,25.5319,25.2614, 24.9912,24.7213,24.4518,24.1825,23.9138 ,23.6455,23.3776,23.1101,22.8428, 22.5759,22.3098,22.0436,21.778,21.5134, 21.2485,20.9843,20.5883,20.3249,20.062, 19.7996,19.5374,19.2758,19.0147,18.7538 ,18.4935,18.2338,17.9744,17.4567, 16.9412,16.4273,15.9153,15.4055,14.8977 ,14.3918,14.2656,14.2236,14.2155, 14.2076,14.2028,14.1989,14.1987,14.1995 ,14.7055,15.2137,15.7241,16.2361, 16.7499,17.266,17.784,18.0435,18.4338, 18.6944,18.9556,19.217,19.4788,19.7412, 20.0041,20.2675,20.531,20.795,21.0595, 21.3244,21.5897,21.8554,22.1215,22.3878 ,22.6547,22.9221,23.1899,23.4579, 23.7265,23.9954,24.2646,24.5344,24.8045 ,25.075,25.3456,25.6167,25.8882,26.16, 26.4321,26.7045,26.9773,27.2505,27.3873 ,27.4201)
FOOTPRINT_POINT_LONGITUDE = (276.366,276.025,275.587,274.911, 274.897,274.884,274.886,274.888,274.89, 274.891,274.893,274.894,274.894,274.895 ,274.896,274.896,274.896,274.896, 274.896,274.895,274.895,274.894,274.893 ,274.892,274.891,274.889,274.888, 274.886,274.884,274.882,274.879,274.876 ,274.874,274.871,274.868,274.865, 274.862,274.859,274.855,274.852,274.848 ,274.841,274.832,274.824,274.814, 274.805,274.794,274.783,274.781,274.78, 275.331,275.881,276.219,276.492,276.508 ,276.514,276.508,276.503,276.498, 276.493,276.488,276.482,276.477,276.475 ,276.471,276.468,276.465,276.463,276.46 ,276.457,276.454,276.452,276.449, 276.446,276.443,276.44,276.437,276.435, 276.432,276.429,276.426,276.423,276.42, 276.417,276.414,276.411,276.408,276.405 ,276.402,276.398,276.395,276.392, 276.389,276.385,276.382,276.379,276.375 ,276.372,276.37,276.366)
ORBIT_NUMBER = 7387
ORBITAL_ECCENTRICITY = 0.572
ORBITAL_INCLINATION = 86.81
ORBITAL_SEMIMAJOR_AXIS = 8745.28
PERIAPSIS_ALTITUDE = 352.69
PERIAPSIS_ARGUMENT_ANGLE = 142.48
PERIAPSIS_TIME = 2009-10-06T03:49:54.000Z
SPACECRAFT_ORIENTATION = (0.0,-1.0,0.0)
^MEX_ORIENTATION_DESC = "MEX_ORIENTATION_DESC.TXT"
SPACECRAFT_POINTING_MODE = ACROSSTRACK
^MEX_POINTING_DESC = "MEX_POINTING_DESC.TXT"
RIGHT_ASCENSION = -1e+32
DECLINATION = -1e+32
OFFSET_ANGLE = -0.25
SPACECRAFT_SOLAR_DISTANCE = 2.29142e+08
TARGET_NAME = MARS
/* CAMERA DATA ELEMENTS */
DETECTOR_TEMPERATURE = 18.5744
FOCAL_PLANE_TEMPERATURE = 8.3794
INST_CMPRS_NAME = "DISCRETE COSINE TRANSFORMATION (DCT)"
INST_CMPRS_RATIO = 9.70286
INST_CMPRS_QUALITY = 0
INST_CMPRS_QUANTZ_TBL_ID = 0
INSTRUMENT_TEMPERATURE = 11.234
LENS_TEMPERATURE = 8.7872
MACROPIXEL_SIZE = 4
MISSING_FRAMES = 0
PIXEL_SUBSAMPLING_FLAG = N
SIGNAL_CHAIN_ID = 3
/* RADIOMETRIC DATA ELEMENTS */
BANDWIDTH = 177.0
CENTER_FILTER_WAVELENGTH = 676.5
RADIANCE_OFFSET = 5.61201
RADIANCE_SCALING_FACTOR = 0.0199388
REFLECTANCE_SCALING_FACTOR = 0.000555091
MEX:REFLECTANCE_OFFSET = 0.156237
/* IMAGE OBJECT DEFINITIONS */
OBJECT = IMAGE
  INTERCHANGE_FORMAT = BINARY
  LINES = 15700
  LINE_SAMPLES = 1911
  SAMPLE_TYPE = UNSIGNED_INTEGER
  SAMPLE_BITS = 8
  BANDS = 1
  BAND_STORAGE_TYPE = BAND_SEQUENTIAL
  MAXIMUM = 255
  MEAN = 152.077
  MINIMUM = 1
  STANDARD_DEVIATION = 17.888
END_OBJECT = IMAGE
/* MAP OBJECT DEFINITIONS */
OBJECT = IMAGE_MAP_PROJECTION
  ^DATA_SET_MAP_PROJECTION_CATALOG= "DSMAP.CAT"
  A_AXIS_RADIUS = 3396.0
  B_AXIS_RADIUS = 3396.0
  C_AXIS_RADIUS = 3396.0
  CENTER_LATITUDE = 0.0
  CENTER_LONGITUDE = 276.0
  COORDINATE_SYSTEM_NAME = PLANETOGRAPHIC
  COORDINATE_SYSTEM_TYPE = "BODY-FIXED ROTATING"
  EASTERNMOST_LONGITUDE = 276.514
  FIRST_STANDARD_PARALLEL = "N/A"
  LINE_FIRST_PIXEL = 1
  LINE_LAST_PIXEL = 15700
  LINE_PROJECTION_OFFSET = 32545.375
  MAP_PROJECTION_ROTATION = 0.0
  MAP_PROJECTION_TYPE = SINUSOIDAL
  MAP_RESOLUTION = 1185.42760773333
  MAP_SCALE = 0.05
  MAXIMUM_LATITUDE = 27.4357
  MINIMUM_LATITUDE = 14.1987
  POSITIVE_LONGITUDE_DIRECTION = EAST
  REFERENCE_LATITUDE = "N/A"
  REFERENCE_LONGITUDE = "N/A"
  SAMPLE_FIRST_PIXEL = 1
  SAMPLE_LAST_PIXEL = 1911
  SAMPLE_PROJECTION_OFFSET = 1369.125
  SECOND_STANDARD_PARALLEL = "N/A"
  WESTERNMOST_LONGITUDE = 274.78
END_OBJECT = IMAGE_MAP_PROJECTION
END
