PDS_VERSION_ID = PDS3
/* FILE DATA ELEMENTS */
RECORD_TYPE = UNDEFINED
/* POINTERS TO DATA OBJECTS */
^IMAGE = ("H7387_0000_ND4.TIF")
/* IDENTIFICATION DATA ELEMENTS */
DATA_SET_ID = "MEX-M-HRSC-4-REFDR-MAPPROJECT-EXT3-V4.0"
DATA_SET_NAME = "MARS EXPRESS HRSC MAP PROJECTED REFDR EXTENSION3 V4.0"
DETECTOR_ID = MEX_HRSC_NADIR
EVENT_TYPE = "MARS-REGIONAL-MAPPING-Vo-Te"
INSTRUMENT_HOST_ID = MEX
INSTRUMENT_HOST_NAME = "MARS EXPRESS"
INSTRUMENT_ID = HRSC
INSTRUMENT_NAME = "HIGH RESOLUTION STEREO CAMERA"
MISSION_NAME = "MARS EXPRESS"
MISSION_PHASE_NAME = ME_Phase_18
PROCESSING_LEVEL_ID = 4
PRODUCT_CREATION_TIME = 2023-02-01T22:33:16.000Z
PRODUCT_ID = "H7387_0000_ND4.TIF"
RELEASE_ID = 0002
REVISION_ID = 0000
/* QUALITY DATA ELEMENTS */
DATA_QUALITY_ID = 1
DATA_QUALITY_DESC = "Data calculated based on original SPICE kernels"
/* TIME DATA ELEMENTS */
SPACECRAFT_CLOCK_START_COUNT = "1/0202881114.09065"
SPACECRAFT_CLOCK_STOP_COUNT = "1/0202881407.49981"
START_TIME = 2009-10-06T03:52:29.619Z
STOP_TIME = 2009-10-06T03:56:00.596Z
/* ORBITAL DATA ELEMENTS */
ASCENDING_NODE_LONGITUDE = 76.48
MAXIMUM_RESOLUTION = 0.0148
FOOTPRINT_POINT_LATITUDE = (27.4529,27.4515,27.4482,27.4421, 27.4419,27.4418,27.0371,26.7676,26.4982 ,26.229,25.9599,25.6911,25.4224,25.1539 ,24.8856,24.6176,24.3497,24.082,23.8146 ,23.5473,23.2803,23.0136,22.747,22.4807 ,22.2146,21.9487,21.6831,21.4178, 21.1527,20.8878,20.6233,20.3589,20.0949 ,19.8311,19.5676,19.3044,19.0414, 18.7787,18.5164,18.2543,17.9925,17.4698 ,16.9484,16.4282,15.9092,15.3916, 14.8753,14.3604,14.2319,14.2189,14.2163 ,14.2141,14.2092,14.2091,14.2092, 14.7247,15.2415,15.7596,16.2791,16.7998 ,17.3218,17.5832,17.845,18.107,18.3694, 18.632,18.8949,19.1581,19.4216,19.6854, 19.9495,20.2138,20.4784,20.7432,21.0083 ,21.2737,21.5393,21.8052,22.0713, 22.3377,22.6043,22.8711,23.1382,23.4055 ,23.673,23.9408,24.2087,24.4769,24.7453 ,25.0139,25.2826,25.5516,25.8208, 26.0901,26.3597,26.6294,26.8993,27.3044 ,27.4396,27.4529)
FOOTPRINT_POINT_LONGITUDE = (276.35,275.997,275.499,274.926,274.911 ,274.896,274.899,274.901,274.903, 274.905,274.906,274.908,274.909,274.91, 274.911,274.911,274.912,274.912,274.912 ,274.912,274.912,274.911,274.911,274.91 ,274.909,274.908,274.907,274.905, 274.904,274.902,274.9,274.898,274.896, 274.894,274.892,274.889,274.887,274.884 ,274.881,274.878,274.874,274.868, 274.861,274.853,274.845,274.836,274.826 ,274.816,274.814,274.813,275.471, 275.848,276.451,276.468,276.476,276.471 ,276.467,276.463,276.459,276.455, 276.451,276.449,276.446,276.444,276.442 ,276.44,276.438,276.435,276.433,276.431 ,276.429,276.426,276.424,276.422, 276.419,276.417,276.414,276.412,276.409 ,276.407,276.404,276.402,276.399, 276.397,276.394,276.392,276.389,276.386 ,276.383,276.381,276.378,276.375, 276.372,276.369,276.366,276.363,276.36, 276.356,276.354,276.35)
ORBIT_NUMBER = 7387
ORBITAL_ECCENTRICITY = 0.572
ORBITAL_INCLINATION = 86.81
ORBITAL_SEMIMAJOR_AXIS = 8745.28
PERIAPSIS_ALTITUDE = 352.69
PERIAPSIS_ARGUMENT_ANGLE = 142.48
PERIAPSIS_TIME = 2009-10-06T03:49:54.000Z
SPACECRAFT_ORIENTATION = (0.0,-1.0,0.0)
^MEX_ORIENTATION_DESC = "MEX_ORIENTATION_DESC.TXT"
SPACECRAFT_POINTING_MODE = ACROSSTRACK
^MEX_POINTING_DESC = "MEX_POINTING_DESC.TXT"
RIGHT_ASCENSION = -1e+32
DECLINATION = -1e+32
OFFSET_ANGLE = -0.25
SPACECRAFT_SOLAR_DISTANCE = 2.29142e+08
TARGET_NAME = MARS
/* CAMERA DATA ELEMENTS */
DETECTOR_TEMPERATURE = 18.1666
FOCAL_PLANE_TEMPERATURE = 8.3794
INST_CMPRS_NAME = "DISCRETE COSINE TRANSFORMATION (DCT)"
INST_CMPRS_RATIO = 6.6885
INST_CMPRS_QUALITY = 0
INST_CMPRS_QUANTZ_TBL_ID = 0
INSTRUMENT_TEMPERATURE = 11.234
LENS_TEMPERATURE = 8.7872
MACROPIXEL_SIZE = 1
MISSING_FRAMES = 0
PIXEL_SUBSAMPLING_FLAG = N
SIGNAL_CHAIN_ID = 0
/* RADIOMETRIC DATA ELEMENTS */
BANDWIDTH = 177.0
CENTER_FILTER_WAVELENGTH = 677.5
RADIANCE_OFFSET = 5.16273
RADIANCE_SCALING_FACTOR = 0.0218565
REFLECTANCE_SCALING_FACTOR = 0.000609639
MEX:REFLECTANCE_OFFSET = 0.144003
/* IMAGE OBJECT DEFINITIONS */
OBJECT = IMAGE
  INTERCHANGE_FORMAT = BINARY
  LINES = 62798
  LINE_SAMPLES = 7642
  SAMPLE_TYPE = UNSIGNED_INTEGER
  SAMPLE_BITS = 8
  BANDS = 1
  BAND_STORAGE_TYPE = BAND_SEQUENTIAL
  MAXIMUM = 255
  MEAN = 147.794
  MINIMUM = 1
  STANDARD_DEVIATION = 16.7752
END_OBJECT = IMAGE
/* MAP OBJECT DEFINITIONS */
OBJECT = IMAGE_MAP_PROJECTION
  ^DATA_SET_MAP_PROJECTION_CATALOG= "DSMAP.CAT"
  A_AXIS_RADIUS = 3396.0
  B_AXIS_RADIUS = 3396.0
  C_AXIS_RADIUS = 3396.0
  CENTER_LATITUDE = 0.0
  CENTER_LONGITUDE = 276.0
  COORDINATE_SYSTEM_NAME = PLANETOGRAPHIC
  COORDINATE_SYSTEM_TYPE = "BODY-FIXED ROTATING"
  EASTERNMOST_LONGITUDE = 276.476
  FIRST_STANDARD_PARALLEL = "N/A"
  LINE_FIRST_PIXEL = 1
  LINE_LAST_PIXEL = 62798
  LINE_PROJECTION_OFFSET = 130183.0
  MAP_PROJECTION_ROTATION = 0.0
  MAP_PROJECTION_TYPE = SINUSOIDAL
  MAP_RESOLUTION = 4741.71043093333
  MAP_SCALE = 0.0125
  MAXIMUM_LATITUDE = 27.4529
  MINIMUM_LATITUDE = 14.2091
  POSITIVE_LONGITUDE_DIRECTION = EAST
  REFERENCE_LATITUDE = "N/A"
  REFERENCE_LONGITUDE = "N/A"
  SAMPLE_FIRST_PIXEL = 1
  SAMPLE_LAST_PIXEL = 7642
  SAMPLE_PROJECTION_OFFSET = 5478.0
  SECOND_STANDARD_PARALLEL = "N/A"
  WESTERNMOST_LONGITUDE = 274.813
END_OBJECT = IMAGE_MAP_PROJECTION
END
