PDS_VERSION_ID = PDS3
/* FILE DATA ELEMENTS */
RECORD_TYPE = UNDEFINED
/* POINTERS TO DATA OBJECTS */
^IMAGE = ("H7382_0000_S14.TIF")
/* IDENTIFICATION DATA ELEMENTS */
DATA_SET_ID = "MEX-M-HRSC-4-REFDR-MAPPROJECT-EXT3-V4.0"
DATA_SET_NAME = "MARS EXPRESS HRSC MAP PROJECTED REFDR EXTENSION3 V4.0"
DETECTOR_ID = MEX_HRSC_S1
EVENT_TYPE = "MARS-REGIONAL-MAPPING-Te-Fl-Gl"
INSTRUMENT_HOST_ID = MEX
INSTRUMENT_HOST_NAME = "MARS EXPRESS"
INSTRUMENT_ID = HRSC
INSTRUMENT_NAME = "HIGH RESOLUTION STEREO CAMERA"
MISSION_NAME = "MARS EXPRESS"
MISSION_PHASE_NAME = ME_Phase_18
PROCESSING_LEVEL_ID = 4
PRODUCT_CREATION_TIME = 2023-02-01T22:33:16.000Z
PRODUCT_ID = "H7382_0000_S14.TIF"
RELEASE_ID = 0002
REVISION_ID = 0000
/* QUALITY DATA ELEMENTS */
DATA_QUALITY_ID = 1
DATA_QUALITY_DESC = "Data calculated based on original SPICE kernels"
/* TIME DATA ELEMENTS */
SPACECRAFT_CLOCK_START_COUNT = "1/0202756865.07280"
SPACECRAFT_CLOCK_STOP_COUNT = "1/0202757270.29401"
START_TIME = 2009-10-04T17:21:07.592Z
STOP_TIME = 2009-10-04T17:26:23.366Z
/* ORBITAL DATA ELEMENTS */
ASCENDING_NODE_LONGITUDE = 76.57
MAXIMUM_RESOLUTION = 0.0298
FOOTPRINT_POINT_LATITUDE = (34.6528,34.6361,34.613,34.6124,34.5676 ,34.1917,33.6285,33.0731,32.6987, 32.3205,31.9516,31.5743,31.1924,30.6362 ,30.2604,29.8839,29.3193,28.9425, 28.5659,28.1875,27.6198,27.2423,26.8662 ,26.4878,25.9214,25.5437,25.1664,24.601 ,24.1511,23.9216,23.6915,23.2368, 22.7837,22.3312,21.654,20.9743,20.2968, 19.8451,19.1693,18.7185,18.0429,17.5936 ,17.143,16.468,16.0178,15.3439,14.8947, 14.222,13.9979,13.9681,13.9713,13.9754, 13.9766,13.9777,13.9782,13.9782,13.9787 ,14.4275,15.1015,15.7784,16.4516, 16.9017,17.3526,17.8059,18.2531,18.7046 ,19.3811,19.8333,20.5118,20.9645, 21.4171,22.0962,22.7755,23.2289,23.6822 ,24.1344,24.5889,24.9777,25.3536, 25.7323,26.2998,26.8657,27.2467,27.625, 28.3805,28.9475,29.5145,30.08,30.4581, 30.8339,31.2119,31.5882,31.9648,32.5272 ,32.9013,33.2678,33.6477,34.3955, 34.5825,34.6528)
FOOTPRINT_POINT_LONGITUDE = (60.5784,59.855,59.1262,59.1118,59.087, 59.0977,59.1135,59.1321,59.1422,59.1503 ,59.1623,59.1702,59.1758,59.191,59.1985 ,59.2054,59.2152,59.2211,59.2269, 59.2316,59.238,59.2423,59.2468,59.2501, 59.255,59.2578,59.2604,59.2642,59.2665, 59.2656,59.2643,59.2638,59.2634,59.2629 ,59.2619,59.2588,59.2556,59.2528, 59.2486,59.245,59.2391,59.235,59.2298, 59.2216,59.2154,59.2057,59.1987,59.1877 ,59.1838,59.1833,59.4257,59.8488, 60.1501,60.3907,60.7205,60.7355,60.7409 ,60.7388,60.7356,60.7318,60.729,60.7269 ,60.7246,60.7219,60.7204,60.7181, 60.7147,60.7122,60.7083,60.7057,60.703, 60.6988,60.6945,60.6914,60.6883,60.6854 ,60.6819,60.6781,60.6761,60.6734, 60.6694,60.6655,60.662,60.6589,60.6529, 60.648,60.6428,60.6377,60.6339,60.6306, 60.6265,60.6227,60.6187,60.613,60.6092, 60.6073,60.6017,60.593,60.5908,60.5784)
ORBIT_NUMBER = 7382
ORBITAL_ECCENTRICITY = 0.572
ORBITAL_INCLINATION = 86.83
ORBITAL_SEMIMAJOR_AXIS = 8744.51
PERIAPSIS_ALTITUDE = 351.99
PERIAPSIS_ARGUMENT_ANGLE = 143.36
PERIAPSIS_TIME = 2009-10-04T17:21:08.000Z
SPACECRAFT_ORIENTATION = (0.0,-1.0,0.0)
^MEX_ORIENTATION_DESC = "MEX_ORIENTATION_DESC.TXT"
SPACECRAFT_POINTING_MODE = ACROSSTRACK
^MEX_POINTING_DESC = "MEX_POINTING_DESC.TXT"
RIGHT_ASCENSION = -1e+32
DECLINATION = -1e+32
OFFSET_ANGLE = -0.2
SPACECRAFT_SOLAR_DISTANCE = 2.28864e+08
TARGET_NAME = MARS
/* CAMERA DATA ELEMENTS */
DETECTOR_TEMPERATURE = 17.5549
FOCAL_PLANE_TEMPERATURE = 7.9716
INST_CMPRS_NAME = "DISCRETE COSINE TRANSFORMATION (DCT)"
INST_CMPRS_RATIO = 8.3059
INST_CMPRS_QUALITY = 0
INST_CMPRS_QUANTZ_TBL_ID = 0
INSTRUMENT_TEMPERATURE = 11.0301
LENS_TEMPERATURE = 8.5833
MACROPIXEL_SIZE = 2
MISSING_FRAMES = 0
PIXEL_SUBSAMPLING_FLAG = N
SIGNAL_CHAIN_ID = 1
/* RADIOMETRIC DATA ELEMENTS */
BANDWIDTH = 180.0
CENTER_FILTER_WAVELENGTH = 677.0
RADIANCE_OFFSET = 4.75107
RADIANCE_SCALING_FACTOR = 0.0192892
REFLECTANCE_SCALING_FACTOR = 0.00052712
MEX:REFLECTANCE_OFFSET = 0.129833
/* IMAGE OBJECT DEFINITIONS */
OBJECT = IMAGE
  INTERCHANGE_FORMAT = BINARY
  LINES = 48943
  LINE_SAMPLES = 3759
  SAMPLE_TYPE = UNSIGNED_INTEGER
  SAMPLE_BITS = 8
  BANDS = 1
  BAND_STORAGE_TYPE = BAND_SEQUENTIAL
  MAXIMUM = 255
  MEAN = 158.063
  MINIMUM = 1
  STANDARD_DEVIATION = 22.2243
END_OBJECT = IMAGE
/* MAP OBJECT DEFINITIONS */
OBJECT = IMAGE_MAP_PROJECTION
  ^DATA_SET_MAP_PROJECTION_CATALOG= "DSMAP.CAT"
  A_AXIS_RADIUS = 3396.0
  B_AXIS_RADIUS = 3396.0
  C_AXIS_RADIUS = 3396.0
  CENTER_LATITUDE = 0.0
  CENTER_LONGITUDE = 60.0
  COORDINATE_SYSTEM_NAME = PLANETOGRAPHIC
  COORDINATE_SYSTEM_TYPE = "BODY-FIXED ROTATING"
  EASTERNMOST_LONGITUDE = 60.7409
  FIRST_STANDARD_PARALLEL = "N/A"
  LINE_FIRST_PIXEL = 1
  LINE_LAST_PIXEL = 48943
  LINE_PROJECTION_OFFSET = 82044.25
  MAP_PROJECTION_ROTATION = 0.0
  MAP_PROJECTION_TYPE = SINUSOIDAL
  MAP_RESOLUTION = 2370.85521546667
  MAP_SCALE = 0.025
  MAXIMUM_LATITUDE = 34.6528
  MINIMUM_LATITUDE = 13.9681
  POSITIVE_LONGITUDE_DIRECTION = EAST
  REFERENCE_LATITUDE = "N/A"
  REFERENCE_LONGITUDE = "N/A"
  SAMPLE_FIRST_PIXEL = 1
  SAMPLE_LAST_PIXEL = 3759
  SAMPLE_PROJECTION_OFFSET = 1969.25
  SECOND_STANDARD_PARALLEL = "N/A"
  WESTERNMOST_LONGITUDE = 59.087
END_OBJECT = IMAGE_MAP_PROJECTION
END
