PDS_VERSION_ID = PDS3
/* FILE DATA ELEMENTS */
RECORD_TYPE = UNDEFINED
/* POINTERS TO DATA OBJECTS */
^IMAGE = ("H7379_0000_RE4.TIF")
/* IDENTIFICATION DATA ELEMENTS */
DATA_SET_ID = "MEX-M-HRSC-4-REFDR-MAPPROJECT-EXT3-V4.0"
DATA_SET_NAME = "MARS EXPRESS HRSC MAP PROJECTED REFDR EXTENSION3 V4.0"
DETECTOR_ID = MEX_HRSC_RED
EVENT_TYPE = "MARS-REGIONAL-MAPPING-Im-Fl"
INSTRUMENT_HOST_ID = MEX
INSTRUMENT_HOST_NAME = "MARS EXPRESS"
INSTRUMENT_ID = HRSC
INSTRUMENT_NAME = "HIGH RESOLUTION STEREO CAMERA"
MISSION_NAME = "MARS EXPRESS"
MISSION_PHASE_NAME = ME_Phase_18
PROCESSING_LEVEL_ID = 4
PRODUCT_CREATION_TIME = 2023-02-01T22:33:16.000Z
PRODUCT_ID = "H7379_0000_RE4.TIF"
RELEASE_ID = 0002
REVISION_ID = 0000
/* QUALITY DATA ELEMENTS */
DATA_QUALITY_ID = 1
DATA_QUALITY_DESC = "Data calculated based on original SPICE kernels"
/* TIME DATA ELEMENTS */
SPACECRAFT_CLOCK_START_COUNT = "1/0202682448.08261"
SPACECRAFT_CLOCK_STOP_COUNT = "1/0202682713.45946"
START_TIME = 2009-10-03T20:41:49.858Z
STOP_TIME = 2009-10-03T20:45:06.861Z
/* ORBITAL DATA ELEMENTS */
ASCENDING_NODE_LONGITUDE = 76.64
MAXIMUM_RESOLUTION = 0.1219
FOOTPRINT_POINT_LATITUDE = (30.6024,30.6051,30.6062,30.6078, 30.6083,30.6083,30.6487,30.2193,29.7899 ,29.3616,29.0401,28.6128,28.398,28.1834 ,27.8035,27.5502,27.2959,26.9161, 26.6649,26.4141,26.1623,25.9098,25.6583 ,25.4076,25.0316,24.781,24.5309,24.2813 ,24.0327,23.7864,23.5339,23.2866, 23.0376,22.7909,22.4205,22.174,21.9279, 21.6819,21.4368,21.1919,20.9474,20.5728 ,20.3223,20.0727,19.8231,19.5735, 19.3187,18.9374,18.6833,18.5564,18.4968 ,18.4896,18.4856,18.4774,18.4715, 18.4712,18.4731,18.7278,19.1089,19.3642 ,19.6176,19.993,20.2431,20.619,20.8698, 21.1143,21.3596,21.6054,21.8516,22.0981 ,22.4687,22.716,23.0875,23.4606,23.7097 ,24.0833,24.4597,24.7097,24.9605, 25.2119,25.4631,25.7143,25.9666,26.2191 ,26.4716,26.8494,27.1021,27.3549, 27.6086,27.862,28.1186,28.3424,28.9838, 29.4112,29.7334,29.9483,30.2706,30.4853 ,30.5928,30.6024)
FOOTPRINT_POINT_LONGITUDE = (3.05269,2.59543,2.33835,1.90328, 1.62907,1.6153,1.58183,1.58937,1.59676, 1.60337,1.60839,1.61428,1.6179,1.62124, 1.62483,1.62728,1.6303,1.63381,1.63497, 1.63595,1.63754,1.6395,1.64093,1.64191, 1.64342,1.64441,1.64514,1.64567,1.64561 ,1.64433,1.64656,1.64594,1.64628, 1.64542,1.64446,1.64361,1.6426,1.64161, 1.64022,1.63877,1.63716,1.63484,1.63304 ,1.63087,1.62878,1.62677,1.62427, 1.61992,1.61712,1.61567,1.61504,2.1088, 2.34797,2.79471,3.17981,3.19461,3.20445 ,3.20191,3.19769,3.195,3.19231,3.18854, 3.18588,3.18186,3.1792,3.17648,3.17384, 3.1712,3.16855,3.16589,3.16187,3.15914, 3.15497,3.15094,3.14822,3.14394,3.14004 ,3.13712,3.13428,3.13147,3.12853, 3.12548,3.12258,3.11962,3.11657,3.11162 ,3.10836,3.10505,3.10182,3.09844, 3.09561,3.0929,3.08444,3.07843,3.07409, 3.07113,3.06655,3.06338,3.0618,3.05269)
ORBIT_NUMBER = 7379
ORBITAL_ECCENTRICITY = 0.572
ORBITAL_INCLINATION = 86.81
ORBITAL_SEMIMAJOR_AXIS = 8739.98
PERIAPSIS_ALTITUDE = 352.26
PERIAPSIS_ARGUMENT_ANGLE = 143.85
PERIAPSIS_TIME = 2009-10-03T20:39:58.000Z
SPACECRAFT_ORIENTATION = (0.0,-1.0,0.0)
^MEX_ORIENTATION_DESC = "MEX_ORIENTATION_DESC.TXT"
SPACECRAFT_POINTING_MODE = ACROSSTRACK
^MEX_POINTING_DESC = "MEX_POINTING_DESC.TXT"
RIGHT_ASCENSION = -1e+32
DECLINATION = -1e+32
OFFSET_ANGLE = -0.3
SPACECRAFT_SOLAR_DISTANCE = 2.28697e+08
TARGET_NAME = MARS
/* CAMERA DATA ELEMENTS */
DETECTOR_TEMPERATURE = 18.5744
FOCAL_PLANE_TEMPERATURE = 8.7872
INST_CMPRS_NAME = "DISCRETE COSINE TRANSFORMATION (DCT)"
INST_CMPRS_RATIO = 23.1203
INST_CMPRS_QUALITY = 0
INST_CMPRS_QUANTZ_TBL_ID = 0
INSTRUMENT_TEMPERATURE = 11.234
LENS_TEMPERATURE = 8.9911
MACROPIXEL_SIZE = 8
MISSING_FRAMES = 0
PIXEL_SUBSAMPLING_FLAG = N
SIGNAL_CHAIN_ID = 2
/* RADIOMETRIC DATA ELEMENTS */
BANDWIDTH = 48.0
CENTER_FILTER_WAVELENGTH = 748.0
RADIANCE_OFFSET = 1.48213
RADIANCE_SCALING_FACTOR = 0.00447097
REFLECTANCE_SCALING_FACTOR = 0.000533639
MEX:REFLECTANCE_OFFSET = 0.176901
/* IMAGE OBJECT DEFINITIONS */
OBJECT = IMAGE
  INTERCHANGE_FORMAT = BINARY
  LINES = 7223
  LINE_SAMPLES = 872
  SAMPLE_TYPE = UNSIGNED_INTEGER
  SAMPLE_BITS = 8
  BANDS = 1
  BAND_STORAGE_TYPE = BAND_SEQUENTIAL
  MAXIMUM = 255
  MEAN = 119.834
  MINIMUM = 1
  STANDARD_DEVIATION = 30.8576
END_OBJECT = IMAGE
/* MAP OBJECT DEFINITIONS */
OBJECT = IMAGE_MAP_PROJECTION
  ^DATA_SET_MAP_PROJECTION_CATALOG= "DSMAP.CAT"
  A_AXIS_RADIUS = 3396.0
  B_AXIS_RADIUS = 3396.0
  C_AXIS_RADIUS = 3396.0
  CENTER_LATITUDE = 0.0
  CENTER_LONGITUDE = 2.0
  COORDINATE_SYSTEM_NAME = PLANETOGRAPHIC
  COORDINATE_SYSTEM_TYPE = "BODY-FIXED ROTATING"
  EASTERNMOST_LONGITUDE = 3.20445
  FIRST_STANDARD_PARALLEL = "N/A"
  LINE_FIRST_PIXEL = 1
  LINE_LAST_PIXEL = 7223
  LINE_PROJECTION_OFFSET = 18164.4375
  MAP_PROJECTION_ROTATION = 0.0
  MAP_PROJECTION_TYPE = SINUSOIDAL
  MAP_RESOLUTION = 592.713803866667
  MAP_SCALE = 0.1
  MAXIMUM_LATITUDE = 30.6487
  MINIMUM_LATITUDE = 18.4712
  POSITIVE_LONGITUDE_DIRECTION = EAST
  REFERENCE_LATITUDE = "N/A"
  REFERENCE_LONGITUDE = "N/A"
  SAMPLE_FIRST_PIXEL = 1
  SAMPLE_LAST_PIXEL = 872
  SAMPLE_PROJECTION_OFFSET = 212.4375
  SECOND_STANDARD_PARALLEL = "N/A"
  WESTERNMOST_LONGITUDE = 1.58183
END_OBJECT = IMAGE_MAP_PROJECTION
END
