PDS_VERSION_ID = PDS3
/* FILE DATA ELEMENTS */
RECORD_TYPE = UNDEFINED
/* POINTERS TO DATA OBJECTS */
^IMAGE = ("H7379_0000_GR4.TIF")
/* IDENTIFICATION DATA ELEMENTS */
DATA_SET_ID = "MEX-M-HRSC-4-REFDR-MAPPROJECT-EXT3-V4.0"
DATA_SET_NAME = "MARS EXPRESS HRSC MAP PROJECTED REFDR EXTENSION3 V4.0"
DETECTOR_ID = MEX_HRSC_GREEN
EVENT_TYPE = "MARS-REGIONAL-MAPPING-Im-Fl"
INSTRUMENT_HOST_ID = MEX
INSTRUMENT_HOST_NAME = "MARS EXPRESS"
INSTRUMENT_ID = HRSC
INSTRUMENT_NAME = "HIGH RESOLUTION STEREO CAMERA"
MISSION_NAME = "MARS EXPRESS"
MISSION_PHASE_NAME = ME_Phase_18
PROCESSING_LEVEL_ID = 4
PRODUCT_CREATION_TIME = 2023-02-01T22:33:16.000Z
PRODUCT_ID = "H7379_0000_GR4.TIF"
RELEASE_ID = 0002
REVISION_ID = 0000
/* QUALITY DATA ELEMENTS */
DATA_QUALITY_ID = 1
DATA_QUALITY_DESC = "Data calculated based on original SPICE kernels"
/* TIME DATA ELEMENTS */
SPACECRAFT_CLOCK_START_COUNT = "1/0202682448.08261"
SPACECRAFT_CLOCK_STOP_COUNT = "1/0202682713.45946"
START_TIME = 2009-10-03T20:41:17.054Z
STOP_TIME = 2009-10-03T20:44:27.234Z
/* ORBITAL DATA ELEMENTS */
ASCENDING_NODE_LONGITUDE = 76.64
MAXIMUM_RESOLUTION = 0.1147
FOOTPRINT_POINT_LATITUDE = (30.6592,30.6565,30.6513,30.6447, 30.6399,30.6397,30.6298,30.3014,29.9731 ,29.7543,29.5355,29.3168,28.9889, 28.5519,28.2246,28.0055,27.4601,27.024, 26.5876,26.0428,25.6609,25.4012,25.1416 ,24.8822,24.6229,24.3638,24.1049, 23.8457,23.458,23.1995,22.9413,22.5539, 22.2959,22.0382,21.7806,21.5232,21.2659 ,21.0088,20.7519,20.4953,20.2388, 19.9825,19.7264,19.4706,19.2148,18.9593 ,18.704,18.5765,18.453,18.4546,18.4553, 18.4555,18.4546,18.4546,18.4565,18.7119 ,18.9677,19.2235,19.4796,19.7358, 19.9923,20.3775,20.6343,20.8916,21.1489 ,21.4065,21.6643,21.9221,22.1802, 22.4384,22.697,23.0848,23.3435,23.6023, 23.8615,24.1208,24.38,24.7694,25.0291, 25.2889,25.5489,25.8091,26.2787,26.6057 ,26.9338,27.2617,27.6989,28.0267, 28.2453,28.464,28.7925,29.0114,29.2305, 29.4497,29.6687,29.8878,30.1071,30.436, 30.5457,30.6592)
FOOTPRINT_POINT_LONGITUDE = (3.03891,2.75004,2.32733,1.90195, 1.64739,1.63397,1.60185,1.6083,1.61475, 1.6187,1.62239,1.62636,1.63179,1.63923, 1.64495,1.64594,1.65374,1.65934,1.66255 ,1.66693,1.67003,1.67171,1.67319, 1.67469,1.67598,1.6772,1.67834,1.67813, 1.67986,1.68031,1.68085,1.68053,1.68023 ,1.68,1.67963,1.67888,1.67786,1.67691, 1.67572,1.67482,1.67359,1.67196,1.6705, 1.66891,1.6668,1.66458,1.66249,1.66145, 1.66038,2.05693,2.42498,2.72123,3.14197 ,3.15599,3.16531,3.16345,3.1612,3.15925 ,3.15716,3.15522,3.15323,3.14998, 3.14802,3.14582,3.14365,3.14145,3.13925 ,3.13708,3.13486,3.13264,3.13026, 3.12691,3.12478,3.12258,3.12017,3.11772 ,3.11549,3.11178,3.10945,3.10703, 3.10442,3.10182,3.09725,3.09428,3.09016 ,3.08654,3.08178,3.07846,3.07626, 3.07388,3.07002,3.06751,3.06488,3.06221 ,3.05976,3.0571,3.05439,3.05022,3.04881 ,3.03891)
ORBIT_NUMBER = 7379
ORBITAL_ECCENTRICITY = 0.572
ORBITAL_INCLINATION = 86.81
ORBITAL_SEMIMAJOR_AXIS = 8739.98
PERIAPSIS_ALTITUDE = 352.26
PERIAPSIS_ARGUMENT_ANGLE = 143.85
PERIAPSIS_TIME = 2009-10-03T20:39:58.000Z
SPACECRAFT_ORIENTATION = (0.0,-1.0,0.0)
^MEX_ORIENTATION_DESC = "MEX_ORIENTATION_DESC.TXT"
SPACECRAFT_POINTING_MODE = ACROSSTRACK
^MEX_POINTING_DESC = "MEX_POINTING_DESC.TXT"
RIGHT_ASCENSION = -1e+32
DECLINATION = -1e+32
OFFSET_ANGLE = -0.3
SPACECRAFT_SOLAR_DISTANCE = 2.28697e+08
TARGET_NAME = MARS
/* CAMERA DATA ELEMENTS */
DETECTOR_TEMPERATURE = 18.1666
FOCAL_PLANE_TEMPERATURE = 8.7872
INST_CMPRS_NAME = "DISCRETE COSINE TRANSFORMATION (DCT)"
INST_CMPRS_RATIO = 20.8251
INST_CMPRS_QUALITY = 0
INST_CMPRS_QUANTZ_TBL_ID = 0
INSTRUMENT_TEMPERATURE = 11.234
LENS_TEMPERATURE = 8.9911
MACROPIXEL_SIZE = 8
MISSING_FRAMES = 0
PIXEL_SUBSAMPLING_FLAG = N
SIGNAL_CHAIN_ID = 2
/* RADIOMETRIC DATA ELEMENTS */
BANDWIDTH = 88.0
CENTER_FILTER_WAVELENGTH = 538.0
RADIANCE_OFFSET = 1.48891
RADIANCE_SCALING_FACTOR = 0.00480848
REFLECTANCE_SCALING_FACTOR = 0.00021653
MEX:REFLECTANCE_OFFSET = 0.0670469
/* IMAGE OBJECT DEFINITIONS */
OBJECT = IMAGE
  INTERCHANGE_FORMAT = BINARY
  LINES = 7223
  LINE_SAMPLES = 872
  SAMPLE_TYPE = UNSIGNED_INTEGER
  SAMPLE_BITS = 8
  BANDS = 1
  BAND_STORAGE_TYPE = BAND_SEQUENTIAL
  MAXIMUM = 255
  MEAN = 138.371
  MINIMUM = 22
  STANDARD_DEVIATION = 28.2142
END_OBJECT = IMAGE
/* MAP OBJECT DEFINITIONS */
OBJECT = IMAGE_MAP_PROJECTION
  ^DATA_SET_MAP_PROJECTION_CATALOG= "DSMAP.CAT"
  A_AXIS_RADIUS = 3396.0
  B_AXIS_RADIUS = 3396.0
  C_AXIS_RADIUS = 3396.0
  CENTER_LATITUDE = 0.0
  CENTER_LONGITUDE = 2.0
  COORDINATE_SYSTEM_NAME = PLANETOGRAPHIC
  COORDINATE_SYSTEM_TYPE = "BODY-FIXED ROTATING"
  EASTERNMOST_LONGITUDE = 3.16531
  FIRST_STANDARD_PARALLEL = "N/A"
  LINE_FIRST_PIXEL = 1
  LINE_LAST_PIXEL = 7223
  LINE_PROJECTION_OFFSET = 18164.4375
  MAP_PROJECTION_ROTATION = 0.0
  MAP_PROJECTION_TYPE = SINUSOIDAL
  MAP_RESOLUTION = 592.713803866667
  MAP_SCALE = 0.1
  MAXIMUM_LATITUDE = 30.6592
  MINIMUM_LATITUDE = 18.453
  POSITIVE_LONGITUDE_DIRECTION = EAST
  REFERENCE_LATITUDE = "N/A"
  REFERENCE_LONGITUDE = "N/A"
  SAMPLE_FIRST_PIXEL = 1
  SAMPLE_LAST_PIXEL = 872
  SAMPLE_PROJECTION_OFFSET = 212.4375
  SECOND_STANDARD_PARALLEL = "N/A"
  WESTERNMOST_LONGITUDE = 1.60185
END_OBJECT = IMAGE_MAP_PROJECTION
END
