PDS_VERSION_ID = PDS3
/* FILE DATA ELEMENTS */
RECORD_TYPE = UNDEFINED
/* POINTERS TO DATA OBJECTS */
^IMAGE = ("H7378_0000_RE4.TIF")
/* IDENTIFICATION DATA ELEMENTS */
DATA_SET_ID = "MEX-M-HRSC-4-REFDR-MAPPROJECT-EXT3-V4.0"
DATA_SET_NAME = "MARS EXPRESS HRSC MAP PROJECTED REFDR EXTENSION3 V4.0"
DETECTOR_ID = MEX_HRSC_RED
EVENT_TYPE = "MARS-REGIONAL-MAPPING-Vo-Gl-Pf"
INSTRUMENT_HOST_ID = MEX
INSTRUMENT_HOST_NAME = "MARS EXPRESS"
INSTRUMENT_ID = HRSC
INSTRUMENT_NAME = "HIGH RESOLUTION STEREO CAMERA"
MISSION_NAME = "MARS EXPRESS"
MISSION_PHASE_NAME = ME_Phase_18
PROCESSING_LEVEL_ID = 4
PRODUCT_CREATION_TIME = 2023-02-01T22:33:16.000Z
PRODUCT_ID = "H7378_0000_RE4.TIF"
RELEASE_ID = 0002
REVISION_ID = 0000
/* QUALITY DATA ELEMENTS */
DATA_QUALITY_ID = 1
DATA_QUALITY_DESC = "Data calculated based on original SPICE kernels"
/* TIME DATA ELEMENTS */
SPACECRAFT_CLOCK_START_COUNT = "1/0202657530.09056"
SPACECRAFT_CLOCK_STOP_COUNT = "1/0202657834.49663"
START_TIME = 2009-10-03T13:46:31.146Z
STOP_TIME = 2009-10-03T13:50:28.344Z
/* ORBITAL DATA ELEMENTS */
ASCENDING_NODE_LONGITUDE = 76.65
MAXIMUM_RESOLUTION = 0.1191
FOOTPRINT_POINT_LATITUDE = (36.6244,36.6223,36.6179,36.6113, 36.6111,36.6673,36.3832,36.0992,35.6735 ,35.3898,35.106,34.8259,34.5397,34.2571 ,33.8337,33.5517,33.1288,32.7067, 32.4255,32.0043,31.5835,31.1634,30.8834 ,30.6042,30.325,30.0462,29.7675,29.2112 ,28.7945,28.2407,27.688,27.1963,26.8677 ,26.5399,26.2123,25.8852,25.5587, 25.2329,24.9076,24.5828,24.2585,23.9345 ,23.6117,23.2893,22.9672,22.6458, 22.3251,22.005,21.8452,21.7028,21.6997, 21.6976,21.6923,21.6923,21.6941,22.1746 ,22.4955,22.8172,23.1393,23.4623, 23.7856,24.1095,24.4342,24.7591,25.0848 ,25.4111,25.7379,26.0651,26.3929, 26.7209,27.0495,27.379,27.703,28.2573, 28.8126,29.3687,29.7868,30.0657,30.3449 ,30.6249,30.9048,31.3252,31.6058, 31.8867,32.1679,32.4492,32.7308,33.0128 ,33.2951,33.5775,33.8601,34.1431, 34.5678,34.8513,35.1351,35.5608,35.9872 ,36.414,36.5565,36.6244)
FOOTPRINT_POINT_LONGITUDE = (104.0,103.651,103.133,102.528,102.513, 102.473,102.483,102.493,102.507,102.516 ,102.525,102.532,102.542,102.55,102.561 ,102.569,102.579,102.589,102.595, 102.604,102.612,102.62,102.625,102.629, 102.634,102.638,102.642,102.649,102.654 ,102.66,102.665,102.669,102.671,102.673 ,102.675,102.676,102.677,102.678, 102.679,102.679,102.679,102.679,102.679 ,102.678,102.677,102.676,102.675, 102.673,102.672,102.672,103.186,103.486 ,104.17,104.184,104.193,104.189,104.186 ,104.183,104.18,104.177,104.174,104.171 ,104.168,104.165,104.162,104.159, 104.156,104.153,104.149,104.146,104.142 ,104.139,104.136,104.13,104.124,104.118 ,104.113,104.11,104.107,104.104,104.1, 104.095,104.092,104.088,104.085,104.081 ,104.077,104.074,104.07,104.066,104.062 ,104.058,104.052,104.048,104.044, 104.038,104.031,104.024,104.022,104.0)
ORBIT_NUMBER = 7378
ORBITAL_ECCENTRICITY = 0.572
ORBITAL_INCLINATION = 86.81
ORBITAL_SEMIMAJOR_AXIS = 8747.15
PERIAPSIS_ALTITUDE = 351.28
PERIAPSIS_ARGUMENT_ANGLE = 144.03
PERIAPSIS_TIME = 2009-10-03T13:46:16.000Z
SPACECRAFT_ORIENTATION = (0.0,-1.0,0.0)
^MEX_ORIENTATION_DESC = "MEX_ORIENTATION_DESC.TXT"
SPACECRAFT_POINTING_MODE = ACROSSTRACK
^MEX_POINTING_DESC = "MEX_POINTING_DESC.TXT"
RIGHT_ASCENSION = -1e+32
DECLINATION = -1e+32
OFFSET_ANGLE = -0.13
SPACECRAFT_SOLAR_DISTANCE = 2.28641e+08
TARGET_NAME = MARS
/* CAMERA DATA ELEMENTS */
DETECTOR_TEMPERATURE = 18.5744
FOCAL_PLANE_TEMPERATURE = 8.7872
INST_CMPRS_NAME = "DISCRETE COSINE TRANSFORMATION (DCT)"
INST_CMPRS_RATIO = 23.7777
INST_CMPRS_QUALITY = 0
INST_CMPRS_QUANTZ_TBL_ID = 0
INSTRUMENT_TEMPERATURE = 11.234
LENS_TEMPERATURE = 9.195
MACROPIXEL_SIZE = 8
MISSING_FRAMES = 0
PIXEL_SUBSAMPLING_FLAG = N
SIGNAL_CHAIN_ID = 2
/* RADIOMETRIC DATA ELEMENTS */
BANDWIDTH = 48.0
CENTER_FILTER_WAVELENGTH = 748.0
RADIANCE_OFFSET = 1.3844
RADIANCE_SCALING_FACTOR = 0.00402387
REFLECTANCE_SCALING_FACTOR = 0.00048004
MEX:REFLECTANCE_OFFSET = 0.165157
/* IMAGE OBJECT DEFINITIONS */
OBJECT = IMAGE
  INTERCHANGE_FORMAT = BINARY
  LINES = 8898
  LINE_SAMPLES = 898
  SAMPLE_TYPE = UNSIGNED_INTEGER
  SAMPLE_BITS = 8
  BANDS = 1
  BAND_STORAGE_TYPE = BAND_SEQUENTIAL
  MAXIMUM = 255
  MEAN = 136.367
  MINIMUM = 1
  STANDARD_DEVIATION = 19.9829
END_OBJECT = IMAGE
/* MAP OBJECT DEFINITIONS */
OBJECT = IMAGE_MAP_PROJECTION
  ^DATA_SET_MAP_PROJECTION_CATALOG= "DSMAP.CAT"
  A_AXIS_RADIUS = 3396.0
  B_AXIS_RADIUS = 3396.0
  C_AXIS_RADIUS = 3396.0
  CENTER_LATITUDE = 0.0
  CENTER_LONGITUDE = 103.0
  COORDINATE_SYSTEM_NAME = PLANETOGRAPHIC
  COORDINATE_SYSTEM_TYPE = "BODY-FIXED ROTATING"
  EASTERNMOST_LONGITUDE = 104.193
  FIRST_STANDARD_PARALLEL = "N/A"
  LINE_FIRST_PIXEL = 1
  LINE_LAST_PIXEL = 8898
  LINE_PROJECTION_OFFSET = 21743.4375
  MAP_PROJECTION_ROTATION = 0.0
  MAP_PROJECTION_TYPE = SINUSOIDAL
  MAP_RESOLUTION = 592.713803866667
  MAP_SCALE = 0.1
  MAXIMUM_LATITUDE = 36.6673
  MINIMUM_LATITUDE = 21.6923
  POSITIVE_LONGITUDE_DIRECTION = EAST
  REFERENCE_LATITUDE = "N/A"
  REFERENCE_LONGITUDE = "N/A"
  SAMPLE_FIRST_PIXEL = 1
  SAMPLE_LAST_PIXEL = 898
  SAMPLE_PROJECTION_OFFSET = 255.8125
  SECOND_STANDARD_PARALLEL = "N/A"
  WESTERNMOST_LONGITUDE = 102.473
END_OBJECT = IMAGE_MAP_PROJECTION
END
