PDS_VERSION_ID = PDS3
/* FILE DATA ELEMENTS */
RECORD_TYPE = UNDEFINED
/* POINTERS TO DATA OBJECTS */
^IMAGE = ("H7375_0000_P24.TIF")
/* IDENTIFICATION DATA ELEMENTS */
DATA_SET_ID = "MEX-M-HRSC-4-REFDR-MAPPROJECT-EXT3-V4.0"
DATA_SET_NAME = "MARS EXPRESS HRSC MAP PROJECTED REFDR EXTENSION3 V4.0"
DETECTOR_ID = MEX_HRSC_P2
EVENT_TYPE = "MARS-REGIONAL-MAPPING-Im-Fl"
INSTRUMENT_HOST_ID = MEX
INSTRUMENT_HOST_NAME = "MARS EXPRESS"
INSTRUMENT_ID = HRSC
INSTRUMENT_NAME = "HIGH RESOLUTION STEREO CAMERA"
MISSION_NAME = "MARS EXPRESS"
MISSION_PHASE_NAME = ME_Phase_18
PROCESSING_LEVEL_ID = 4
PRODUCT_CREATION_TIME = 2023-02-01T22:33:16.000Z
PRODUCT_ID = "H7375_0000_P24.TIF"
RELEASE_ID = 0002
REVISION_ID = 0000
/* QUALITY DATA ELEMENTS */
DATA_QUALITY_ID = 1
DATA_QUALITY_DESC = "Data calculated based on original SPICE kernels"
/* TIME DATA ELEMENTS */
SPACECRAFT_CLOCK_START_COUNT = "1/0202583222.09077"
SPACECRAFT_CLOCK_STOP_COUNT = "1/0202583502.06687"
START_TIME = 2009-10-02T17:08:00.069Z
STOP_TIME = 2009-10-02T17:11:25.919Z
/* ORBITAL DATA ELEMENTS */
ASCENDING_NODE_LONGITUDE = 76.71
MAXIMUM_RESOLUTION = 0.0617
FOOTPRINT_POINT_LATITUDE = (25.6508,25.6532,25.656,25.6594,25.6594 ,25.6743,25.2882,25.0309,24.7737, 24.5169,24.2597,24.004,23.747,23.3644, 23.1086,22.8534,22.599,22.3448,22.0908, 21.8376,21.5846,21.3322,21.0802,20.828, 20.5764,20.1997,19.9481,19.6986,19.4482 ,19.1987,18.9492,18.7005,18.4527, 18.2054,17.9578,17.7107,17.4638,17.2174 ,16.971,16.7251,16.4799,16.2341,15.9895 ,15.745,15.5004,15.0148,14.5342,13.93, 13.3256,13.2061,13.1709,13.1588,13.1544 ,13.1485,13.1418,13.1415,13.1424, 13.8625,14.3498,14.7138,14.9576,15.4414 ,15.6855,15.9309,16.1759,16.4213, 16.6672,17.0355,17.4059,17.6537,17.9011 ,18.1488,18.397,18.6457,18.8946,19.1441 ,19.5183,19.7695,20.021,20.3982,20.7772 ,21.0298,21.2806,21.5339,21.9142, 22.1677,22.4214,22.6756,22.9308,23.3136 ,23.5692,23.9524,24.2091,24.4653, 24.7214,24.9788,25.2374,25.4972,25.6259 ,25.6508)
FOOTPRINT_POINT_LONGITUDE = (46.4723,46.1523,45.7234,45.0468, 45.0332,45.0181,45.02,45.0212,45.0224, 45.0234,45.0247,45.0249,45.0262,45.0262 ,45.0267,45.027,45.0267,45.0264,45.026, 45.0251,45.0242,45.023,45.0216,45.0203, 45.0189,45.0163,45.0151,45.0125,45.0107 ,45.0084,45.0062,45.0036,45.0004, 44.9972,44.9942,44.991,44.9878,44.9845, 44.9812,44.9778,44.9741,44.9708,44.967, 44.9633,44.9597,44.9507,44.9392,44.9279 ,44.9177,44.9149,44.9143,45.5606, 45.8584,46.1711,46.5762,46.5918,46.597, 46.5896,46.5862,46.5829,46.5809,46.5754 ,46.5731,46.5711,46.5688,46.5665, 46.5643,46.5605,46.5571,46.555,46.5526, 46.5502,46.5477,46.5454,46.5429,46.5406 ,46.5368,46.5346,46.5324,46.5289, 46.5256,46.5233,46.5203,46.5179,46.5143 ,46.5117,46.5091,46.5065,46.504,46.5001 ,46.4975,46.4934,46.4908,46.488,46.4851 ,46.4824,46.4799,46.4776,46.4761, 46.4723)
ORBIT_NUMBER = 7375
ORBITAL_ECCENTRICITY = 0.572
ORBITAL_INCLINATION = 86.81
ORBITAL_SEMIMAJOR_AXIS = 8746.23
PERIAPSIS_ALTITUDE = 351.46
PERIAPSIS_ARGUMENT_ANGLE = 144.59
PERIAPSIS_TIME = 2009-10-02T17:05:07.000Z
SPACECRAFT_ORIENTATION = (0.0,-1.0,0.0)
^MEX_ORIENTATION_DESC = "MEX_ORIENTATION_DESC.TXT"
SPACECRAFT_POINTING_MODE = ACROSSTRACK
^MEX_POINTING_DESC = "MEX_POINTING_DESC.TXT"
RIGHT_ASCENSION = -1e+32
DECLINATION = -1e+32
OFFSET_ANGLE = -0.3
SPACECRAFT_SOLAR_DISTANCE = 2.28474e+08
TARGET_NAME = MARS
/* CAMERA DATA ELEMENTS */
DETECTOR_TEMPERATURE = 18.7783
FOCAL_PLANE_TEMPERATURE = 8.3794
INST_CMPRS_NAME = "DISCRETE COSINE TRANSFORMATION (DCT)"
INST_CMPRS_RATIO = 10.6916
INST_CMPRS_QUALITY = 0
INST_CMPRS_QUANTZ_TBL_ID = 0
INSTRUMENT_TEMPERATURE = 11.234
LENS_TEMPERATURE = 8.7872
MACROPIXEL_SIZE = 4
MISSING_FRAMES = 0
PIXEL_SUBSAMPLING_FLAG = N
SIGNAL_CHAIN_ID = 3
/* RADIOMETRIC DATA ELEMENTS */
BANDWIDTH = 177.0
CENTER_FILTER_WAVELENGTH = 676.5
RADIANCE_OFFSET = 6.1876
RADIANCE_SCALING_FACTOR = 0.0144838
REFLECTANCE_SCALING_FACTOR = 0.00040088
MEX:REFLECTANCE_OFFSET = 0.171259
/* IMAGE OBJECT DEFINITIONS */
OBJECT = IMAGE
  INTERCHANGE_FORMAT = BINARY
  LINES = 14853
  LINE_SAMPLES = 1867
  SAMPLE_TYPE = UNSIGNED_INTEGER
  SAMPLE_BITS = 8
  BANDS = 1
  BAND_STORAGE_TYPE = BAND_SEQUENTIAL
  MAXIMUM = 255
  MEAN = 138.221
  MINIMUM = 1
  STANDARD_DEVIATION = 26.4831
END_OBJECT = IMAGE
/* MAP OBJECT DEFINITIONS */
OBJECT = IMAGE_MAP_PROJECTION
  ^DATA_SET_MAP_PROJECTION_CATALOG= "DSMAP.CAT"
  A_AXIS_RADIUS = 3396.0
  B_AXIS_RADIUS = 3396.0
  C_AXIS_RADIUS = 3396.0
  CENTER_LATITUDE = 0.0
  CENTER_LONGITUDE = 46.0
  COORDINATE_SYSTEM_NAME = PLANETOGRAPHIC
  COORDINATE_SYSTEM_TYPE = "BODY-FIXED ROTATING"
  EASTERNMOST_LONGITUDE = 46.597
  FIRST_STANDARD_PARALLEL = "N/A"
  LINE_FIRST_PIXEL = 1
  LINE_LAST_PIXEL = 14853
  LINE_PROJECTION_OFFSET = 30453.375
  MAP_PROJECTION_ROTATION = 0.0
  MAP_PROJECTION_TYPE = SINUSOIDAL
  MAP_RESOLUTION = 1185.42760773333
  MAP_SCALE = 0.05
  MAXIMUM_LATITUDE = 25.6743
  MINIMUM_LATITUDE = 13.1415
  POSITIVE_LONGITUDE_DIRECTION = EAST
  REFERENCE_LATITUDE = "N/A"
  REFERENCE_LONGITUDE = "N/A"
  SAMPLE_FIRST_PIXEL = 1
  SAMPLE_LAST_PIXEL = 1867
  SAMPLE_PROJECTION_OFFSET = 1216.875
  SECOND_STANDARD_PARALLEL = "N/A"
  WESTERNMOST_LONGITUDE = 44.9143
END_OBJECT = IMAGE_MAP_PROJECTION
END
