PDS_VERSION_ID = PDS3
/* FILE DATA ELEMENTS */
RECORD_TYPE = UNDEFINED
/* POINTERS TO DATA OBJECTS */
^IMAGE = ("H7373_0000_IR4.TIF")
/* IDENTIFICATION DATA ELEMENTS */
DATA_SET_ID = "MEX-M-HRSC-4-REFDR-MAPPROJECT-EXT3-V4.0"
DATA_SET_NAME = "MARS EXPRESS HRSC MAP PROJECTED REFDR EXTENSION3 V4.0"
DETECTOR_ID = MEX_HRSC_IR
EVENT_TYPE = "MARS-REGIONAL-MAPPING-Vo-Te"
INSTRUMENT_HOST_ID = MEX
INSTRUMENT_HOST_NAME = "MARS EXPRESS"
INSTRUMENT_ID = HRSC
INSTRUMENT_NAME = "HIGH RESOLUTION STEREO CAMERA"
MISSION_NAME = "MARS EXPRESS"
MISSION_PHASE_NAME = ME_Phase_18
PROCESSING_LEVEL_ID = 4
PRODUCT_CREATION_TIME = 2023-02-01T22:33:16.000Z
PRODUCT_ID = "H7373_0000_IR4.TIF"
RELEASE_ID = 0002
REVISION_ID = 0000
/* QUALITY DATA ELEMENTS */
DATA_QUALITY_ID = 1
DATA_QUALITY_DESC = "Data calculated based on original SPICE kernels"
/* TIME DATA ELEMENTS */
SPACECRAFT_CLOCK_START_COUNT = "1/0202533515.08399"
SPACECRAFT_CLOCK_STOP_COUNT = "1/0202533774.32320"
START_TIME = 2009-10-02T03:18:43.047Z
STOP_TIME = 2009-10-02T03:21:43.833Z
/* ORBITAL DATA ELEMENTS */
ASCENDING_NODE_LONGITUDE = 76.75
MAXIMUM_RESOLUTION = 0.1162
FOOTPRINT_POINT_LATITUDE = (29.2928,29.2877,29.2794,29.2632, 29.2628,29.2575,28.8236,28.6064,28.3891 ,28.1719,27.9546,27.7373,27.5204, 27.3027,27.0851,26.8676,26.6502,26.3237 ,26.106,25.8886,25.671,25.4534,25.1269, 24.8002,24.5822,24.3643,24.1466,23.9288 ,23.6022,23.2757,22.9174,22.6575, 22.3977,22.138,21.7482,21.4884,21.2288, 20.9691,20.5797,20.3201,19.9308,19.6712 ,19.4118,19.1525,18.8929,18.6335, 18.3743,18.1154,17.8569,17.5979,17.4682 ,17.4641,17.4675,17.4707,17.4735, 17.4764,17.4773,17.4773,17.4794,17.7387 ,17.998,18.3892,18.649,19.037,19.2973, 19.6862,19.946,20.3359,20.726,21.1161, 21.5062,21.8966,22.1569,22.5472,22.8076 ,23.0677,23.2967,23.5148,23.7331, 24.0602,24.3875,24.6058,24.8236,25.0417 ,25.3686,25.6958,26.022,26.2407,26.5676 ,26.7856,27.004,27.2218,27.4402,27.768, 28.0946,28.4208,28.9631,29.1832,29.2904 ,29.2928)
FOOTPRINT_POINT_LONGITUDE = (248.188,247.866,247.45,246.823,246.81, 246.802,246.809,246.812,246.816,246.819 ,246.822,246.825,246.828,246.83,246.833 ,246.835,246.837,246.841,246.842, 246.844,246.846,246.848,246.85,246.852, 246.853,246.854,246.855,246.856,246.857 ,246.858,246.859,246.859,246.859, 246.859,246.859,246.859,246.858,246.857 ,246.856,246.855,246.854,246.852, 246.851,246.849,246.847,246.845,246.843 ,246.841,246.839,246.837,246.835, 246.835,247.064,247.321,247.577,248.008 ,248.249,248.262,248.271,248.269, 248.268,248.265,248.264,248.262,248.26, 248.258,248.257,248.254,248.252,248.25, 248.247,248.245,248.243,248.241,248.239 ,248.237,248.236,248.234,248.233,248.23 ,248.228,248.226,248.225,248.223, 248.221,248.218,248.216,248.214,248.212 ,248.21,248.208,248.206,248.204,248.201 ,248.198,248.196,248.191,248.189, 248.188,248.188)
ORBIT_NUMBER = 7373
ORBITAL_ECCENTRICITY = 0.573
ORBITAL_INCLINATION = 86.81
ORBITAL_SEMIMAJOR_AXIS = 8751.8
PERIAPSIS_ALTITUDE = 350.76
PERIAPSIS_ARGUMENT_ANGLE = 144.9
PERIAPSIS_TIME = 2009-10-02T03:17:39.000Z
SPACECRAFT_ORIENTATION = (0.0,-1.0,0.0)
^MEX_ORIENTATION_DESC = "MEX_ORIENTATION_DESC.TXT"
SPACECRAFT_POINTING_MODE = ACROSSTRACK
^MEX_POINTING_DESC = "MEX_POINTING_DESC.TXT"
RIGHT_ASCENSION = -1e+32
DECLINATION = -1e+32
OFFSET_ANGLE = -0.229
SPACECRAFT_SOLAR_DISTANCE = 2.28362e+08
TARGET_NAME = MARS
/* CAMERA DATA ELEMENTS */
DETECTOR_TEMPERATURE = 17.351
FOCAL_PLANE_TEMPERATURE = 8.1755
INST_CMPRS_NAME = "DISCRETE COSINE TRANSFORMATION (DCT)"
INST_CMPRS_RATIO = 10.4274
INST_CMPRS_QUALITY = 0
INST_CMPRS_QUANTZ_TBL_ID = 0
INSTRUMENT_TEMPERATURE = 11.234
LENS_TEMPERATURE = 8.5833
MACROPIXEL_SIZE = 8
MISSING_FRAMES = 0
PIXEL_SUBSAMPLING_FLAG = N
SIGNAL_CHAIN_ID = 2
/* RADIOMETRIC DATA ELEMENTS */
BANDWIDTH = 81.0
CENTER_FILTER_WAVELENGTH = 955.5
RADIANCE_OFFSET = 1.22026
RADIANCE_SCALING_FACTOR = 0.0072666
REFLECTANCE_SCALING_FACTOR = 0.00081754
MEX:REFLECTANCE_OFFSET = 0.137287
/* IMAGE OBJECT DEFINITIONS */
OBJECT = IMAGE
  INTERCHANGE_FORMAT = BINARY
  LINES = 6999
  LINE_SAMPLES = 846
  SAMPLE_TYPE = UNSIGNED_INTEGER
  SAMPLE_BITS = 8
  BANDS = 1
  BAND_STORAGE_TYPE = BAND_SEQUENTIAL
  MAXIMUM = 255
  MEAN = 156.457
  MINIMUM = 1
  STANDARD_DEVIATION = 22.4978
END_OBJECT = IMAGE
/* MAP OBJECT DEFINITIONS */
OBJECT = IMAGE_MAP_PROJECTION
  ^DATA_SET_MAP_PROJECTION_CATALOG= "DSMAP.CAT"
  A_AXIS_RADIUS = 3396.0
  B_AXIS_RADIUS = 3396.0
  C_AXIS_RADIUS = 3396.0
  CENTER_LATITUDE = 0.0
  CENTER_LONGITUDE = 248.0
  COORDINATE_SYSTEM_NAME = PLANETOGRAPHIC
  COORDINATE_SYSTEM_TYPE = "BODY-FIXED ROTATING"
  EASTERNMOST_LONGITUDE = 248.271
  FIRST_STANDARD_PARALLEL = "N/A"
  LINE_FIRST_PIXEL = 1
  LINE_LAST_PIXEL = 6999
  LINE_PROJECTION_OFFSET = 17340.3125
  MAP_PROJECTION_ROTATION = 0.0
  MAP_PROJECTION_TYPE = SINUSOIDAL
  MAP_RESOLUTION = 592.713803866667
  MAP_SCALE = 0.1
  MAXIMUM_LATITUDE = 29.2928
  MINIMUM_LATITUDE = 17.4641
  POSITIVE_LONGITUDE_DIRECTION = EAST
  REFERENCE_LATITUDE = "N/A"
  REFERENCE_LONGITUDE = "N/A"
  SAMPLE_FIRST_PIXEL = 1
  SAMPLE_LAST_PIXEL = 846
  SAMPLE_PROJECTION_OFFSET = 679.5625
  SECOND_STANDARD_PARALLEL = "N/A"
  WESTERNMOST_LONGITUDE = 246.802
END_OBJECT = IMAGE_MAP_PROJECTION
END
