PDS_VERSION_ID = PDS3
/* FILE DATA ELEMENTS */
RECORD_TYPE = UNDEFINED
/* POINTERS TO DATA OBJECTS */
^IMAGE = ("H7370_0000_BL4.TIF")
/* IDENTIFICATION DATA ELEMENTS */
DATA_SET_ID = "MEX-M-HRSC-4-REFDR-MAPPROJECT-EXT3-V4.0"
DATA_SET_NAME = "MARS EXPRESS HRSC MAP PROJECTED REFDR EXTENSION3 V4.0"
DETECTOR_ID = MEX_HRSC_BLUE
EVENT_TYPE = "MARS-REGIONAL-MAPPING-Vo-Te-Pf"
INSTRUMENT_HOST_ID = MEX
INSTRUMENT_HOST_NAME = "MARS EXPRESS"
INSTRUMENT_ID = HRSC
INSTRUMENT_NAME = "HIGH RESOLUTION STEREO CAMERA"
MISSION_NAME = "MARS EXPRESS"
MISSION_PHASE_NAME = ME_Phase_18
PROCESSING_LEVEL_ID = 4
PRODUCT_CREATION_TIME = 2023-02-01T22:33:16.000Z
PRODUCT_ID = "H7370_0000_BL4.TIF"
RELEASE_ID = 0002
REVISION_ID = 0000
/* QUALITY DATA ELEMENTS */
DATA_QUALITY_ID = 1
DATA_QUALITY_DESC = "Data calculated based on original SPICE kernels"
/* TIME DATA ELEMENTS */
SPACECRAFT_CLOCK_START_COUNT = "1/0202458776.08272"
SPACECRAFT_CLOCK_STOP_COUNT = "1/0202459024.14297"
START_TIME = 2009-10-01T06:33:40.851Z
STOP_TIME = 2009-10-01T06:36:38.172Z
/* ORBITAL DATA ELEMENTS */
ASCENDING_NODE_LONGITUDE = 76.81
MAXIMUM_RESOLUTION = 0.1138
FOOTPRINT_POINT_LATITUDE = (45.9523,45.9405,45.9231,45.9088, 45.9082,45.9213,45.6622,45.4029,45.1434 ,44.8838,44.6241,44.3642,44.1042, 43.8442,43.5839,43.3238,42.8872,42.4504 ,42.0134,41.576,41.1385,40.7006,40.4817 ,40.2627,40.0436,39.7149,39.4957, 39.1668,38.9474,38.7279,38.3993,38.18, 37.9608,37.7414,37.522,37.3026,37.0831, 36.754,36.5345,36.3151,35.9859,35.7665, 35.547,35.2179,34.8888,34.6694,34.5597, 34.4671,34.4721,34.4785,34.4825,34.4854 ,34.4855,34.4872,34.707,34.9268,35.1466 ,35.3664,35.6962,35.916,36.1359,36.4657 ,36.7955,37.0153,37.2352,37.4549, 37.6749,37.8948,38.1146,38.3344,38.6641 ,38.8839,39.1036,39.3233,39.5428, 39.7622,39.9823,40.202,40.4215,40.641, 40.8605,41.1895,41.4089,41.6282,41.8475 ,42.0666,42.2858,42.7239,43.2712, 43.6452,43.9061,44.167,44.4278,44.6884, 44.949,45.2094,45.4697,45.7299,45.8599, 45.9523)
FOOTPRINT_POINT_LONGITUDE = (190.751,190.13,189.424,188.942,188.924 ,188.877,188.898,188.918,188.938, 188.958,188.977,188.995,189.014,189.032 ,189.049,189.066,189.094,189.121, 189.147,189.172,189.197,189.22,189.231, 189.242,189.253,189.27,189.28,189.295, 189.306,189.316,189.329,189.338,189.347 ,189.356,189.364,189.373,189.381, 189.393,189.401,189.409,189.42,189.427, 189.434,189.445,189.455,189.461,189.464 ,189.467,189.759,190.22,190.584,190.933 ,190.947,190.957,190.955,190.953,190.95 ,190.948,190.945,190.942,190.94,190.936 ,190.933,190.93,190.928,190.925,190.923 ,190.92,190.917,190.915,190.91,190.908, 190.905,190.902,190.898,190.895,190.893 ,190.89,190.887,190.883,190.88,190.875, 190.872,190.868,190.865,190.861,190.858 ,190.85,190.841,190.834,190.83,190.825, 190.82,190.815,190.81,190.804,190.799, 190.794,190.791,190.751)
ORBIT_NUMBER = 7370
ORBITAL_ECCENTRICITY = 0.572
ORBITAL_INCLINATION = 86.82
ORBITAL_SEMIMAJOR_AXIS = 8738.66
PERIAPSIS_ALTITUDE = 351.03
PERIAPSIS_ARGUMENT_ANGLE = 145.44
PERIAPSIS_TIME = 2009-10-01T06:36:32.000Z
SPACECRAFT_ORIENTATION = (0.0,-1.0,0.0)
^MEX_ORIENTATION_DESC = "MEX_ORIENTATION_DESC.TXT"
SPACECRAFT_POINTING_MODE = NADIR
^MEX_POINTING_DESC = "MEX_POINTING_DESC.TXT"
RIGHT_ASCENSION = -1e+32
DECLINATION = -1e+32
OFFSET_ANGLE = -1e+32
SPACECRAFT_SOLAR_DISTANCE = 2.28195e+08
TARGET_NAME = MARS
/* CAMERA DATA ELEMENTS */
DETECTOR_TEMPERATURE = 18.7783
FOCAL_PLANE_TEMPERATURE = 8.5833
INST_CMPRS_NAME = "DISCRETE COSINE TRANSFORMATION (DCT)"
INST_CMPRS_RATIO = 33.766
INST_CMPRS_QUALITY = 0
INST_CMPRS_QUANTZ_TBL_ID = 0
INSTRUMENT_TEMPERATURE = 11.234
LENS_TEMPERATURE = 8.9911
MACROPIXEL_SIZE = 8
MISSING_FRAMES = 0
PIXEL_SUBSAMPLING_FLAG = N
SIGNAL_CHAIN_ID = 2
/* RADIOMETRIC DATA ELEMENTS */
BANDWIDTH = 76.0
CENTER_FILTER_WAVELENGTH = 444.0
RADIANCE_OFFSET = 0.551098
RADIANCE_SCALING_FACTOR = 0.00106492
REFLECTANCE_SCALING_FACTOR = 5.69749e-05
MEX:REFLECTANCE_OFFSET = 0.0294845
/* IMAGE OBJECT DEFINITIONS */
OBJECT = IMAGE
  INTERCHANGE_FORMAT = BINARY
  LINES = 6825
  LINE_SAMPLES = 943
  SAMPLE_TYPE = UNSIGNED_INTEGER
  SAMPLE_BITS = 8
  BANDS = 1
  BAND_STORAGE_TYPE = BAND_SEQUENTIAL
  MAXIMUM = 255
  MEAN = 138.629
  MINIMUM = 1
  STANDARD_DEVIATION = 46.095
END_OBJECT = IMAGE
/* MAP OBJECT DEFINITIONS */
OBJECT = IMAGE_MAP_PROJECTION
  ^DATA_SET_MAP_PROJECTION_CATALOG= "DSMAP.CAT"
  A_AXIS_RADIUS = 3396.0
  B_AXIS_RADIUS = 3396.0
  C_AXIS_RADIUS = 3396.0
  CENTER_LATITUDE = 0.0
  CENTER_LONGITUDE = 190.0
  COORDINATE_SYSTEM_NAME = PLANETOGRAPHIC
  COORDINATE_SYSTEM_TYPE = "BODY-FIXED ROTATING"
  EASTERNMOST_LONGITUDE = 190.957
  FIRST_STANDARD_PARALLEL = "N/A"
  LINE_FIRST_PIXEL = 1
  LINE_LAST_PIXEL = 6825
  LINE_PROJECTION_OFFSET = 27249.3125
  MAP_PROJECTION_ROTATION = 0.0
  MAP_PROJECTION_TYPE = SINUSOIDAL
  MAP_RESOLUTION = 592.713803866667
  MAP_SCALE = 0.1
  MAXIMUM_LATITUDE = 45.9523
  MINIMUM_LATITUDE = 34.4671
  POSITIVE_LONGITUDE_DIRECTION = EAST
  REFERENCE_LATITUDE = "N/A"
  REFERENCE_LONGITUDE = "N/A"
  SAMPLE_FIRST_PIXEL = 1
  SAMPLE_LAST_PIXEL = 943
  SAMPLE_PROJECTION_OFFSET = 474.6875
  SECOND_STANDARD_PARALLEL = "N/A"
  WESTERNMOST_LONGITUDE = 188.877
END_OBJECT = IMAGE_MAP_PROJECTION
END
