PDS_VERSION_ID = PDS3
/* FILE DATA ELEMENTS */
RECORD_TYPE = UNDEFINED
/* POINTERS TO DATA OBJECTS */
^IMAGE = ("H7369_0000_S14.TIF")
/* IDENTIFICATION DATA ELEMENTS */
DATA_SET_ID = "MEX-M-HRSC-4-REFDR-MAPPROJECT-EXT3-V4.0"
DATA_SET_NAME = "MARS EXPRESS HRSC MAP PROJECTED REFDR EXTENSION3 V4.0"
DETECTOR_ID = MEX_HRSC_S1
EVENT_TYPE = "MARS-REGIONAL-MAPPING-Vo-Te"
INSTRUMENT_HOST_ID = MEX
INSTRUMENT_HOST_NAME = "MARS EXPRESS"
INSTRUMENT_ID = HRSC
INSTRUMENT_NAME = "HIGH RESOLUTION STEREO CAMERA"
MISSION_NAME = "MARS EXPRESS"
MISSION_PHASE_NAME = ME_Phase_18
PROCESSING_LEVEL_ID = 4
PRODUCT_CREATION_TIME = 2023-02-01T22:33:16.000Z
PRODUCT_ID = "H7369_0000_S14.TIF"
RELEASE_ID = 0002
REVISION_ID = 0000
/* QUALITY DATA ELEMENTS */
DATA_QUALITY_ID = 1
DATA_QUALITY_DESC = "Data calculated based on original SPICE kernels"
/* TIME DATA ELEMENTS */
SPACECRAFT_CLOCK_START_COUNT = "1/0202434353.07282"
SPACECRAFT_CLOCK_STOP_COUNT = "1/0202434732.27099"
START_TIME = 2009-09-30T23:45:55.584Z
STOP_TIME = 2009-09-30T23:50:20.239Z
/* ORBITAL DATA ELEMENTS */
ASCENDING_NODE_LONGITUDE = 76.83
MAXIMUM_RESOLUTION = 0.032
FOOTPRINT_POINT_LATITUDE = (20.3773,20.3701,20.3585,20.3582, 20.3438,20.025,19.7064,19.3878,18.9096, 18.5908,18.2725,17.954,17.6352,17.1575, 16.839,16.2025,15.7258,15.249,14.7683, 14.2857,13.9599,13.6343,13.309,12.9802, 12.6465,12.3131,11.813,11.4716,11.1305, 10.619,10.27,9.92114,9.57254,9.21885, 8.8616,8.50532,8.144,7.77977,7.41601, 6.85992,6.48852,5.9218,5.54301,5.15787, 4.77214,4.18595,3.79343,3.39664,3.19804 ,3.18892,3.18779,3.18451,3.18134, 3.18119,3.18157,3.78092,4.17323,4.5672, 4.95379,5.53292,5.91214,6.29162,6.66532 ,7.03744,7.40876,7.77295,8.13763, 8.49999,8.8568,9.2139,9.56935,9.91884, 10.268,10.6175,10.9592,11.4716,11.9801, 12.3137,12.6476,13.1481,13.6369,13.9627 ,14.4521,14.9353,15.4125,16.0492, 16.3679,16.6865,17.0061,17.3253,17.8023 ,18.1207,18.4401,18.7594,19.0786, 19.5576,19.8771,20.1962,20.3558, 20.3773)
FOOTPRINT_POINT_LONGITUDE = (291.627,290.912,290.245,290.232, 290.221,290.22,290.219,290.218,290.215, 290.213,290.211,290.208,290.206,290.201 ,290.198,290.191,290.186,290.18,290.173 ,290.166,290.162,290.157,290.151, 290.146,290.14,290.134,290.125,290.119, 290.112,290.102,290.094,290.087,290.079 ,290.071,290.063,290.054,290.045, 290.036,290.027,290.012,290.002,289.986 ,289.975,289.963,289.952,289.933, 289.921,289.909,289.903,289.903,290.76, 291.319,291.684,291.701,291.708,291.705 ,291.703,291.701,291.699,291.696, 291.694,291.692,291.69,291.689,291.687, 291.685,291.684,291.682,291.68,291.679, 291.677,291.676,291.674,291.673,291.671 ,291.669,291.667,291.666,291.664, 291.662,291.66,291.659,291.657,291.655, 291.653,291.65,291.649,291.647,291.646, 291.644,291.642,291.641,291.639,291.638 ,291.636,291.634,291.632,291.631,291.63 ,291.627)
ORBIT_NUMBER = 7369
ORBITAL_ECCENTRICITY = 0.572
ORBITAL_INCLINATION = 86.81
ORBITAL_SEMIMAJOR_AXIS = 8745.87
PERIAPSIS_ALTITUDE = 350.74
PERIAPSIS_ARGUMENT_ANGLE = 145.63
PERIAPSIS_TIME = 2009-09-30T23:42:53.000Z
SPACECRAFT_ORIENTATION = (0.0,-1.0,0.0)
^MEX_ORIENTATION_DESC = "MEX_ORIENTATION_DESC.TXT"
SPACECRAFT_POINTING_MODE = ACROSSTRACK
^MEX_POINTING_DESC = "MEX_POINTING_DESC.TXT"
RIGHT_ASCENSION = -1e+32
DECLINATION = -1e+32
OFFSET_ANGLE = -0.2
SPACECRAFT_SOLAR_DISTANCE = 2.28139e+08
TARGET_NAME = MARS
/* CAMERA DATA ELEMENTS */
DETECTOR_TEMPERATURE = 17.7588
FOCAL_PLANE_TEMPERATURE = 8.7872
INST_CMPRS_NAME = "DISCRETE COSINE TRANSFORMATION (DCT)"
INST_CMPRS_RATIO = 13.6518
INST_CMPRS_QUALITY = 0
INST_CMPRS_QUANTZ_TBL_ID = 0
INSTRUMENT_TEMPERATURE = 11.234
LENS_TEMPERATURE = 9.195
MACROPIXEL_SIZE = 2
MISSING_FRAMES = 1
PIXEL_SUBSAMPLING_FLAG = N
SIGNAL_CHAIN_ID = 1
/* RADIOMETRIC DATA ELEMENTS */
BANDWIDTH = 180.0
CENTER_FILTER_WAVELENGTH = 677.0
RADIANCE_OFFSET = 5.26205
RADIANCE_SCALING_FACTOR = 0.0222027
REFLECTANCE_SCALING_FACTOR = 0.000602903
MEX:REFLECTANCE_OFFSET = 0.142888
/* IMAGE OBJECT DEFINITIONS */
OBJECT = IMAGE
  INTERCHANGE_FORMAT = BINARY
  LINES = 40719
  LINE_SAMPLES = 4568
  SAMPLE_TYPE = UNSIGNED_INTEGER
  SAMPLE_BITS = 8
  BANDS = 1
  BAND_STORAGE_TYPE = BAND_SEQUENTIAL
  MAXIMUM = 255
  MEAN = 108.899
  MINIMUM = 1
  STANDARD_DEVIATION = 25.5499
END_OBJECT = IMAGE
/* MAP OBJECT DEFINITIONS */
OBJECT = IMAGE_MAP_PROJECTION
  ^DATA_SET_MAP_PROJECTION_CATALOG= "DSMAP.CAT"
  A_AXIS_RADIUS = 3396.0
  B_AXIS_RADIUS = 3396.0
  C_AXIS_RADIUS = 3396.0
  CENTER_LATITUDE = 0.0
  CENTER_LONGITUDE = 291.0
  COORDINATE_SYSTEM_NAME = PLANETOGRAPHIC
  COORDINATE_SYSTEM_TYPE = "BODY-FIXED ROTATING"
  EASTERNMOST_LONGITUDE = 291.708
  FIRST_STANDARD_PARALLEL = "N/A"
  LINE_FIRST_PIXEL = 1
  LINE_LAST_PIXEL = 40719
  LINE_PROJECTION_OFFSET = 48242.75
  MAP_PROJECTION_ROTATION = 0.0
  MAP_PROJECTION_TYPE = SINUSOIDAL
  MAP_RESOLUTION = 2370.85521546667
  MAP_SCALE = 0.025
  MAXIMUM_LATITUDE = 20.3773
  MINIMUM_LATITUDE = 3.18119
  POSITIVE_LONGITUDE_DIRECTION = EAST
  REFERENCE_LATITUDE = "N/A"
  REFERENCE_LONGITUDE = "N/A"
  SAMPLE_FIRST_PIXEL = 1
  SAMPLE_LAST_PIXEL = 4568
  SAMPLE_PROJECTION_OFFSET = 2749.25
  SECOND_STANDARD_PARALLEL = "N/A"
  WESTERNMOST_LONGITUDE = 289.903
END_OBJECT = IMAGE_MAP_PROJECTION
END
