PDS_VERSION_ID = PDS3
/* FILE DATA ELEMENTS */
RECORD_TYPE = UNDEFINED
/* POINTERS TO DATA OBJECTS */
^IMAGE = ("H7365_0000_P14.TIF")
/* IDENTIFICATION DATA ELEMENTS */
DATA_SET_ID = "MEX-M-HRSC-4-REFDR-MAPPROJECT-EXT3-V4.0"
DATA_SET_NAME = "MARS EXPRESS HRSC MAP PROJECTED REFDR EXTENSION3 V4.0"
DETECTOR_ID = MEX_HRSC_P1
EVENT_TYPE = "MARS-REGIONAL-MAPPING-Im-Lc-Pf"
INSTRUMENT_HOST_ID = MEX
INSTRUMENT_HOST_NAME = "MARS EXPRESS"
INSTRUMENT_ID = HRSC
INSTRUMENT_NAME = "HIGH RESOLUTION STEREO CAMERA"
MISSION_NAME = "MARS EXPRESS"
MISSION_PHASE_NAME = ME_Phase_18
PROCESSING_LEVEL_ID = 4
PRODUCT_CREATION_TIME = 2023-02-01T22:33:16.000Z
PRODUCT_ID = "H7365_0000_P14.TIF"
RELEASE_ID = 0002
REVISION_ID = 0000
/* QUALITY DATA ELEMENTS */
DATA_QUALITY_ID = 1
DATA_QUALITY_DESC = "Data calculated based on original SPICE kernels"
/* TIME DATA ELEMENTS */
SPACECRAFT_CLOCK_START_COUNT = "1/0202334740.08255"
SPACECRAFT_CLOCK_STOP_COUNT = "1/0202335008.40035"
START_TIME = 2009-09-29T20:05:54.134Z
STOP_TIME = 2009-09-29T20:09:14.860Z
/* ORBITAL DATA ELEMENTS */
ASCENDING_NODE_LONGITUDE = 76.91
MAXIMUM_RESOLUTION = 0.0582
FOOTPRINT_POINT_LATITUDE = (40.1134,40.1091,40.1024,40.0934, 40.0815,40.0811,40.0283,39.5212,39.1407 ,38.6321,38.1226,37.8676,37.6124, 37.3571,37.1017,36.8459,36.5901,36.2059 ,35.9497,35.5649,35.308,34.9224,34.6653 ,34.4079,34.1505,33.8929,33.6352, 33.2483,32.9903,32.7321,32.4738,32.2155 ,31.957,31.5689,31.3101,31.0512,30.7923 ,30.5332,30.1444,29.8852,29.6259, 29.3664,29.1069,28.8472,28.4577,28.1979 ,27.9381,27.6783,27.2884,27.1585, 27.0949,27.1003,27.1031,27.1041,27.1041 ,27.1049,27.3653,27.7558,28.0161, 28.2762,28.5362,28.7961,29.056,29.3159, 29.5758,29.8357,30.0954,30.4849,30.8742 ,31.1335,31.3928,31.6521,31.9111, 32.1701,32.4289,32.6875,33.0756,33.3339 ,33.5926,33.8506,34.2376,34.4955,34.882 ,35.1396,35.397,35.7828,36.1685,36.4253 ,36.6818,37.0664,37.3224,37.7065,37.962 ,38.3451,38.6003,38.8554,39.3649, 39.8733,40.0002,40.1134)
FOOTPRINT_POINT_LONGITUDE = (335.111,334.778,334.383,333.959, 333.503,333.488,333.456,333.482,333.501 ,333.525,333.548,333.559,333.57,333.58, 333.591,333.601,333.611,333.625,333.635 ,333.648,333.657,333.67,333.678,333.686 ,333.694,333.701,333.708,333.719, 333.726,333.732,333.739,333.745,333.751 ,333.76,333.765,333.771,333.776,333.781 ,333.788,333.792,333.797,333.801, 333.805,333.808,333.814,333.817,333.82, 333.823,333.827,333.828,333.829,334.287 ,334.732,335.217,335.231,335.235, 335.234,335.232,335.231,335.229,335.228 ,335.227,335.226,335.225,335.223, 335.222,335.22,335.218,335.216,335.215, 335.213,335.212,335.21,335.209,335.207, 335.206,335.203,335.201,335.199,335.198 ,335.195,335.193,335.191,335.189, 335.187,335.184,335.181,335.178,335.176 ,335.173,335.171,335.167,335.165, 335.161,335.159,335.156,335.151,335.146 ,335.145,335.111)
ORBIT_NUMBER = 7365
ORBITAL_ECCENTRICITY = 0.572
ORBITAL_INCLINATION = 86.82
ORBITAL_SEMIMAJOR_AXIS = 8740.99
PERIAPSIS_ALTITUDE = 350.47
PERIAPSIS_ARGUMENT_ANGLE = 146.31
PERIAPSIS_TIME = 2009-09-29T20:07:55.000Z
SPACECRAFT_ORIENTATION = (0.0,-1.0,0.0)
^MEX_ORIENTATION_DESC = "MEX_ORIENTATION_DESC.TXT"
SPACECRAFT_POINTING_MODE = NADIR
^MEX_POINTING_DESC = "MEX_POINTING_DESC.TXT"
RIGHT_ASCENSION = -1e+32
DECLINATION = -1e+32
OFFSET_ANGLE = -1e+32
SPACECRAFT_SOLAR_DISTANCE = 2.27915e+08
TARGET_NAME = MARS
/* CAMERA DATA ELEMENTS */
DETECTOR_TEMPERATURE = 17.5549
FOCAL_PLANE_TEMPERATURE = 8.5833
INST_CMPRS_NAME = "DISCRETE COSINE TRANSFORMATION (DCT)"
INST_CMPRS_RATIO = 18.537
INST_CMPRS_QUALITY = 0
INST_CMPRS_QUANTZ_TBL_ID = 0
INSTRUMENT_TEMPERATURE = 11.234
LENS_TEMPERATURE = 8.9911
MACROPIXEL_SIZE = 4
MISSING_FRAMES = 0
PIXEL_SUBSAMPLING_FLAG = N
SIGNAL_CHAIN_ID = 3
/* RADIOMETRIC DATA ELEMENTS */
BANDWIDTH = 174.0
CENTER_FILTER_WAVELENGTH = 675.0
RADIANCE_OFFSET = 3.25292
RADIANCE_SCALING_FACTOR = 0.012918
REFLECTANCE_SCALING_FACTOR = 0.000360932
MEX:REFLECTANCE_OFFSET = 0.0908871
/* IMAGE OBJECT DEFINITIONS */
OBJECT = IMAGE
  INTERCHANGE_FORMAT = BINARY
  LINES = 15372
  LINE_SAMPLES = 1800
  SAMPLE_TYPE = UNSIGNED_INTEGER
  SAMPLE_BITS = 8
  BANDS = 1
  BAND_STORAGE_TYPE = BAND_SEQUENTIAL
  MAXIMUM = 255
  MEAN = 108.958
  MINIMUM = 1
  STANDARD_DEVIATION = 45.4321
END_OBJECT = IMAGE
/* MAP OBJECT DEFINITIONS */
OBJECT = IMAGE_MAP_PROJECTION
  ^DATA_SET_MAP_PROJECTION_CATALOG= "DSMAP.CAT"
  A_AXIS_RADIUS = 3396.0
  B_AXIS_RADIUS = 3396.0
  C_AXIS_RADIUS = 3396.0
  CENTER_LATITUDE = 0.0
  CENTER_LONGITUDE = 334.0
  COORDINATE_SYSTEM_NAME = PLANETOGRAPHIC
  COORDINATE_SYSTEM_TYPE = "BODY-FIXED ROTATING"
  EASTERNMOST_LONGITUDE = 335.235
  FIRST_STANDARD_PARALLEL = "N/A"
  LINE_FIRST_PIXEL = 1
  LINE_LAST_PIXEL = 15372
  LINE_PROJECTION_OFFSET = 47503.125
  MAP_PROJECTION_ROTATION = 0.0
  MAP_PROJECTION_TYPE = SINUSOIDAL
  MAP_RESOLUTION = 1185.42760773333
  MAP_SCALE = 0.05
  MAXIMUM_LATITUDE = 40.1134
  MINIMUM_LATITUDE = 27.0949
  POSITIVE_LONGITUDE_DIRECTION = EAST
  REFERENCE_LATITUDE = "N/A"
  REFERENCE_LONGITUDE = "N/A"
  SAMPLE_FIRST_PIXEL = 1
  SAMPLE_LAST_PIXEL = 1800
  SAMPLE_PROJECTION_OFFSET = 492.125
  SECOND_STANDARD_PARALLEL = "N/A"
  WESTERNMOST_LONGITUDE = 333.456
END_OBJECT = IMAGE_MAP_PROJECTION
END
