PDS_VERSION_ID = PDS3
/* FILE DATA ELEMENTS */
RECORD_TYPE = UNDEFINED
/* POINTERS TO DATA OBJECTS */
^IMAGE = ("H7363_0000_P24.TIF")
/* IDENTIFICATION DATA ELEMENTS */
DATA_SET_ID = "MEX-M-HRSC-4-REFDR-MAPPROJECT-EXT3-V4.0"
DATA_SET_NAME = "MARS EXPRESS HRSC MAP PROJECTED REFDR EXTENSION3 V4.0"
DETECTOR_ID = MEX_HRSC_P2
EVENT_TYPE = "MARS-REGIONAL-MAPPING-Vo-Te-Pf"
INSTRUMENT_HOST_ID = MEX
INSTRUMENT_HOST_NAME = "MARS EXPRESS"
INSTRUMENT_ID = HRSC
INSTRUMENT_NAME = "HIGH RESOLUTION STEREO CAMERA"
MISSION_NAME = "MARS EXPRESS"
MISSION_PHASE_NAME = ME_Phase_18
PROCESSING_LEVEL_ID = 4
PRODUCT_CREATION_TIME = 2023-02-01T22:33:16.000Z
PRODUCT_ID = "H7363_0000_P24.TIF"
RELEASE_ID = 0002
REVISION_ID = 0000
/* QUALITY DATA ELEMENTS */
DATA_QUALITY_ID = 1
DATA_QUALITY_DESC = "Data calculated based on original SPICE kernels"
/* TIME DATA ELEMENTS */
SPACECRAFT_CLOCK_START_COUNT = "1/0202285042.09064"
SPACECRAFT_CLOCK_STOP_COUNT = "1/0202285241.09106"
START_TIME = 2009-09-29T06:18:22.005Z
STOP_TIME = 2009-09-29T06:20:30.774Z
/* ORBITAL DATA ELEMENTS */
ASCENDING_NODE_LONGITUDE = 76.94
MAXIMUM_RESOLUTION = 0.0586
FOOTPRINT_POINT_LATITUDE = (43.1931,43.1867,43.1777,43.1719,43.166 ,43.1579,43.1575,43.2125,43.0454,42.878 ,42.7105,42.4599,42.2925,42.0417, 41.8744,41.6236,41.4562,41.2889,41.038, 40.8707,40.7032,40.5362,40.369,40.1181, 39.8673,39.6163,39.366,39.1985,38.9473, 38.7804,38.6132,38.446,38.1955,38.0285, 37.8612,37.6108,37.4438,37.2768,37.1098 ,36.9428,36.7759,36.5256,36.192,35.9419 ,35.6085,35.3585,34.9422,34.8589, 34.8298,34.8363,34.8405,34.8431,34.8485 ,34.8486,34.8495,35.1831,35.517,35.6839 ,35.8509,36.018,36.185,36.3522,36.6029, 36.8536,37.0209,37.1881,37.439,37.69, 37.8574,38.0248,38.1923,38.3597,38.6108 ,38.7784,38.9459,39.1134,39.2809, 39.4485,39.6998,39.8674,40.035,40.2025, 40.3702,40.5378,40.7892,40.9568,41.1246 ,41.2923,41.5439,41.7118,41.8795, 42.0472,42.2149,42.3826,42.6342,42.8019 ,42.9696,43.1373,43.2211,43.1931)
FOOTPRINT_POINT_LONGITUDE = (176.701,176.315,175.849,175.576, 175.319,174.998,174.982,174.94,174.951, 174.962,174.972,174.988,174.998,175.013 ,175.023,175.037,175.047,175.056,175.07 ,175.079,175.088,175.097,175.105, 175.118,175.131,175.143,175.155,175.162 ,175.174,175.182,175.189,175.196, 175.207,175.214,175.221,175.231,175.237 ,175.244,175.25,175.257,175.263,175.272 ,175.284,175.292,175.303,175.311, 175.324,175.327,175.328,175.779,176.09, 176.302,176.825,176.84,176.844,176.841, 176.838,176.836,176.834,176.832,176.831 ,176.829,176.826,176.823,176.821,176.82 ,176.817,176.814,176.812,176.81,176.808 ,176.806,176.803,176.8,176.798,176.796, 176.794,176.792,176.788,176.786,176.784 ,176.781,176.779,176.777,176.773,176.77 ,176.768,176.765,176.762,176.759, 176.757,176.754,176.751,176.749,176.744 ,176.742,176.739,176.736,176.735, 176.701)
ORBIT_NUMBER = 7363
ORBITAL_ECCENTRICITY = 0.572
ORBITAL_INCLINATION = 86.82
ORBITAL_SEMIMAJOR_AXIS = 8740.46
PERIAPSIS_ALTITUDE = 350.45
PERIAPSIS_ARGUMENT_ANGLE = 146.67
PERIAPSIS_TIME = 2009-09-29T06:20:33.000Z
SPACECRAFT_ORIENTATION = (0.0,-1.0,0.0)
^MEX_ORIENTATION_DESC = "MEX_ORIENTATION_DESC.TXT"
SPACECRAFT_POINTING_MODE = NADIR
^MEX_POINTING_DESC = "MEX_POINTING_DESC.TXT"
RIGHT_ASCENSION = -1e+32
DECLINATION = -1e+32
OFFSET_ANGLE = -1e+32
SPACECRAFT_SOLAR_DISTANCE = 2.27803e+08
TARGET_NAME = MARS
/* CAMERA DATA ELEMENTS */
DETECTOR_TEMPERATURE = 18.5744
FOCAL_PLANE_TEMPERATURE = 8.5833
INST_CMPRS_NAME = "DISCRETE COSINE TRANSFORMATION (DCT)"
INST_CMPRS_RATIO = 14.6725
INST_CMPRS_QUALITY = 0
INST_CMPRS_QUANTZ_TBL_ID = 0
INSTRUMENT_TEMPERATURE = 10.8262
LENS_TEMPERATURE = 9.195
MACROPIXEL_SIZE = 4
MISSING_FRAMES = 0
PIXEL_SUBSAMPLING_FLAG = N
SIGNAL_CHAIN_ID = 3
/* RADIOMETRIC DATA ELEMENTS */
BANDWIDTH = 177.0
CENTER_FILTER_WAVELENGTH = 676.5
RADIANCE_OFFSET = 4.12188
RADIANCE_SCALING_FACTOR = 0.00987815
REFLECTANCE_SCALING_FACTOR = 0.000271801
MEX:REFLECTANCE_OFFSET = 0.113415
/* IMAGE OBJECT DEFINITIONS */
OBJECT = IMAGE
  INTERCHANGE_FORMAT = BINARY
  LINES = 9982
  LINE_SAMPLES = 1750
  SAMPLE_TYPE = UNSIGNED_INTEGER
  SAMPLE_BITS = 8
  BANDS = 1
  BAND_STORAGE_TYPE = BAND_SEQUENTIAL
  MAXIMUM = 255
  MEAN = 124.976
  MINIMUM = 1
  STANDARD_DEVIATION = 25.535
END_OBJECT = IMAGE
/* MAP OBJECT DEFINITIONS */
OBJECT = IMAGE_MAP_PROJECTION
  ^DATA_SET_MAP_PROJECTION_CATALOG= "DSMAP.CAT"
  A_AXIS_RADIUS = 3396.0
  B_AXIS_RADIUS = 3396.0
  C_AXIS_RADIUS = 3396.0
  CENTER_LATITUDE = 0.0
  CENTER_LONGITUDE = 176.0
  COORDINATE_SYSTEM_NAME = PLANETOGRAPHIC
  COORDINATE_SYSTEM_TYPE = "BODY-FIXED ROTATING"
  EASTERNMOST_LONGITUDE = 176.844
  FIRST_STANDARD_PARALLEL = "N/A"
  LINE_FIRST_PIXEL = 1
  LINE_LAST_PIXEL = 9982
  LINE_PROJECTION_OFFSET = 51256.125
  MAP_PROJECTION_ROTATION = 0.0
  MAP_PROJECTION_TYPE = SINUSOIDAL
  MAP_RESOLUTION = 1185.42760773333
  MAP_SCALE = 0.05
  MAXIMUM_LATITUDE = 43.2211
  MINIMUM_LATITUDE = 34.8298
  POSITIVE_LONGITUDE_DIRECTION = EAST
  REFERENCE_LATITUDE = "N/A"
  REFERENCE_LONGITUDE = "N/A"
  SAMPLE_FIRST_PIXEL = 1
  SAMPLE_LAST_PIXEL = 1750
  SAMPLE_PROJECTION_OFFSET = 929.125
  SECOND_STANDARD_PARALLEL = "N/A"
  WESTERNMOST_LONGITUDE = 174.94
END_OBJECT = IMAGE_MAP_PROJECTION
END
