PDS_VERSION_ID = PDS3
/* FILE DATA ELEMENTS */
RECORD_TYPE = UNDEFINED
/* POINTERS TO DATA OBJECTS */
^IMAGE = ("H7360_0000_P24.TIF")
/* IDENTIFICATION DATA ELEMENTS */
DATA_SET_ID = "MEX-M-HRSC-4-REFDR-MAPPROJECT-EXT3-V4.0"
DATA_SET_NAME = "MARS EXPRESS HRSC MAP PROJECTED REFDR EXTENSION3 V4.0"
DETECTOR_ID = MEX_HRSC_P2
EVENT_TYPE = "MARS-REGIONAL-MAPPING-Im-Lc-Pf"
INSTRUMENT_HOST_ID = MEX
INSTRUMENT_HOST_NAME = "MARS EXPRESS"
INSTRUMENT_ID = HRSC
INSTRUMENT_NAME = "HIGH RESOLUTION STEREO CAMERA"
MISSION_NAME = "MARS EXPRESS"
MISSION_PHASE_NAME = ME_Phase_18
PROCESSING_LEVEL_ID = 4
PRODUCT_CREATION_TIME = 2023-02-01T22:33:16.000Z
PRODUCT_ID = "H7360_0000_P24.TIF"
RELEASE_ID = 0002
REVISION_ID = 0000
/* QUALITY DATA ELEMENTS */
DATA_QUALITY_ID = 1
DATA_QUALITY_DESC = "Data calculated based on original SPICE kernels"
/* TIME DATA ELEMENTS */
SPACECRAFT_CLOCK_START_COUNT = "1/0202210784.08249"
SPACECRAFT_CLOCK_STOP_COUNT = "1/0202211068.57512"
START_TIME = 2009-09-28T09:40:39.410Z
STOP_TIME = 2009-09-28T09:44:15.031Z
/* ORBITAL DATA ELEMENTS */
ASCENDING_NODE_LONGITUDE = 77.01
MAXIMUM_RESOLUTION = 0.059
FOOTPRINT_POINT_LATITUDE = (29.0383,29.0348,29.0289,29.0185, 29.0183,29.0541,28.8061,28.4343,28.1867 ,27.9393,27.6922,27.4454,27.1985, 26.9519,26.4594,25.9678,25.3542,24.8644 ,24.3754,23.8875,23.6152,23.1794, 22.7452,22.4556,22.1667,21.8779,21.5897 ,21.3019,21.0143,20.7272,20.4405, 20.1543,19.8685,19.5832,19.2983,19.0137 ,18.7295,18.4458,18.1622,17.8793, 17.5969,17.1739,16.8926,16.6118,16.3315 ,16.0515,15.7716,15.6321,15.5652, 15.5669,15.5679,15.5688,15.5704,15.5704 ,15.5714,15.8503,16.1304,16.4107, 16.6915,16.9726,17.2545,17.5368,17.8194 ,18.1028,18.5284,18.8126,19.0971, 19.3821,19.6674,19.9531,20.2393,20.6697 ,20.957,21.2448,21.5328,21.8214,22.1103 ,22.3996,22.8347,23.1246,23.4149,23.844 ,24.2103,24.6994,25.1896,25.6805, 26.0494,26.2954,26.5418,26.7883,27.035, 27.282,27.5291,27.7765,28.024,28.3956, 28.6434,28.8916,29.0158,29.0383)
FOOTPRINT_POINT_LONGITUDE = (119.704,119.414,118.983,118.321, 118.308,118.294,118.296,118.3,118.302, 118.304,118.306,118.307,118.309,118.31, 118.313,118.314,118.316,118.317,118.317 ,118.316,118.316,118.315,118.314, 118.313,118.311,118.31,118.308,118.307, 118.305,118.303,118.3,118.298,118.296, 118.293,118.29,118.287,118.284,118.281, 118.277,118.274,118.27,118.264,118.26, 118.256,118.252,118.248,118.243,118.241 ,118.24,118.595,119.039,119.413,119.76, 119.775,119.78,119.778,119.777,119.776, 119.775,119.773,119.772,119.771,119.77, 119.769,119.767,119.766,119.765,119.764 ,119.763,119.762,119.76,119.759,119.758 ,119.757,119.756,119.755,119.754, 119.753,119.752,119.751,119.75,119.748, 119.747,119.746,119.744,119.742,119.741 ,119.74,119.74,119.739,119.738,119.737, 119.736,119.735,119.734,119.733,119.732 ,119.731,119.731,119.704)
ORBIT_NUMBER = 7360
ORBITAL_ECCENTRICITY = 0.573
ORBITAL_INCLINATION = 86.8
ORBITAL_SEMIMAJOR_AXIS = 8751.18
PERIAPSIS_ALTITUDE = 349.5
PERIAPSIS_ARGUMENT_ANGLE = 147.19
PERIAPSIS_TIME = 2009-09-28T09:39:21.000Z
SPACECRAFT_ORIENTATION = (0.0,-1.0,0.0)
^MEX_ORIENTATION_DESC = "MEX_ORIENTATION_DESC.TXT"
SPACECRAFT_POINTING_MODE = ACROSSTRACK
^MEX_POINTING_DESC = "MEX_POINTING_DESC.TXT"
RIGHT_ASCENSION = -1e+32
DECLINATION = -1e+32
OFFSET_ANGLE = 0.25
SPACECRAFT_SOLAR_DISTANCE = 2.27635e+08
TARGET_NAME = MARS
/* CAMERA DATA ELEMENTS */
DETECTOR_TEMPERATURE = 18.3705
FOCAL_PLANE_TEMPERATURE = 7.9716
INST_CMPRS_NAME = "DISCRETE COSINE TRANSFORMATION (DCT)"
INST_CMPRS_RATIO = 12.5309
INST_CMPRS_QUALITY = 0
INST_CMPRS_QUANTZ_TBL_ID = 0
INSTRUMENT_TEMPERATURE = 11.0301
LENS_TEMPERATURE = 8.3794
MACROPIXEL_SIZE = 4
MISSING_FRAMES = 0
PIXEL_SUBSAMPLING_FLAG = N
SIGNAL_CHAIN_ID = 3
/* RADIOMETRIC DATA ELEMENTS */
BANDWIDTH = 177.0
CENTER_FILTER_WAVELENGTH = 676.5
RADIANCE_OFFSET = 5.56404
RADIANCE_SCALING_FACTOR = 0.0109099
REFLECTANCE_SCALING_FACTOR = 0.000299749
MEX:REFLECTANCE_OFFSET = 0.152872
/* IMAGE OBJECT DEFINITIONS */
OBJECT = IMAGE
  INTERCHANGE_FORMAT = BINARY
  LINES = 16018
  LINE_SAMPLES = 1706
  SAMPLE_TYPE = UNSIGNED_INTEGER
  SAMPLE_BITS = 8
  BANDS = 1
  BAND_STORAGE_TYPE = BAND_SEQUENTIAL
  MAXIMUM = 255
  MEAN = 132.008
  MINIMUM = 1
  STANDARD_DEVIATION = 27.9782
END_OBJECT = IMAGE
/* MAP OBJECT DEFINITIONS */
OBJECT = IMAGE_MAP_PROJECTION
  ^DATA_SET_MAP_PROJECTION_CATALOG= "DSMAP.CAT"
  A_AXIS_RADIUS = 3396.0
  B_AXIS_RADIUS = 3396.0
  C_AXIS_RADIUS = 3396.0
  CENTER_LATITUDE = 0.0
  CENTER_LONGITUDE = 119.0
  COORDINATE_SYSTEM_NAME = PLANETOGRAPHIC
  COORDINATE_SYSTEM_TYPE = "BODY-FIXED ROTATING"
  EASTERNMOST_LONGITUDE = 119.78
  FIRST_STANDARD_PARALLEL = "N/A"
  LINE_FIRST_PIXEL = 1
  LINE_LAST_PIXEL = 16018
  LINE_PROJECTION_OFFSET = 34453.625
  MAP_PROJECTION_ROTATION = 0.0
  MAP_PROJECTION_TYPE = SINUSOIDAL
  MAP_RESOLUTION = 1185.42760773333
  MAP_SCALE = 0.05
  MAXIMUM_LATITUDE = 29.0541
  MINIMUM_LATITUDE = 15.5652
  POSITIVE_LONGITUDE_DIRECTION = EAST
  REFERENCE_LATITUDE = "N/A"
  REFERENCE_LONGITUDE = "N/A"
  SAMPLE_FIRST_PIXEL = 1
  SAMPLE_LAST_PIXEL = 1706
  SAMPLE_PROJECTION_OFFSET = 845.125
  SECOND_STANDARD_PARALLEL = "N/A"
  WESTERNMOST_LONGITUDE = 118.24
END_OBJECT = IMAGE_MAP_PROJECTION
END
