PDS_VERSION_ID = PDS3
/* FILE DATA ELEMENTS */
RECORD_TYPE = UNDEFINED
/* POINTERS TO DATA OBJECTS */
^IMAGE = ("H7356_0000_ND4.TIF")
/* IDENTIFICATION DATA ELEMENTS */
DATA_SET_ID = "MEX-M-HRSC-4-REFDR-MAPPROJECT-EXT3-V4.0"
DATA_SET_NAME = "MARS EXPRESS HRSC MAP PROJECTED REFDR EXTENSION3 V4.0"
DETECTOR_ID = MEX_HRSC_NADIR
EVENT_TYPE = "MARS-REGIONAL-MAPPING-Vo-Im"
INSTRUMENT_HOST_ID = MEX
INSTRUMENT_HOST_NAME = "MARS EXPRESS"
INSTRUMENT_ID = HRSC
INSTRUMENT_NAME = "HIGH RESOLUTION STEREO CAMERA"
MISSION_NAME = "MARS EXPRESS"
MISSION_PHASE_NAME = ME_Phase_18
PROCESSING_LEVEL_ID = 4
PRODUCT_CREATION_TIME = 2023-02-01T22:33:16.000Z
PRODUCT_ID = "H7356_0000_ND4.TIF"
RELEASE_ID = 0002
REVISION_ID = 0000
/* QUALITY DATA ELEMENTS */
DATA_QUALITY_ID = 1
DATA_QUALITY_DESC = "Data calculated based on original SPICE kernels"
/* TIME DATA ELEMENTS */
SPACECRAFT_CLOCK_START_COUNT = "1/0202111858.09075"
SPACECRAFT_CLOCK_STOP_COUNT = "1/0202112246.34227"
START_TIME = 2009-09-27T06:11:46.100Z
STOP_TIME = 2009-09-27T06:15:55.106Z
/* ORBITAL DATA ELEMENTS */
ASCENDING_NODE_LONGITUDE = 77.08
MAXIMUM_RESOLUTION = 0.0202
FOOTPRINT_POINT_LATITUDE = (4.85178,4.85583,4.86229,4.8693,4.87251 ,4.8727,4.87284,4.33646,3.79252,3.2444, 2.96744,2.55007,2.26877,1.98799,1.70286 ,1.27515,0.985813,0.551756,0.257686, -0.0357631,-0.328589,-0.620783, -0.912349,-1.20328,-1.49358,-1.78323, -2.07224,-2.36061,-2.64835,-2.93543, -3.22186,-3.50764,-3.79275,-4.07719, -4.36098,-4.64415,-4.92659,-5.20838, -5.48952,-5.76996,-6.04974,-6.32882, -6.60723,-6.88496,-7.43842,-7.98913, -8.53707,-9.08233,-9.21822,-9.2406, -9.25449,-9.26115,-9.26749,-9.27799, -9.28553,-9.28589,-9.28576,-8.74033, -8.19212,-7.64117,-7.08748,-6.80961, -6.53107,-6.25184,-5.97194,-5.69136, -5.41011,-5.1282,-4.84561,-4.56234, -4.27845,-3.99386,-3.70864,-3.42272, -3.13617,-2.84897,-2.56112,-2.27263, -1.98348,-1.6937,-1.40328,-1.11222, -0.82053,-0.528208,-0.235259,0.0583154, 0.352511,0.645145,0.934988,1.2252, 1.51061,1.79657,2.22071,2.50242,3.05945 ,3.74755,4.29269,4.69538,4.82983, 4.85178)
FOOTPRINT_POINT_LONGITUDE = (162.976,162.662,162.141,161.535, 161.241,161.223,161.209,161.192,161.174 ,161.155,161.146,161.131,161.121, 161.111,161.1,161.085,161.074,161.057, 161.046,161.034,161.023,161.011,160.999 ,160.987,160.975,160.962,160.95,160.938 ,160.925,160.913,160.9,160.887,160.874, 160.861,160.848,160.835,160.821,160.808 ,160.794,160.78,160.767,160.752,160.738 ,160.724,160.695,160.666,160.636, 160.607,160.6,160.599,161.278,161.63, 161.982,162.613,163.119,163.144,163.156 ,163.146,163.136,163.126,163.117, 163.113,163.108,163.104,163.099,163.096 ,163.091,163.087,163.083,163.08,163.075 ,163.072,163.068,163.065,163.061, 163.058,163.054,163.051,163.047,163.044 ,163.041,163.037,163.034,163.031, 163.028,163.025,163.022,163.019,163.016 ,163.014,163.011,163.008,163.005, 163.002,162.998,162.992,162.988,162.985 ,162.984,162.976)
ORBIT_NUMBER = 7356
ORBITAL_ECCENTRICITY = 0.572
ORBITAL_INCLINATION = 86.81
ORBITAL_SEMIMAJOR_AXIS = 8744.05
PERIAPSIS_ALTITUDE = 349.86
PERIAPSIS_ARGUMENT_ANGLE = 147.91
PERIAPSIS_TIME = 2009-09-27T06:04:35.000Z
SPACECRAFT_ORIENTATION = (0.0,-1.0,0.0)
^MEX_ORIENTATION_DESC = "MEX_ORIENTATION_DESC.TXT"
SPACECRAFT_POINTING_MODE = ACROSSTRACK
^MEX_POINTING_DESC = "MEX_POINTING_DESC.TXT"
RIGHT_ASCENSION = -1e+32
DECLINATION = -1e+32
OFFSET_ANGLE = 0.1
SPACECRAFT_SOLAR_DISTANCE = 2.27411e+08
TARGET_NAME = MARS
/* CAMERA DATA ELEMENTS */
DETECTOR_TEMPERATURE = 18.5744
FOCAL_PLANE_TEMPERATURE = 8.9911
INST_CMPRS_NAME = "DISCRETE COSINE TRANSFORMATION (DCT)"
INST_CMPRS_RATIO = 8.13911
INST_CMPRS_QUALITY = 0
INST_CMPRS_QUANTZ_TBL_ID = 0
INSTRUMENT_TEMPERATURE = 11.6418
LENS_TEMPERATURE = 9.3989
MACROPIXEL_SIZE = 1
MISSING_FRAMES = 0
PIXEL_SUBSAMPLING_FLAG = N
SIGNAL_CHAIN_ID = 0
/* RADIOMETRIC DATA ELEMENTS */
BANDWIDTH = 177.0
CENTER_FILTER_WAVELENGTH = 677.5
RADIANCE_OFFSET = 4.97198
RADIANCE_SCALING_FACTOR = 0.0198341
REFLECTANCE_SCALING_FACTOR = 0.00054491
MEX:REFLECTANCE_OFFSET = 0.136597
/* IMAGE OBJECT DEFINITIONS */
OBJECT = IMAGE
  INTERCHANGE_FORMAT = BINARY
  LINES = 33570
  LINE_SAMPLES = 5986
  SAMPLE_TYPE = UNSIGNED_INTEGER
  SAMPLE_BITS = 8
  BANDS = 1
  BAND_STORAGE_TYPE = BAND_SEQUENTIAL
  MAXIMUM = 255
  MEAN = 166.343
  MINIMUM = 1
  STANDARD_DEVIATION = 17.4666
END_OBJECT = IMAGE
/* MAP OBJECT DEFINITIONS */
OBJECT = IMAGE_MAP_PROJECTION
  ^DATA_SET_MAP_PROJECTION_CATALOG= "DSMAP.CAT"
  A_AXIS_RADIUS = 3396.0
  B_AXIS_RADIUS = 3396.0
  C_AXIS_RADIUS = 3396.0
  CENTER_LATITUDE = 0.0
  CENTER_LONGITUDE = 162.0
  COORDINATE_SYSTEM_NAME = PLANETOGRAPHIC
  COORDINATE_SYSTEM_TYPE = "BODY-FIXED ROTATING"
  EASTERNMOST_LONGITUDE = 163.156
  FIRST_STANDARD_PARALLEL = "N/A"
  LINE_FIRST_PIXEL = 1
  LINE_LAST_PIXEL = 33570
  LINE_PROJECTION_OFFSET = 11553.0
  MAP_PROJECTION_ROTATION = 0.0
  MAP_PROJECTION_TYPE = SINUSOIDAL
  MAP_RESOLUTION = 2370.85521546667
  MAP_SCALE = 0.025
  MAXIMUM_LATITUDE = 4.87284
  MINIMUM_LATITUDE = -9.28589
  POSITIVE_LONGITUDE_DIRECTION = EAST
  REFERENCE_LATITUDE = "N/A"
  REFERENCE_LONGITUDE = "N/A"
  SAMPLE_FIRST_PIXEL = 1
  SAMPLE_LAST_PIXEL = 5986
  SAMPLE_PROJECTION_OFFSET = 3279.0
  SECOND_STANDARD_PARALLEL = "N/A"
  WESTERNMOST_LONGITUDE = 160.599
END_OBJECT = IMAGE_MAP_PROJECTION
END
